BEGIN:VCALENDAR
VERSION:2.0
PRODID:-//Hardloopevenementen - ECPv6.15.14//NONSGML v1.0//EN
CALSCALE:GREGORIAN
METHOD:PUBLISH
X-ORIGINAL-URL:https://hardloopevenementen.com
X-WR-CALDESC:Evenementen voor Hardloopevenementen
REFRESH-INTERVAL;VALUE=DURATION:PT1H
X-Robots-Tag:noindex
X-PUBLISHED-TTL:PT1H
BEGIN:VTIMEZONE
TZID:UTC
BEGIN:STANDARD
TZOFFSETFROM:+0000
TZOFFSETTO:+0000
TZNAME:UTC
DTSTART:20130101T000000
END:STANDARD
END:VTIMEZONE
BEGIN:VEVENT
DTSTART;VALUE=DATE:20180827
DTEND;VALUE=DATE:20180828
DTSTAMP:20260423T054305
CREATED:20180507T192942Z
LAST-MODIFIED:20190423T120315Z
UID:16117-1535328000-1535328000@hardloopevenementen.com
SUMMARY:Lichtstadloop Gramsbergen Gramsbergen\, gemeente Hardenberg (OV)
DESCRIPTION:Doe mee met het hardloopevenement Lichtstadloop Gramsbergen te Gramsbergen\, gemeente Hardenberg (OV) op ma 27 aug 2018. De volgende afstanden staan op het programma: 0\,4 km – 1 km – 3 km – 5 km – 10 km hardlopen. Wilt u inschrijven voor dit loopevenement?  Raadpleeg hiervoor dan de website van de organisatie\nDe uitslagen van deze hardloopwedstrijd zijn te raadplegen via dezelfde website of via de bekende websites zoals uitslagen.nl\, runtimer en mylaps. Doet u mee met dit evenement\, zorg dan dat u goed voorbereid aan de start staat! Met een goed trainingsschema komt u een heel eind. Train bijvoorbeeld met start to run van Evy Gruyaert. Download de start to run mp3 bestanden en zet ze op uw telefoon. Oortjes in\, hit the play button en en rennen maar! \n\n\n\n\nMeer informatie over Lichtstadloop Gramsbergen op Hardloopkalender.nl  \nGramsbergen Lichtstadloop\,    De mooiste avondloop in de omgeving. U loopt een verlichte parcours door het versierde centrum van Gramsbergen.     	1 kilometer jeugd + G-loop 	       ( 1 kleine ronde)  	3 kilometer 				               ( 3 kleine ronden)  	5 kilometer				               ( 2 grote ronden)  	10 kilometer  			               ( 4 grote ronden)  	10 kilometer estafette (4  pers.) ( 4 grote ronden) \n  \n  \n 
URL:https://hardloopevenementen.com/loopagenda/lichtstadloop-gramsbergen-gramsbergen-gemeente-hardenberg-ov/
END:VEVENT
BEGIN:VEVENT
DTSTART;VALUE=DATE:20140901
DTEND;VALUE=DATE:20140902
DTSTAMP:20260423T054305
CREATED:20101217T154657Z
LAST-MODIFIED:20190423T105208Z
UID:33382-1409529600-1409529600@hardloopevenementen.com
SUMMARY:Lichtstadloop Gramsbergen\, gemeente Hardenberg (OV)
DESCRIPTION:Doe mee met het hardloopevenement Lichtstadloop te Gramsbergen\, gemeente Hardenberg (OV) op ma 01 sep 2014. De volgende afstanden staan op het programma: 1 km – 2 km – 5\,5 km – 10 km hardlopen. Wilt u inschrijven voor dit loopevenement?  Raadpleeg hiervoor dan de website van de organisatie\nDe uitslagen van deze hardloopwedstrijd zijn te raadplegen via dezelfde website of via de bekende websites zoals uitslagen.nl\, runtimer en mylaps. Doet u mee met dit evenement\, zorg dan dat u goed voorbereid aan de start staat! Met een goed trainingsschema komt u een heel eind. Train bijvoorbeeld met start to run van Evy Gruyaert. Download de start to run mp3 bestanden en zet ze op uw telefoon. Oortjes in\, hit the play button en en rennen maar! \n\n\n\n\nMeer informatie over Lichtstadloop op Hardloopkalender.nl  \n  \n  \n 
URL:https://hardloopevenementen.com/loopagenda/lichtstadloop-gramsbergen-gemeente-hardenberg-ov/
END:VEVENT
END:VCALENDAR