BEGIN:VCALENDAR
VERSION:2.0
PRODID:-//Hardloopevenementen - ECPv6.15.14//NONSGML v1.0//EN
CALSCALE:GREGORIAN
METHOD:PUBLISH
X-WR-CALNAME:Hardloopevenementen
X-ORIGINAL-URL:https://hardloopevenementen.com
X-WR-CALDESC:Evenementen voor Hardloopevenementen
REFRESH-INTERVAL;VALUE=DURATION:PT1H
X-Robots-Tag:noindex
X-PUBLISHED-TTL:PT1H
BEGIN:VTIMEZONE
TZID:UTC
BEGIN:STANDARD
TZOFFSETFROM:+0000
TZOFFSETTO:+0000
TZNAME:UTC
DTSTART:20080101T000000
END:STANDARD
END:VTIMEZONE
BEGIN:VEVENT
DTSTART;VALUE=DATE:20090621
DTEND;VALUE=DATE:20090622
DTSTAMP:20260421T210044
CREATED:20080524T203506Z
LAST-MODIFIED:20190423T100033Z
UID:2127-1245542400-1245542400@hardloopevenementen.com
SUMMARY:Halve Marathon Lingewaard Bemmel\, gemeente Lingewaard (GE)
DESCRIPTION:Doe mee met het hardloopevenement Halve Marathon Lingewaard te Bemmel\, gemeente Lingewaard (GE) op zo 21 jun 2009. De volgende afstanden staan op het programma: halve marathon hardlopen. Wilt u inschrijven voor dit loopevenement?  Raadpleeg hiervoor dan de website van de organisatie\nDe uitslagen van deze hardloopwedstrijd zijn te raadplegen via dezelfde website of via de bekende websites zoals uitslagen.nl\, runtimer en mylaps. Doet u mee met dit evenement\, zorg dan dat u goed voorbereid aan de start staat! Met een goed trainingsschema komt u een heel eind. Train bijvoorbeeld met start to run van Evy Gruyaert. Download de start to run mp3 bestanden en zet ze op uw telefoon. Oortjes in\, hit the play button en en rennen maar! \n\n\n\n\nMeer informatie over Halve Marathon Lingewaard op Hardloopkalender.nl  \n21\,1 km 13:00 uur \n  \n  \n 
URL:https://hardloopevenementen.com/loopagenda/halve-marathon-lingewaard-bemmel-gemeente-lingewaard-ge/
END:VEVENT
END:VCALENDAR