BEGIN:VCALENDAR
VERSION:2.0
PRODID:-//Hardloopevenementen - ECPv6.15.14//NONSGML v1.0//EN
CALSCALE:GREGORIAN
METHOD:PUBLISH
X-WR-CALNAME:Hardloopevenementen
X-ORIGINAL-URL:https://hardloopevenementen.com
X-WR-CALDESC:Evenementen voor Hardloopevenementen
REFRESH-INTERVAL;VALUE=DURATION:PT1H
X-Robots-Tag:noindex
X-PUBLISHED-TTL:PT1H
BEGIN:VTIMEZONE
TZID:UTC
BEGIN:STANDARD
TZOFFSETFROM:+0000
TZOFFSETTO:+0000
TZNAME:UTC
DTSTART:20100101T000000
END:STANDARD
END:VTIMEZONE
BEGIN:VEVENT
DTSTART;VALUE=DATE:20140330
DTEND;VALUE=DATE:20140331
DTSTAMP:20260426T032905
CREATED:20150321T145445Z
LAST-MODIFIED:20190423T105648Z
UID:34424-1396137600-1396137600@hardloopevenementen.com
SUMMARY:Ronde van Littenseradiel 2014 Sneek (FR)
DESCRIPTION:Doe mee met het hardloopevenement Ronde van Littenseradiel 2014 te Sneek (FR) op zo 30 mrt 2014. De volgende afstanden staan op het programma: 10 km – halve marathon hardlopen. Wilt u inschrijven voor dit loopevenement?  Raadpleeg hiervoor dan de website van de organisatie\nDe uitslagen van deze hardloopwedstrijd zijn te raadplegen via dezelfde website of via de bekende websites zoals uitslagen.nl\, runtimer en mylaps. Doet u mee met dit evenement\, zorg dan dat u goed voorbereid aan de start staat! Met een goed trainingsschema komt u een heel eind. Train bijvoorbeeld met start to run van Evy Gruyaert. Download de start to run mp3 bestanden en zet ze op uw telefoon. Oortjes in\, hit the play button en en rennen maar! \n\n\n\n\nMeer informatie over Ronde van Littenseradiel 2014 op Hardloopkalender.nl  \nHet loopevenement Ronde van Littenseradiel 2014 te Sneek vindt plaats op zondag 30 maart 2014. De loop wordt georganisseerd door AV Horror. Klik hier voor het adres van de start (Google Maps).Bijzonderheden: Route grotendeels autoluw\, sfeervolle binnenpaden door landerijen van Friesland. \n  \n  \n 
URL:https://hardloopevenementen.com/loopagenda/ronde-van-littenseradiel-2014-sneek-fr/
END:VEVENT
BEGIN:VEVENT
DTSTART;VALUE=DATE:20130324
DTEND;VALUE=DATE:20130325
DTSTAMP:20260426T032906
CREATED:20151015T085203Z
LAST-MODIFIED:20190423T104408Z
UID:32041-1364083200-1364083200@hardloopevenementen.com
SUMMARY:Ronde van Littenseradiel 2013 Sneek (FR)
DESCRIPTION:Doe mee met het hardloopevenement Ronde van Littenseradiel 2013 te Sneek (FR) op zo 24 mrt 2013. De volgende afstanden staan op het programma: 5 km – 10 km – halve marathon hardlopen. Wilt u inschrijven voor dit loopevenement?  Raadpleeg hiervoor dan de website van de organisatie\nDe uitslagen van deze hardloopwedstrijd zijn te raadplegen via dezelfde website of via de bekende websites zoals uitslagen.nl\, runtimer en mylaps. Doet u mee met dit evenement\, zorg dan dat u goed voorbereid aan de start staat! Met een goed trainingsschema komt u een heel eind. Train bijvoorbeeld met start to run van Evy Gruyaert. Download de start to run mp3 bestanden en zet ze op uw telefoon. Oortjes in\, hit the play button en en rennen maar! \n\n\n\n\nMeer informatie over Ronde van Littenseradiel 2013 op Hardloopkalender.nl  \nHet loopevenement Ronde van Littenseradiel 2013 te Sneek vindt plaats op zondag 31 maart 2013. De loop wordt georganisseerd door AV Horror. Inschrijven is mogelijk vanaf 31 maart 2013. Klik hier voor het adres van de start (Google Maps).Er is verkleedaccomodatie met douchemogelijkheid aanwezig. Er is EHBO aanwezig. Bijzonderheden: Route grotendeels autoluw\, sfeervolle binnenpaden door landerijen van Friesland.Voor meer informatie:Rein Reinsmavoorzitter@avhorror.nl0515418630http:  www.avhorror.nl \n  \n  \n 
URL:https://hardloopevenementen.com/loopagenda/ronde-van-littenseradiel-2013-sneek-fr/
END:VEVENT
BEGIN:VEVENT
DTSTART;VALUE=DATE:20120325
DTEND;VALUE=DATE:20120326
DTSTAMP:20260426T032906
CREATED:20160225T205212Z
LAST-MODIFIED:20190423T103331Z
UID:28632-1332633600-1332633600@hardloopevenementen.com
SUMMARY:Ronde van Littenseradiel Sneek (FR)
DESCRIPTION:Doe mee met het hardloopevenement Ronde van Littenseradiel te Sneek (FR) op zo 25 mrt 2012. De volgende afstanden staan op het programma: 10 km – halve marathon hardlopen. Wilt u inschrijven voor dit loopevenement?  Raadpleeg hiervoor dan de website van de organisatie\nDe uitslagen van deze hardloopwedstrijd zijn te raadplegen via dezelfde website of via de bekende websites zoals uitslagen.nl\, runtimer en mylaps. Doet u mee met dit evenement\, zorg dan dat u goed voorbereid aan de start staat! Met een goed trainingsschema komt u een heel eind. Train bijvoorbeeld met start to run van Evy Gruyaert. Download de start to run mp3 bestanden en zet ze op uw telefoon. Oortjes in\, hit the play button en en rennen maar! \n\n\n\n\nMeer informatie over Ronde van Littenseradiel op Hardloopkalender.nl  \nHet loopevenement Ronde van Littenseradiel te Sneek vindt plaats op zondag 25 maart 2012. De loop wordt georganiseerd door AV Horror. Inschrijven is mogelijk vanaf 01 januari 2012. Klik hier voor het adres van de start (Google Maps).Er is EHBO aanwezig. Bijzonderheden: Route grotendeels autoluw via sfeervolle binnenpaden door de landerijen van Frie.Afstand SoortloopInschrijfgeldStarttijdInfo21.1 km0\,0013.00u10 km0\,0013.00uVoor meer informatie:Siebe Piersmainfo@avhorror.nl0515417650http:  www.avhorror.nl \n  \n  \n 
URL:https://hardloopevenementen.com/loopagenda/ronde-van-littenseradiel-sneek-fr/
END:VEVENT
BEGIN:VEVENT
DTSTART;VALUE=DATE:20110327
DTEND;VALUE=DATE:20110328
DTSTAMP:20260426T032906
CREATED:20160413T121148Z
LAST-MODIFIED:20190423T102249Z
UID:26634-1301184000-1301184000@hardloopevenementen.com
SUMMARY:Rondje Littenseradiel Sneek (FR)
DESCRIPTION:Doe mee met het hardloopevenement Rondje Littenseradiel te Sneek (FR) op zo 27 mrt 2011. De volgende afstanden staan op het programma: 10 km – halve marathon hardlopen. Wilt u inschrijven voor dit loopevenement?  Raadpleeg hiervoor dan de website van de organisatie\nDe uitslagen van deze hardloopwedstrijd zijn te raadplegen via dezelfde website of via de bekende websites zoals uitslagen.nl\, runtimer en mylaps. Doet u mee met dit evenement\, zorg dan dat u goed voorbereid aan de start staat! Met een goed trainingsschema komt u een heel eind. Train bijvoorbeeld met start to run van Evy Gruyaert. Download de start to run mp3 bestanden en zet ze op uw telefoon. Oortjes in\, hit the play button en en rennen maar! \n\n\n\n\nMeer informatie over Rondje Littenseradiel op Hardloopkalender.nl  \nHet loopevenement Rondje Littenseradiel te Sneek vindt plaats op zondag 27 maart 2011. De loop wordt georganiseerd door AV Horror. Inschrijven is mogelijk vanaf 27 maart 2011. Klik hier voor het adres van de start (Google Maps).Er is verkleedaccomodatie met douchemogelijkheid aanwezig. Er is EHBO aanwezig. Afstand(km)Inschrijfgeld(€)Starttijd21\,1-10€0\,0013.00Voor meer informatie:Siebe Piersmainfo@avhorror.nl0515417650http:  www.avhorror.nl \n  \n  \n 
URL:https://hardloopevenementen.com/loopagenda/rondje-littenseradiel-sneek-fr/
END:VEVENT
END:VCALENDAR