BEGIN:VCALENDAR
VERSION:2.0
PRODID:-//Hardloopevenementen - ECPv6.15.14//NONSGML v1.0//EN
CALSCALE:GREGORIAN
METHOD:PUBLISH
X-ORIGINAL-URL:https://hardloopevenementen.com
X-WR-CALDESC:Evenementen voor Hardloopevenementen
REFRESH-INTERVAL;VALUE=DURATION:PT1H
X-Robots-Tag:noindex
X-PUBLISHED-TTL:PT1H
BEGIN:VTIMEZONE
TZID:UTC
BEGIN:STANDARD
TZOFFSETFROM:+0000
TZOFFSETTO:+0000
TZNAME:UTC
DTSTART:20180101T000000
END:STANDARD
END:VTIMEZONE
BEGIN:VEVENT
DTSTART;VALUE=DATE:20200516
DTEND;VALUE=DATE:20200517
DTSTAMP:20260425T132307
CREATED:20100816T100240Z
LAST-MODIFIED:20200206T111358Z
UID:144994-1589587200-1589587200@hardloopevenementen.com
SUMMARY:Craft Beer Run - Run Local Amsterdam Amsterdam (NH)
DESCRIPTION:Doe mee met het hardloopevenement Craft Beer Run – Run Local Amsterdam te Amsterdam (NH) op za 16 mei 2020. De volgende afstanden staan op het programma: 12\,5 km hardlopen. Wilt u inschrijven voor dit loopevenement?  Raadpleeg hiervoor dan de website van de organisatie\nDe uitslagen van deze hardloopwedstrijd zijn te raadplegen via dezelfde website of via de bekende websites zoals uitslagen.nl\, runtimer en mylaps. Doet u mee met dit evenement\, zorg dan dat u goed voorbereid aan de start staat! Met een goed trainingsschema komt u een heel eind. Train bijvoorbeeld met start to run van Evy Gruyaert. Download de start to run mp3 bestanden en zet ze op uw telefoon. Oortjes in\, hit the play button en en rennen maar! \n\n\n\n\nMeer informatie over Craft Beer Run – Run Local Amsterdam op Hardloopkalender.nl  \nDurf jij het aan?    Na twee fantastische Craft Beer Runs afgelopen jaar is het tijd om het nog eens dunnetjes over te doen! 16 mei is het tijd voor de volgende editie. Benieuwd naar vorige edities? bekijk de aftermovie op www.runlocalamsterdam.nl    Wat is de Craft Beer Run?  Maximaal 100 deelnemers  12.5 km hardlopen in kleine groepjes  4 bekendere en onbekendere brouwerijen  10 proefglaasjes  1 toffe medaille….als je de finish haalt;)    De maximale afstand tussen twee brouwerijen is 5 km en bij iedere brouwerij heb je tijd om even op adem te komen. Qua fitheid moet je ongeveer 7 a 8 km achter elkaar kunnen lopen om de Craft Beer Run te kunnen voltooien. \n  \n  \n 
URL:https://hardloopevenementen.com/loopagenda/craft-beer-run-run-local-amsterdam-amsterdam-nh-3/
END:VEVENT
BEGIN:VEVENT
DTSTART;VALUE=DATE:20190824
DTEND;VALUE=DATE:20190825
DTSTAMP:20260425T132307
CREATED:20090710T223935Z
LAST-MODIFIED:20191114T112513Z
UID:141683-1566604800-1566604800@hardloopevenementen.com
SUMMARY:Craft Beer Run - Run Local Amsterdam Amsterdam (NH)
DESCRIPTION:Doe mee met het hardloopevenement Craft Beer Run – Run Local Amsterdam te Amsterdam (NH) op za 24 aug 2019. De volgende afstanden staan op het programma: 10 Engelse mijl hardlopen. Wilt u inschrijven voor dit loopevenement?  Raadpleeg hiervoor dan de website van de organisatie\nDe uitslagen van deze hardloopwedstrijd zijn te raadplegen via dezelfde website of via de bekende websites zoals uitslagen.nl\, runtimer en mylaps. Doet u mee met dit evenement\, zorg dan dat u goed voorbereid aan de start staat! Met een goed trainingsschema komt u een heel eind. Train bijvoorbeeld met start to run van Evy Gruyaert. Download de start to run mp3 bestanden en zet ze op uw telefoon. Oortjes in\, hit the play button en en rennen maar! \n\n\n\n\nMeer informatie over Craft Beer Run – Run Local Amsterdam op Hardloopkalender.nl  \nDurf jij het aan?    Na een fantastische Craft Beer Run 11 mei is het tijd om het nog eens dunnetjes over te doen! 24 Augustus is het tijd voor de volgende editie. Benieuwd naar vorige editie? bekijk de aftermovie op www.runlocalamsterdam.nl    Wat is de Craft Beer Run?  16 km hardlopen in kleine groepjes  5 bekendere en onbekendere brouwerijen  10 proefglaasjes  1 toffe medaille….als je de finish haalt;)    De maximale afstand tussen twee brouwerijen is 5 km en bij iedere brouwerij heb je tijd om even op adem te komen. Qua fitheid moet je ongeveer 10 a 12 km achter elkaar kunnen lopen om de Craft Beer Run te kunnen voltooien.    Volg dit evenement of Pre-register op www.runlocalamsterdam.nl zodat je weet welke brouwerijen mee doen en wanneer de inschrijving open gaat! \n  \n  \n 
URL:https://hardloopevenementen.com/loopagenda/craft-beer-run-run-local-amsterdam-amsterdam-nh-2/
END:VEVENT
BEGIN:VEVENT
DTSTART;VALUE=DATE:20190511
DTEND;VALUE=DATE:20190512
DTSTAMP:20260425T132307
CREATED:20090809T025835Z
LAST-MODIFIED:20191114T112643Z
UID:43752-1557532800-1557532800@hardloopevenementen.com
SUMMARY:Craft Beer Run - Run Local Amsterdam Amsterdam (NH)
DESCRIPTION:Doe mee met het hardloopevenement Craft Beer Run – Run Local Amsterdam te Amsterdam (NH) op za 11 mei 2019. De volgende afstanden staan op het programma: 18 km hardlopen. Wilt u inschrijven voor dit loopevenement?  Raadpleeg hiervoor dan de website van de organisatie\nDe uitslagen van deze hardloopwedstrijd zijn te raadplegen via dezelfde website of via de bekende websites zoals uitslagen.nl\, runtimer en mylaps. Doet u mee met dit evenement\, zorg dan dat u goed voorbereid aan de start staat! Met een goed trainingsschema komt u een heel eind. Train bijvoorbeeld met start to run van Evy Gruyaert. Download de start to run mp3 bestanden en zet ze op uw telefoon. Oortjes in\, hit the play button en en rennen maar! \n\n\n\n\nMeer informatie over Craft Beer Run – Run Local Amsterdam op Hardloopkalender.nl  \nEen hardloopevenement waarbij je in kleine groepjes met vergelijkbaar tempo van brouwerij naar brouwerij rent om daar biertjes te proeven. \n  \n  \n 
URL:https://hardloopevenementen.com/loopagenda/craft-beer-run-run-local-amsterdam-amsterdam-nh/
END:VEVENT
END:VCALENDAR