BEGIN:VCALENDAR
VERSION:2.0
PRODID:-//Hardloopevenementen - ECPv6.15.14//NONSGML v1.0//EN
CALSCALE:GREGORIAN
METHOD:PUBLISH
X-WR-CALNAME:Hardloopevenementen
X-ORIGINAL-URL:https://hardloopevenementen.com
X-WR-CALDESC:Evenementen voor Hardloopevenementen
REFRESH-INTERVAL;VALUE=DURATION:PT1H
X-Robots-Tag:noindex
X-PUBLISHED-TTL:PT1H
BEGIN:VTIMEZONE
TZID:UTC
BEGIN:STANDARD
TZOFFSETFROM:+0000
TZOFFSETTO:+0000
TZNAME:UTC
DTSTART:20080101T000000
END:STANDARD
END:VTIMEZONE
BEGIN:VEVENT
DTSTART;VALUE=DATE:20091122
DTEND;VALUE=DATE:20091123
DTSTAMP:20260421T233043
CREATED:20090428T215755Z
LAST-MODIFIED:20190423T095705Z
UID:1422-1258848000-1258848000@hardloopevenementen.com
SUMMARY:Internationale Loketnl Warandeloop Tilburg Tilburg (NB)
DESCRIPTION:Doe mee met het hardloopevenement Internationale Loketnl Warandeloop Tilburg te Tilburg (NB) op zo 22 nov 2009. De volgende afstanden staan op het programma: 2 km – 5 km – 10 km hardlopen. Wilt u inschrijven voor dit loopevenement?  Raadpleeg hiervoor dan de website van de organisatie\nDe uitslagen van deze hardloopwedstrijd zijn te raadplegen via dezelfde website of via de bekende websites zoals uitslagen.nl\, runtimer en mylaps. Doet u mee met dit evenement\, zorg dan dat u goed voorbereid aan de start staat! Met een goed trainingsschema komt u een heel eind. Train bijvoorbeeld met start to run van Evy Gruyaert. Download de start to run mp3 bestanden en zet ze op uw telefoon. Oortjes in\, hit the play button en en rennen maar! \n\n\n\n\nMeer informatie over Internationale Loketnl Warandeloop Tilburg op Hardloopkalender.nl  \n2 km 10:29 uur\, 5 km 14:50 uur\, 10 km 15:00 uur  Internationale loket.nl Warandeloop Tilburg \n  \n  \n 
URL:https://hardloopevenementen.com/loopagenda/internationale-loketnl-warandeloop-tilburg-tilburg-nb/
END:VEVENT
BEGIN:VEVENT
DTSTART;VALUE=DATE:20091121
DTEND;VALUE=DATE:20091122
DTSTAMP:20260421T233043
CREATED:20131216T054019Z
LAST-MODIFIED:20190423T095707Z
UID:1433-1258761600-1258761600@hardloopevenementen.com
SUMMARY:Internationale Loketnl Warandeloop Tilburg Tilburg (NB)
DESCRIPTION:Doe mee met het hardloopevenement Internationale Loketnl Warandeloop Tilburg te Tilburg (NB) op za 21 nov 2009. De volgende afstanden staan op het programma: 1 km – 5 km – 10 km – 15 km hardlopen. Wilt u inschrijven voor dit loopevenement?  Raadpleeg hiervoor dan de website van de organisatie\nDe uitslagen van deze hardloopwedstrijd zijn te raadplegen via dezelfde website of via de bekende websites zoals uitslagen.nl\, runtimer en mylaps. Doet u mee met dit evenement\, zorg dan dat u goed voorbereid aan de start staat! Met een goed trainingsschema komt u een heel eind. Train bijvoorbeeld met start to run van Evy Gruyaert. Download de start to run mp3 bestanden en zet ze op uw telefoon. Oortjes in\, hit the play button en en rennen maar! \n\n\n\n\nMeer informatie over Internationale Loketnl Warandeloop Tilburg op Hardloopkalender.nl  \n10-15 km 10:00 uur\, 1 km 11:00 uur\, 5-10 km 11:40 uur\, estafette 13:00 uur\, estafette 15:35 uur \n  \n  \n 
URL:https://hardloopevenementen.com/loopagenda/internationale-loketnl-warandeloop-tilburg-tilburg-nb-2/
END:VEVENT
END:VCALENDAR