BEGIN:VCALENDAR
VERSION:2.0
PRODID:-//Hardloopevenementen - ECPv6.15.14//NONSGML v1.0//EN
CALSCALE:GREGORIAN
METHOD:PUBLISH
X-WR-CALNAME:Hardloopevenementen
X-ORIGINAL-URL:https://hardloopevenementen.com
X-WR-CALDESC:Evenementen voor Hardloopevenementen
REFRESH-INTERVAL;VALUE=DURATION:PT1H
X-Robots-Tag:noindex
X-PUBLISHED-TTL:PT1H
BEGIN:VTIMEZONE
TZID:UTC
BEGIN:STANDARD
TZOFFSETFROM:+0000
TZOFFSETTO:+0000
TZNAME:UTC
DTSTART:20150101T000000
END:STANDARD
END:VTIMEZONE
BEGIN:VEVENT
DTSTART;VALUE=DATE:20200213
DTEND;VALUE=DATE:20200214
DTSTAMP:20260424T044417
CREATED:20130310T191513Z
LAST-MODIFIED:20200206T111522Z
UID:145344-1581552000-1581552000@hardloopevenementen.com
SUMMARY:Love Run Amersfoort Amersfoort (UT)
DESCRIPTION:Doe mee met het hardloopevenement Love Run Amersfoort te Amersfoort (UT) op do 13 feb 2020. De volgende afstanden staan op het programma: 5 km hardlopen. Wilt u inschrijven voor dit loopevenement?  Raadpleeg hiervoor dan de website van de organisatie\nDe uitslagen van deze hardloopwedstrijd zijn te raadplegen via dezelfde website of via de bekende websites zoals uitslagen.nl\, runtimer en mylaps. Doet u mee met dit evenement\, zorg dan dat u goed voorbereid aan de start staat! Met een goed trainingsschema komt u een heel eind. Train bijvoorbeeld met start to run van Evy Gruyaert. Download de start to run mp3 bestanden en zet ze op uw telefoon. Oortjes in\, hit the play button en en rennen maar! \n\n\n\n\nMeer informatie over Love Run Amersfoort op Hardloopkalender.nl  \nLoop samen met jouw valentijn de 5 km Love Run Amersfoort. We koppelen je aan jouw runningpartner met een love connector. Single? Schrijf je ook in en als je het leuk vindt koppelen we jou aan een blind date! Dit is natuurlijk niet verplicht.    Het is een 5 km fun run zonder tijdregistratie. Je loopt over de vestingmuren en door het oude centrum van Amersfoort. Start en finish is op winkelcentrum Sint Jorisplein. Bij de finish word je warm onthaald!    Ontmoet leuke mensen of verras jouw valentijn met een sportieve date.    Je inschrijving is inclusief een startnummer\, medaille\, water en entertainment. \n  \n  \n 
URL:https://hardloopevenementen.com/loopagenda/love-run-amersfoort-amersfoort-ut/
END:VEVENT
BEGIN:VEVENT
DTSTART;VALUE=DATE:20160214
DTEND;VALUE=DATE:20160215
DTSTAMP:20260424T044417
CREATED:20070824T141443Z
LAST-MODIFIED:20190423T112712Z
UID:13270-1455408000-1455408000@hardloopevenementen.com
SUMMARY:I Love to Run Hoofddorp\, gemeente Haarlemmermeer (NH)
DESCRIPTION:Doe mee met het hardloopevenement I Love to Run te Hoofddorp\, gemeente Haarlemmermeer (NH) op zo 14 feb 2016. De volgende afstanden staan op het programma: 5 km – 10 km hardlopen. Wilt u inschrijven voor dit loopevenement?  Raadpleeg hiervoor dan de website van de organisatie\nDe uitslagen van deze hardloopwedstrijd zijn te raadplegen via dezelfde website of via de bekende websites zoals uitslagen.nl\, runtimer en mylaps. Doet u mee met dit evenement\, zorg dan dat u goed voorbereid aan de start staat! Met een goed trainingsschema komt u een heel eind. Train bijvoorbeeld met start to run van Evy Gruyaert. Download de start to run mp3 bestanden en zet ze op uw telefoon. Oortjes in\, hit the play button en en rennen maar! \n\n\n\n\nMeer informatie over I Love to Run op Hardloopkalender.nl  \nOp valentijnsdag\, 14 februari zal de eerste I Love to Run plaatsvinden. Het parcours van 5 en 10 km – rond de Toolenburger plas – met een tijdslimiet van twee uur is uitermate geschikt voor hardlopers en wandelaars. Iedereen van jong tot oud\, man of vrouw kan zich aanmelden. Singles krijgen van ons zelfs een speciaal herkenbaar armbandje\, alles in het teken van Valentijnsdag! Er wordt zonder startnummers gelopen\, puur voor de gezelligheid. Ook deelnemers in rolstoelen zijn van harte welkom.   Voor de eerste 100 deelnemers bedraagt het inschrijfgeld 20\,- per deelnemer (inclusief runningshirt\, medaille en flesje water). Daarna bedraagt het inschrijfgeld  25\,00 per deelnemer.    De kinderafdeling van het Spaarne Gasthuis is als goed doel verbonden aan dit evenement.    De Run start en eindigt bij voetbalvereniging UNO aan de Bennebroekerweg 600 in Hoofddorp.    Inschrijven via de website  www.ilovetorun.nu \n  \n  \n 
URL:https://hardloopevenementen.com/loopagenda/i-love-to-run-hoofddorp-gemeente-haarlemmermeer-nh/
END:VEVENT
END:VCALENDAR