BEGIN:VCALENDAR
VERSION:2.0
PRODID:-//Hardloopevenementen - ECPv6.15.14//NONSGML v1.0//EN
CALSCALE:GREGORIAN
METHOD:PUBLISH
X-WR-CALNAME:Hardloopevenementen
X-ORIGINAL-URL:https://hardloopevenementen.com
X-WR-CALDESC:Evenementen voor Hardloopevenementen
REFRESH-INTERVAL;VALUE=DURATION:PT1H
X-Robots-Tag:noindex
X-PUBLISHED-TTL:PT1H
BEGIN:VTIMEZONE
TZID:UTC
BEGIN:STANDARD
TZOFFSETFROM:+0000
TZOFFSETTO:+0000
TZNAME:UTC
DTSTART:20060101T000000
END:STANDARD
END:VTIMEZONE
BEGIN:VEVENT
DTSTART;VALUE=DATE:20140607
DTEND;VALUE=DATE:20140608
DTSTAMP:20260422T122309
CREATED:20100704T094527Z
LAST-MODIFIED:20190423T105435Z
UID:33920-1402099200-1402099200@hardloopevenementen.com
SUMMARY:Luilakloop 2014 Den Helder (NH)
DESCRIPTION:Doe mee met het hardloopevenement Luilakloop 2014 te Den Helder (NH) op za 07 jun 2014. De volgende afstanden staan op het programma: 5 km hardlopen. Wilt u inschrijven voor dit loopevenement?  Raadpleeg hiervoor dan de website van de organisatie\nDe uitslagen van deze hardloopwedstrijd zijn te raadplegen via dezelfde website of via de bekende websites zoals uitslagen.nl\, runtimer en mylaps. Doet u mee met dit evenement\, zorg dan dat u goed voorbereid aan de start staat! Met een goed trainingsschema komt u een heel eind. Train bijvoorbeeld met start to run van Evy Gruyaert. Download de start to run mp3 bestanden en zet ze op uw telefoon. Oortjes in\, hit the play button en en rennen maar! \n\n\n\n\nMeer informatie over Luilakloop 2014 op Hardloopkalender.nl  \nHet loopevenement Luilakloop 2014 te Den Helder vindt plaats op zaterdag 07 juni 2014. De loop wordt georganisseerd door LIJFSTIJL Events. Klik hier voor het adres van de start (Google Maps).Bijzonderheden: Luilak ofwel de viering op de zaterdag voor Pinksteren (7 juni 2014) => Wake Up!. \n  \n  \n 
URL:https://hardloopevenementen.com/loopagenda/luilakloop-2014-den-helder-nh/
END:VEVENT
BEGIN:VEVENT
DTSTART;VALUE=DATE:20090530
DTEND;VALUE=DATE:20090531
DTSTAMP:20260422T122309
CREATED:20110315T205423Z
LAST-MODIFIED:20190423T100106Z
UID:2253-1243641600-1243641600@hardloopevenementen.com
SUMMARY:Luilakloop Den Helder (NH)
DESCRIPTION:Doe mee met het hardloopevenement Luilakloop te Den Helder (NH) op za 30 mei 2009. De volgende afstanden staan op het programma: 9 km – 12 km – 15 km – 18 km hardlopen. Wilt u inschrijven voor dit loopevenement?  Raadpleeg hiervoor dan de website van de organisatie\nDe uitslagen van deze hardloopwedstrijd zijn te raadplegen via dezelfde website of via de bekende websites zoals uitslagen.nl\, runtimer en mylaps. Doet u mee met dit evenement\, zorg dan dat u goed voorbereid aan de start staat! Met een goed trainingsschema komt u een heel eind. Train bijvoorbeeld met start to run van Evy Gruyaert. Download de start to run mp3 bestanden en zet ze op uw telefoon. Oortjes in\, hit the play button en en rennen maar! \n\n\n\n\nMeer informatie over Luilakloop op Hardloopkalender.nl  \n9-12-15-18 km 6:00 uur \n  \n  \n 
URL:https://hardloopevenementen.com/loopagenda/luilakloop-den-helder-nh/
END:VEVENT
BEGIN:VEVENT
DTSTART;VALUE=DATE:20070526
DTEND;VALUE=DATE:20070527
DTSTAMP:20260422T122309
CREATED:20150714T231312Z
LAST-MODIFIED:20190423T093954Z
UID:520-1180137600-1180137600@hardloopevenementen.com
SUMMARY:Luilakloop Sliedrecht
DESCRIPTION:Doe mee met het hardloopevenement Luilakloop te Sliedrecht op za 26 mei 2007. De volgende afstanden staan op het programma: 6 km – 10 km hardlopen. Wilt u inschrijven voor dit loopevenement?  Raadpleeg hiervoor dan de website van de organisatie\nDe uitslagen van deze hardloopwedstrijd zijn te raadplegen via dezelfde website of via de bekende websites zoals uitslagen.nl\, runtimer en mylaps. Doet u mee met dit evenement\, zorg dan dat u goed voorbereid aan de start staat! Met een goed trainingsschema komt u een heel eind. Train bijvoorbeeld met start to run van Evy Gruyaert. Download de start to run mp3 bestanden en zet ze op uw telefoon. Oortjes in\, hit the play button en en rennen maar! \n\n\n\n\nMeer informatie over Luilakloop op Hardloopkalender.nl  \n  \n  \n 
URL:https://hardloopevenementen.com/loopagenda/luilakloop-sliedrecht/
END:VEVENT
END:VCALENDAR