BEGIN:VCALENDAR
VERSION:2.0
PRODID:-//Hardloopevenementen - ECPv6.15.14//NONSGML v1.0//EN
CALSCALE:GREGORIAN
METHOD:PUBLISH
X-ORIGINAL-URL:https://hardloopevenementen.com
X-WR-CALDESC:Evenementen voor Hardloopevenementen
REFRESH-INTERVAL;VALUE=DURATION:PT1H
X-Robots-Tag:noindex
X-PUBLISHED-TTL:PT1H
BEGIN:VTIMEZONE
TZID:UTC
BEGIN:STANDARD
TZOFFSETFROM:+0000
TZOFFSETTO:+0000
TZNAME:UTC
DTSTART:20090101T000000
END:STANDARD
END:VTIMEZONE
BEGIN:VEVENT
DTSTART;VALUE=DATE:20110529
DTEND;VALUE=DATE:20110530
DTSTAMP:20260421T024204
CREATED:20110813T205402Z
LAST-MODIFIED:20190423T102117Z
UID:6904-1306627200-1306627200@hardloopevenementen.com
SUMMARY:Kestielboerderij Luip Borgharen\, gemeente Maastricht (LI)
DESCRIPTION:Doe mee met het hardloopevenement Kestielboerderij Luip te Borgharen\, gemeente Maastricht (LI) op zo 29 mei 2011. De volgende afstanden staan op het programma: 5\,5 km – 10 km hardlopen. Wilt u inschrijven voor dit loopevenement?  Raadpleeg hiervoor dan de website van de organisatie\nDe uitslagen van deze hardloopwedstrijd zijn te raadplegen via dezelfde website of via de bekende websites zoals uitslagen.nl\, runtimer en mylaps. Doet u mee met dit evenement\, zorg dan dat u goed voorbereid aan de start staat! Met een goed trainingsschema komt u een heel eind. Train bijvoorbeeld met start to run van Evy Gruyaert. Download de start to run mp3 bestanden en zet ze op uw telefoon. Oortjes in\, hit the play button en en rennen maar! \n\n\n\n\nMeer informatie over Kestielboerderij Luip op Hardloopkalender.nl  \nHet loopevenement Kestielboerderij Luip te Borgharen vindt plaats op zondag 29 mei 2011. De loop wordt georganiseerd door Atletiek Maastricht. Inschrijven is mogelijk vanaf 01 april 2010. Klik hier voor het adres van de start (Google Maps).Er is verkleedaccomodatie met douchemogelijkheid aanwezig. Er is EHBO aanwezig. Bijzonderheden: Nadere informatie volgt (o.a. inschrijfgeld).Afstand(km)Inschrijfgeld(€)Starttijd10€0\,0011.005\,5€0\,0012.30jeugdlopen€0\,0013.30Voor meer informatie:Jacques Peterspetersfam@hetnet.nl0433632638http:  www.atletiekmaastricht.nl \n  \n  \n 
URL:https://hardloopevenementen.com/loopagenda/kestielboerderij-luip-borgharen-gemeente-maastricht-li-2/
END:VEVENT
BEGIN:VEVENT
DTSTART;VALUE=DATE:20100718
DTEND;VALUE=DATE:20100719
DTSTAMP:20260421T024204
CREATED:20070919T074054Z
LAST-MODIFIED:20190423T101009Z
UID:3889-1279411200-1279411200@hardloopevenementen.com
SUMMARY:Kestielboerderij Luip Borgharen\, gemeente Maastricht (LI)
DESCRIPTION:Doe mee met het hardloopevenement Kestielboerderij Luip te Borgharen\, gemeente Maastricht (LI) op zo 18 jul 2010. De volgende afstanden staan op het programma: 5 km – 10 km hardlopen. Wilt u inschrijven voor dit loopevenement?  Raadpleeg hiervoor dan de website van de organisatie\nDe uitslagen van deze hardloopwedstrijd zijn te raadplegen via dezelfde website of via de bekende websites zoals uitslagen.nl\, runtimer en mylaps. Doet u mee met dit evenement\, zorg dan dat u goed voorbereid aan de start staat! Met een goed trainingsschema komt u een heel eind. Train bijvoorbeeld met start to run van Evy Gruyaert. Download de start to run mp3 bestanden en zet ze op uw telefoon. Oortjes in\, hit the play button en en rennen maar! \n\n\n\n\nMeer informatie over Kestielboerderij Luip op Hardloopkalender.nl  \nDit loopevenement wordt georganiseerd door Atletiek Maastricht.De eerste afstand (of onderdeel) start om 10:45.Het adres van de start en de finish is Kasteelboerderij ?Categorie(ën): mannen\, vrouwen\, jeugdVooraf inschrijven is mogelijk vanaf 29 oktober 2009 tot 29 oktober 2009.Inschrijven op de dag van de loop is mogelijk (vanaf onbekend) op dit adres: onbekend.Meer informatie:Contactpersoon: Jacques PetersTel.: 0433632638Email: info@atletiekmaastricht.nlEr is een kleedaccomodatie aanwezig. Douchen is niet mogelijk.Het parcours is verhard.Overige bijzonderheden:  Nadere informatie volgt (o.a. inschrijfgeld) \n  \n  \n 
URL:https://hardloopevenementen.com/loopagenda/kestielboerderij-luip-borgharen-gemeente-maastricht-li/
END:VEVENT
END:VCALENDAR