BEGIN:VCALENDAR
VERSION:2.0
PRODID:-//Hardloopevenementen - ECPv6.15.14//NONSGML v1.0//EN
CALSCALE:GREGORIAN
METHOD:PUBLISH
X-WR-CALNAME:Hardloopevenementen
X-ORIGINAL-URL:https://hardloopevenementen.com
X-WR-CALDESC:Evenementen voor Hardloopevenementen
REFRESH-INTERVAL;VALUE=DURATION:PT1H
X-Robots-Tag:noindex
X-PUBLISHED-TTL:PT1H
BEGIN:VTIMEZONE
TZID:UTC
BEGIN:STANDARD
TZOFFSETFROM:+0000
TZOFFSETTO:+0000
TZNAME:UTC
DTSTART:20140101T000000
END:STANDARD
END:VTIMEZONE
BEGIN:VEVENT
DTSTART;VALUE=DATE:20160827
DTEND;VALUE=DATE:20160828
DTSTAMP:20260425T031229
CREATED:20071205T080140Z
LAST-MODIFIED:20190423T112255Z
UID:12157-1472256000-1472256000@hardloopevenementen.com
SUMMARY:Sportfestival Maarsseveen Utrecht (UT)
DESCRIPTION:Doe mee met het hardloopevenement Sportfestival Maarsseveen te Utrecht (UT) op za 27 aug 2016. De volgende afstanden staan op het programma: 1 km – 5 km – 10 km – 15 km hardlopen. Wilt u inschrijven voor dit loopevenement?  Raadpleeg hiervoor dan de website van de organisatie\nDe uitslagen van deze hardloopwedstrijd zijn te raadplegen via dezelfde website of via de bekende websites zoals uitslagen.nl\, runtimer en mylaps. Doet u mee met dit evenement\, zorg dan dat u goed voorbereid aan de start staat! Met een goed trainingsschema komt u een heel eind. Train bijvoorbeeld met start to run van Evy Gruyaert. Download de start to run mp3 bestanden en zet ze op uw telefoon. Oortjes in\, hit the play button en en rennen maar! \n\n\n\n\nMeer informatie over Sportfestival Maarsseveen op Hardloopkalender.nl  \nSportfestival Maarsseveen I Sporten Voor Het Goede Doel    Op 27 augustus heeft de tweede editie van Sportfestival Maarsseveen plaats. Een sportevenement met Aquathlon (5k hardlopen 500m zwemmen) Kidsrun\, Bootcamp\, Pilates en verschillende andere sporten. Het start- en finishdorp wordt omgetoverd tot een zomerse braderie met biologische en gezonde producten uit de regio. Voor de kleine sportertjes is er een Kidsrun\, een springkussen en een schminker. Kortom\, een sportieve dag voor de hele familie. #SFM \n  \n  \n 
URL:https://hardloopevenementen.com/loopagenda/sportfestival-maarsseveen-utrecht-ut/
END:VEVENT
BEGIN:VEVENT
DTSTART;VALUE=DATE:20150829
DTEND;VALUE=DATE:20150830
DTSTAMP:20260425T031229
CREATED:20100402T034929Z
LAST-MODIFIED:20190423T110950Z
UID:9920-1440806400-1440806400@hardloopevenementen.com
SUMMARY:Sportfestival Maarsseveen Maarssen (UT)
DESCRIPTION:Doe mee met het hardloopevenement Sportfestival Maarsseveen te Maarssen (UT) op za 29 aug 2015. De volgende afstanden staan op het programma: 5 km – 10 km hardlopen. Wilt u inschrijven voor dit loopevenement?  Raadpleeg hiervoor dan de website van de organisatie\nDe uitslagen van deze hardloopwedstrijd zijn te raadplegen via dezelfde website of via de bekende websites zoals uitslagen.nl\, runtimer en mylaps. Doet u mee met dit evenement\, zorg dan dat u goed voorbereid aan de start staat! Met een goed trainingsschema komt u een heel eind. Train bijvoorbeeld met start to run van Evy Gruyaert. Download de start to run mp3 bestanden en zet ze op uw telefoon. Oortjes in\, hit the play button en en rennen maar! \n\n\n\n\nMeer informatie over Sportfestival Maarsseveen op Hardloopkalender.nl  \nNaast de 5k en de 10k hardlopen\, is het ook mogelijk je in te schrijven voor een run-swim-run\, waarbij er 2\,5k hardgelopen wordt\, 500 meter wordt gezwommen en weer 2\,5k gelopen wordt. Het start- en finishdorp van de recreatieve sportwedstrijd wordt omgetoverd tot een gezellige zomerse braderie\, met biologische producten en biologisch bier\, zodat je direct na de finish gezond kunt ontspannen! Like ons op Facebook en blijf op de hoogte! \n  \n  \n 
URL:https://hardloopevenementen.com/loopagenda/sportfestival-maarsseveen-maarssen-ut-2/
END:VEVENT
BEGIN:VEVENT
DTSTART;VALUE=DATE:20150829
DTEND;VALUE=DATE:20150830
DTSTAMP:20260425T031229
CREATED:20080504T060706Z
LAST-MODIFIED:20190423T110948Z
UID:9917-1440806400-1440806400@hardloopevenementen.com
SUMMARY:Sportfestival Maarsseveen Maarssen (UT)
DESCRIPTION:Doe mee met het hardloopevenement Sportfestival Maarsseveen te Maarssen (UT) op za 29 aug 2015. De volgende afstanden staan op het programma: 5 km – 10 km hardlopen. Wilt u inschrijven voor dit loopevenement?  Raadpleeg hiervoor dan de website van de organisatie\nDe uitslagen van deze hardloopwedstrijd zijn te raadplegen via dezelfde website of via de bekende websites zoals uitslagen.nl\, runtimer en mylaps. Doet u mee met dit evenement\, zorg dan dat u goed voorbereid aan de start staat! Met een goed trainingsschema komt u een heel eind. Train bijvoorbeeld met start to run van Evy Gruyaert. Download de start to run mp3 bestanden en zet ze op uw telefoon. Oortjes in\, hit the play button en en rennen maar! \n\n\n\n\nMeer informatie over Sportfestival Maarsseveen op Hardloopkalender.nl  \nOp zaterdag 29 augustus 2015 vindt het 1e Sportfestival Maarsseveen plaats: Een recreatieve  Run-Swim-Run duatlon met een zomerse biologische braderie in het start- en finishdorp!     Ben je recreatief hardloper of beoefen je een andere (team)sport en lijkt het je leuk om eens een andere discipline te proberen? Schrijf je dan in  alleen of met een team  voor de Run-Swim-Run van Sportfestival Maarsseveen op zaterdag 29 augustus. Een goede training voor de hardloopwedstrijden en triatlons in het najaar en een goede voorbereiding op het nieuwe sportseizoen! Twijfel je over het zwemmen? 500 meter is niet niks\, maar voor iedere geoefende sporter mag dit geen belemmering zijn. Houd je het toch liever alleen bij het hardlopen\, dan is er ook een standaard hardloopwedstrijd.    Tijdens en na afloop van het sportieve gedeelte van de dag bieden ondernemers uit de regio hun producten aan op de braderie. Deelnemers en toeschouwers kunnen hier terecht voor een lekker en gezond hapje en een verfrissend drankje. Voor iedere inschrijving wordt een bedrag overgemaakt naar een goed doel. Kortom een Sportfestival dat zich richt op:     Duurzaam sporten\, Gezond ontspannen! \n  \n  \n 
URL:https://hardloopevenementen.com/loopagenda/sportfestival-maarsseveen-maarssen-ut/
END:VEVENT
END:VCALENDAR