BEGIN:VCALENDAR
VERSION:2.0
PRODID:-//Hardloopevenementen - ECPv6.15.14//NONSGML v1.0//EN
CALSCALE:GREGORIAN
METHOD:PUBLISH
X-WR-CALNAME:Hardloopevenementen
X-ORIGINAL-URL:https://hardloopevenementen.com
X-WR-CALDESC:Evenementen voor Hardloopevenementen
REFRESH-INTERVAL;VALUE=DURATION:PT1H
X-Robots-Tag:noindex
X-PUBLISHED-TTL:PT1H
BEGIN:VTIMEZONE
TZID:UTC
BEGIN:STANDARD
TZOFFSETFROM:+0000
TZOFFSETTO:+0000
TZNAME:UTC
DTSTART:20160101T000000
END:STANDARD
END:VTIMEZONE
BEGIN:VEVENT
DTSTART;VALUE=DATE:20190616
DTEND;VALUE=DATE:20190617
DTSTAMP:20260420T160701
CREATED:20100127T045048Z
LAST-MODIFIED:20191114T112559Z
UID:43568-1560643200-1560643200@hardloopevenementen.com
SUMMARY:MaartensChallenge Ubbergen (GE)
DESCRIPTION:Doe mee met het hardloopevenement MaartensChallenge te Ubbergen (GE) op zo 16 jun 2019. De volgende afstanden staan op het programma: 2 uur 30 min – 1 km – 7\,5 km – 15 km hardlopen. Wilt u inschrijven voor dit loopevenement?  Raadpleeg hiervoor dan de website van de organisatie\nDe uitslagen van deze hardloopwedstrijd zijn te raadplegen via dezelfde website of via de bekende websites zoals uitslagen.nl\, runtimer en mylaps. Doet u mee met dit evenement\, zorg dan dat u goed voorbereid aan de start staat! Met een goed trainingsschema komt u een heel eind. Train bijvoorbeeld met start to run van Evy Gruyaert. Download de start to run mp3 bestanden en zet ze op uw telefoon. Oortjes in\, hit the play button en en rennen maar! \n\n\n\n\nMeer informatie over MaartensChallenge op Hardloopkalender.nl  \nDe St. Maartenschool in Ubbergen\, een school voor speciaal onderwijs aan leerlingen met een lichamelijke of meervoudige beperking en langdurig zieke kinderen in Ubbergen\, moet het sinds een stevige bezuinigingsronde met minder geld doen. De Stichting Vrienden van de Maartenschool ondersteunt de school onder andere door het organiseren van de MaartensChallenge om extra geld in te zamelen.    De St. Maartenschool ligt op het terrein van de Sint Maartenskliniek in een stevig glooiend landschap. Op dit terrein wordt op zondag 16 juni 2019 de 2e editie van de MaartensChallenge gehouden. Er is een mooie ronde uitgezet van ongeveer 2 km en met je team (bestaande uit minimaal 2 en maximaal 4 personen) is het de bedoeling de berg in een 2\,5-uurs estafette hardloopwedstrijd zo vaak mogelijk te bedwingen.    Je hoeft niet continu te rennen\, want je loopt in estafette\, waarbij je tussendoor op adem kunt komen. Sportief is het een stevige uitdaging. Maar we dagen je team ook uit om fondsen te werven voor de Maartenschool\, want alleen met jouw hulp kan de school zijn fantastische werk blijven voortzetten.    7\,5 of 15km Trail  Loop je liever alleen\, maar wil je wel een topprestatie leveren. Ren of wandel dan mee met de 7\,5 of 15 km lange trail. Loop over prachtige bospaadjes en ga de strijd aan met de vele hoogteverschillen.    KidsRun  De kids kunnen meedoen aan een KidsRun over 1 kilometer\, twee rondjes rond de school.    Aanmelden kan via www.maartenschallenge.nl \n  \n  \n 
URL:https://hardloopevenementen.com/loopagenda/maartenschallenge-ubbergen-ge-2/
END:VEVENT
BEGIN:VEVENT
DTSTART;VALUE=DATE:20170930
DTEND;VALUE=DATE:20171001
DTSTAMP:20260420T160701
CREATED:20130920T035307Z
LAST-MODIFIED:20190423T114341Z
UID:14011-1506729600-1506729600@hardloopevenementen.com
SUMMARY:MaartensChallenge Ubbergen (GE)
DESCRIPTION:Doe mee met het hardloopevenement MaartensChallenge te Ubbergen (GE) op za 30 sep 2017. De volgende afstanden staan op het programma: 3 uur 0 min – 2\,5 km hardlopen. Wilt u inschrijven voor dit loopevenement?  Raadpleeg hiervoor dan de website van de organisatie\nDe uitslagen van deze hardloopwedstrijd zijn te raadplegen via dezelfde website of via de bekende websites zoals uitslagen.nl\, runtimer en mylaps. Doet u mee met dit evenement\, zorg dan dat u goed voorbereid aan de start staat! Met een goed trainingsschema komt u een heel eind. Train bijvoorbeeld met start to run van Evy Gruyaert. Download de start to run mp3 bestanden en zet ze op uw telefoon. Oortjes in\, hit the play button en en rennen maar! \n\n\n\n\nMeer informatie over MaartensChallenge op Hardloopkalender.nl  \nDe St. Maartenschool in Ubbergen\, een school voor speciaal onderwijs aan leerlingen met een lichamelijke of meervoudige beperking en langdurig zieke kinderen in Ubbergen\, moet bezuinigen. En niet een beetje ook. Door de invoering van passend onderwijs komt er jaarlijks maar liefst  1\,8 miljoen minder beschikbaar voor het bieden van de juiste combinatie van zorg en onderwijs voor de leerlingen. De Stichting Vrienden van de Maartenschool ziet daar als een berg tegenop en verzet zich hier tegen\, onder andere door het organiseren van de MaartensChallenge.    De St. Maartenschool ligt op het terrein van de Sint Maartenskliniek in een stevig glooiend landschap. Op dit terrein wordt op zaterdag 30 september 2017 de MaartensChallenge gehouden. Er is een mooie ronde uitgezet van ongeveer 2\,5 km en met je team (bestaande uit minimaal 2 en maximaal 4 personen) is het de bedoeling de berg in een 3-uurs estafette hardloopwedstrijd zo vaak mogelijk te bedwingen.    Je hoeft niet continu te rennen\, want je loopt in estafette\, waarbij je tussendoor op adem kunt komen. Sportief is het een stevige uitdaging. Maar we dagen je team ook uit om fondsen te werven voor de Maartenschool\, want alleen met jouw hulp kan de school zijn fantastische werk blijven voortzetten.    15km Trail  Loop je liever alleen\, maar wil je wel een topprestatie leveren. Loop wandel dan mee met de 15 km lange trail. Loop over prachtige bospaadjes en ga de strijd aan met de vele hoogteverschillen. \n  \n  \n 
URL:https://hardloopevenementen.com/loopagenda/maartenschallenge-ubbergen-ge/
END:VEVENT
END:VCALENDAR