BEGIN:VCALENDAR
VERSION:2.0
PRODID:-//Hardloopevenementen - ECPv6.15.14//NONSGML v1.0//EN
CALSCALE:GREGORIAN
METHOD:PUBLISH
X-WR-CALNAME:Hardloopevenementen
X-ORIGINAL-URL:https://hardloopevenementen.com
X-WR-CALDESC:Evenementen voor Hardloopevenementen
REFRESH-INTERVAL;VALUE=DURATION:PT1H
X-Robots-Tag:noindex
X-PUBLISHED-TTL:PT1H
BEGIN:VTIMEZONE
TZID:UTC
BEGIN:STANDARD
TZOFFSETFROM:+0000
TZOFFSETTO:+0000
TZNAME:UTC
DTSTART:20180101T000000
END:STANDARD
END:VTIMEZONE
BEGIN:VEVENT
DTSTART;VALUE=DATE:20200620
DTEND;VALUE=DATE:20200621
DTSTAMP:20260423T230529
CREATED:20090517T150134Z
LAST-MODIFIED:20200206T111330Z
UID:144873-1592611200-1592611200@hardloopevenementen.com
SUMMARY:De Maasdijk Oss (NB)
DESCRIPTION:Doe mee met het hardloopevenement De Maasdijk te Oss (NB) op za 20 jun 2020. De volgende afstanden staan op het programma: 1 km – 5 km – 10 km – halve marathon – marathon hardlopen. Wilt u inschrijven voor dit loopevenement?  Raadpleeg hiervoor dan de website van de organisatie\nDe uitslagen van deze hardloopwedstrijd zijn te raadplegen via dezelfde website of via de bekende websites zoals uitslagen.nl\, runtimer en mylaps. Doet u mee met dit evenement\, zorg dan dat u goed voorbereid aan de start staat! Met een goed trainingsschema komt u een heel eind. Train bijvoorbeeld met start to run van Evy Gruyaert. Download de start to run mp3 bestanden en zet ze op uw telefoon. Oortjes in\, hit the play button en en rennen maar! \n\n\n\n\nMeer informatie over De Maasdijk op Hardloopkalender.nl  \nDe Maasdijk is een jaarlijks terugkerend multisportevenement op een lintparcours. De onderdelen starten op verschillende locaties aan de maasdijk\, ze finishen allemaal in het gezellige centrum van Oss.    Uniek: de marathon wordt in de avond gelopen\, met een start om 18:00 uur\, zodat het voor de deelnemers steeds koeler wordt. De waardering van de deelnemers was in 2019 maar liefst 4\,37 op een schaal van 1 tot 5.  18:00 uur: marathon\, Keent – Oss  19:10 uur: halve marathon\, Megen – Oss  20:00 uur: 10 kilometer\, Oijen – Oss  22:30 uur: Van Mun Advies Night Run 5km\, Teeffelen – Oss    14:00 uur: Rabo Family Color Run\, 1km. \n  \n  \n 
URL:https://hardloopevenementen.com/loopagenda/de-maasdijk-oss-nb-2/
END:VEVENT
BEGIN:VEVENT
DTSTART;VALUE=DATE:20190727
DTEND;VALUE=DATE:20190728
DTSTAMP:20260423T230529
CREATED:20071009T163430Z
LAST-MODIFIED:20191114T112526Z
UID:83909-1564185600-1564185600@hardloopevenementen.com
SUMMARY:Ruitenburg Run Maasdijk Maasdijk\, gemeente Westland (ZH)
DESCRIPTION:Doe mee met het hardloopevenement Ruitenburg Run Maasdijk te Maasdijk\, gemeente Westland (ZH) op za 27 jul 2019. De volgende afstanden staan op het programma: 5 km – 10 km hardlopen. Wilt u inschrijven voor dit loopevenement?  Raadpleeg hiervoor dan de website van de organisatie\nDe uitslagen van deze hardloopwedstrijd zijn te raadplegen via dezelfde website of via de bekende websites zoals uitslagen.nl\, runtimer en mylaps. Doet u mee met dit evenement\, zorg dan dat u goed voorbereid aan de start staat! Met een goed trainingsschema komt u een heel eind. Train bijvoorbeeld met start to run van Evy Gruyaert. Download de start to run mp3 bestanden en zet ze op uw telefoon. Oortjes in\, hit the play button en en rennen maar! \n\n\n\n\nMeer informatie over Ruitenburg Run Maasdijk op Hardloopkalender.nl  \nDe gezelligste hardloopwedstrijd van het Westland is op 27 juli 2019 in Maasdijk. De Ruitenburg Run Maasdijk vindt plaats over de afstand van 10 kilometer in en rondom Maasdijk. Wie liever kiest voor de afstand van 5 km is van harte welkom bij 5 van DAEL.  Deelnemers lopen over een verkeersvrij parcours en ontvangen na de eindstreep een uitstekende verzorging op het sfeervolle finishveld. Zoals gebruikelijk ontvangt iedere deelnemer een origineel runningshirt als herinnering. \n  \n  \n 
URL:https://hardloopevenementen.com/loopagenda/ruitenburg-run-maasdijk-maasdijk-gemeente-westland-zh/
END:VEVENT
BEGIN:VEVENT
DTSTART;VALUE=DATE:20190615
DTEND;VALUE=DATE:20190616
DTSTAMP:20260423T230529
CREATED:20121101T164937Z
LAST-MODIFIED:20191114T112600Z
UID:43570-1560556800-1560556800@hardloopevenementen.com
SUMMARY:De Maasdijk Oss (NB)
DESCRIPTION:Doe mee met het hardloopevenement De Maasdijk te Oss (NB) op za 15 jun 2019. De volgende afstanden staan op het programma: 1 km – 5 km – 10 km – halve marathon – marathon hardlopen. Wilt u inschrijven voor dit loopevenement?  Raadpleeg hiervoor dan de website van de organisatie\nDe uitslagen van deze hardloopwedstrijd zijn te raadplegen via dezelfde website of via de bekende websites zoals uitslagen.nl\, runtimer en mylaps. Doet u mee met dit evenement\, zorg dan dat u goed voorbereid aan de start staat! Met een goed trainingsschema komt u een heel eind. Train bijvoorbeeld met start to run van Evy Gruyaert. Download de start to run mp3 bestanden en zet ze op uw telefoon. Oortjes in\, hit the play button en en rennen maar! \n\n\n\n\nMeer informatie over De Maasdijk op Hardloopkalender.nl  \nDe Maasdijk is een jaarlijks terugkerend sportevenement in de gemeente Oss. In 2019 is De Maasdijk alweer aan haar tiende editie toe. De gemeente Oss bestaat uit 23 kernen die in 2019 voor het eerst alle 23 worden aangedaan. Er is voor elk wat wils. De echte stayers kiezen voor de marathon\, een wandeling van 50 kilometer of een kwart triathlon\, maar de vijf kilometer night run of 10 kilometer wandeling is voor iedereen met een stukje voorbereiding te doen. Tijdens De Maasdijk wagen vele honderden sportievelingen zich aan de marathon\, hardloopwedstrijden\, triathlons\, inline skate- en steptochten of wandelingen. Die volgen elk een andere route\, maar finishen allemaal op de Heuvel in hartje Oss. Daar is een gezellig finishplein ingericht omringd door cafés en terrasjes met een live programma op het podium. Niet alleen in het centrum van Oss is het te doen\, ook de kernen die worden aangedaan maken van de verschillende starts en doorkomsten een feest. \n  \n  \n 
URL:https://hardloopevenementen.com/loopagenda/de-maasdijk-oss-nb/
END:VEVENT
END:VCALENDAR