BEGIN:VCALENDAR
VERSION:2.0
PRODID:-//Hardloopevenementen - ECPv6.15.14//NONSGML v1.0//EN
CALSCALE:GREGORIAN
METHOD:PUBLISH
X-WR-CALNAME:Hardloopevenementen
X-ORIGINAL-URL:https://hardloopevenementen.com
X-WR-CALDESC:Evenementen voor Hardloopevenementen
REFRESH-INTERVAL;VALUE=DURATION:PT1H
X-Robots-Tag:noindex
X-PUBLISHED-TTL:PT1H
BEGIN:VTIMEZONE
TZID:UTC
BEGIN:STANDARD
TZOFFSETFROM:+0000
TZOFFSETTO:+0000
TZNAME:UTC
DTSTART:20060101T000000
END:STANDARD
END:VTIMEZONE
BEGIN:VEVENT
DTSTART;VALUE=DATE:20080928
DTEND;VALUE=DATE:20080929
DTSTAMP:20260420T203618
CREATED:20130904T101359Z
LAST-MODIFIED:20190423T094508Z
UID:19108-1222560000-1222560000@hardloopevenementen.com
SUMMARY:7e Maasheggen Halve Marathon Boxmeer
DESCRIPTION:Doe mee met het hardloopevenement 7e Maasheggen Halve Marathon te Boxmeer op zo 28 sep 2008. De volgende afstanden staan op het programma: 0\,2 km – 1\,3 km – 2\,3 km – 5 km – 10 km – halve marathon hardlopen. Wilt u inschrijven voor dit loopevenement?  Raadpleeg hiervoor dan de website van de organisatie\nDe uitslagen van deze hardloopwedstrijd zijn te raadplegen via dezelfde website of via de bekende websites zoals uitslagen.nl\, runtimer en mylaps. Doet u mee met dit evenement\, zorg dan dat u goed voorbereid aan de start staat! Met een goed trainingsschema komt u een heel eind. Train bijvoorbeeld met start to run van Evy Gruyaert. Download de start to run mp3 bestanden en zet ze op uw telefoon. Oortjes in\, hit the play button en en rennen maar! \n\n\n\n\nMeer informatie over 7e Maasheggen Halve Marathon op Hardloopkalender.nl  \n  \n  \n 
URL:https://hardloopevenementen.com/loopagenda/7e-maasheggen-halve-marathon-boxmeer/
END:VEVENT
BEGIN:VEVENT
DTSTART;VALUE=DATE:20070930
DTEND;VALUE=DATE:20071001
DTSTAMP:20260420T203618
CREATED:20180116T153437Z
LAST-MODIFIED:20190423T093855Z
UID:266-1191110400-1191110400@hardloopevenementen.com
SUMMARY:6e Maasheggen Halve Marathon Boxmeer
DESCRIPTION:Doe mee met het hardloopevenement 6e Maasheggen Halve Marathon te Boxmeer op zo 30 sep 2007. De volgende afstanden staan op het programma: 0\,2 km – 1\,3 km – 2\,3 km – 5 km – 10 km – halve marathon hardlopen. Wilt u inschrijven voor dit loopevenement?  Raadpleeg hiervoor dan de website van de organisatie\nDe uitslagen van deze hardloopwedstrijd zijn te raadplegen via dezelfde website of via de bekende websites zoals uitslagen.nl\, runtimer en mylaps. Doet u mee met dit evenement\, zorg dan dat u goed voorbereid aan de start staat! Met een goed trainingsschema komt u een heel eind. Train bijvoorbeeld met start to run van Evy Gruyaert. Download de start to run mp3 bestanden en zet ze op uw telefoon. Oortjes in\, hit the play button en en rennen maar! \n\n\n\n\nMeer informatie over 6e Maasheggen Halve Marathon op Hardloopkalender.nl  \n  \n  \n 
URL:https://hardloopevenementen.com/loopagenda/6e-maasheggen-halve-marathon-boxmeer/
END:VEVENT
END:VCALENDAR