BEGIN:VCALENDAR
VERSION:2.0
PRODID:-//Hardloopevenementen - ECPv6.15.14//NONSGML v1.0//EN
CALSCALE:GREGORIAN
METHOD:PUBLISH
X-WR-CALNAME:Hardloopevenementen
X-ORIGINAL-URL:https://hardloopevenementen.com
X-WR-CALDESC:Evenementen voor Hardloopevenementen
REFRESH-INTERVAL;VALUE=DURATION:PT1H
X-Robots-Tag:noindex
X-PUBLISHED-TTL:PT1H
BEGIN:VTIMEZONE
TZID:UTC
BEGIN:STANDARD
TZOFFSETFROM:+0000
TZOFFSETTO:+0000
TZNAME:UTC
DTSTART:20140101T000000
END:STANDARD
END:VTIMEZONE
BEGIN:VEVENT
DTSTART;VALUE=DATE:20170402
DTEND;VALUE=DATE:20170403
DTSTAMP:20260422T004200
CREATED:20120607T105138Z
LAST-MODIFIED:20190423T114719Z
UID:14989-1491091200-1491091200@hardloopevenementen.com
SUMMARY:Outdoor Madness Bergschenhoek\, gemeente Lansingerland (ZH)
DESCRIPTION:Doe mee met het hardloopevenement Outdoor Madness te Bergschenhoek\, gemeente Lansingerland (ZH) op zo 02 apr 2017. De volgende afstanden staan op het programma: 7\,5 km – 15 km hardlopen. Wilt u inschrijven voor dit loopevenement?  Raadpleeg hiervoor dan de website van de organisatie\nDe uitslagen van deze hardloopwedstrijd zijn te raadplegen via dezelfde website of via de bekende websites zoals uitslagen.nl\, runtimer en mylaps. Doet u mee met dit evenement\, zorg dan dat u goed voorbereid aan de start staat! Met een goed trainingsschema komt u een heel eind. Train bijvoorbeeld met start to run van Evy Gruyaert. Download de start to run mp3 bestanden en zet ze op uw telefoon. Oortjes in\, hit the play button en en rennen maar! \n\n\n\n\nMeer informatie over Outdoor Madness op Hardloopkalender.nl  \nEen dagje uit naar Outdoor Madness is: meedoen aan te gekke outdoor (sport)activiteiten\, uitdagende wedstrijden\, een sample sale van de bekendste outdoor merken of ontspannen in de natuur. Kortom: een gezellige dag met het hele gezin\, vrienden\, collegas en buren bij Outdoor Valley. \n  \n  \n 
URL:https://hardloopevenementen.com/loopagenda/outdoor-madness-bergschenhoek-gemeente-lansingerland-zh-2/
END:VEVENT
BEGIN:VEVENT
DTSTART;VALUE=DATE:20161002
DTEND;VALUE=DATE:20161003
DTSTAMP:20260422T004200
CREATED:20160724T032226Z
LAST-MODIFIED:20190423T112148Z
UID:11843-1475366400-1475366400@hardloopevenementen.com
SUMMARY:Outdoor Madness Bergschenhoek\, gemeente Lansingerland (ZH)
DESCRIPTION:Doe mee met het hardloopevenement Outdoor Madness te Bergschenhoek\, gemeente Lansingerland (ZH) op zo 02 okt 2016. De volgende afstanden staan op het programma: 1\,5 km – 7\,5 km – 15 km – 25 km hardlopen. Wilt u inschrijven voor dit loopevenement?  Raadpleeg hiervoor dan de website van de organisatie\nDe uitslagen van deze hardloopwedstrijd zijn te raadplegen via dezelfde website of via de bekende websites zoals uitslagen.nl\, runtimer en mylaps. Doet u mee met dit evenement\, zorg dan dat u goed voorbereid aan de start staat! Met een goed trainingsschema komt u een heel eind. Train bijvoorbeeld met start to run van Evy Gruyaert. Download de start to run mp3 bestanden en zet ze op uw telefoon. Oortjes in\, hit the play button en en rennen maar! \n\n\n\n\nMeer informatie over Outdoor Madness op Hardloopkalender.nl  \nOp zondag 2 oktober wordt Outdoor Madness georganiseerd. Onderdeel van dit evenement is de Trailrunwedstrijd met maar liefst vier afstanden! Naast de kidsrun van 1500 meter hebben we verschillende afstanden van: 7\,5 km\, 15 km en 25 km. Welke uitdaging kies jij? \n  \n  \n 
URL:https://hardloopevenementen.com/loopagenda/outdoor-madness-bergschenhoek-gemeente-lansingerland-zh/
END:VEVENT
BEGIN:VEVENT
DTSTART;VALUE=DATE:20160515
DTEND;VALUE=DATE:20160516
DTSTAMP:20260422T004200
CREATED:20100302T195656Z
LAST-MODIFIED:20190423T112520Z
UID:12772-1463270400-1463270400@hardloopevenementen.com
SUMMARY:Outdoor Madness Trailrun Bergschenhoek\, gemeente Lansingerland (ZH)
DESCRIPTION:Doe mee met het hardloopevenement Outdoor Madness Trailrun te Bergschenhoek\, gemeente Lansingerland (ZH) op zo 15 mei 2016. De volgende afstanden staan op het programma: 1 km – 1\,5 km – 7\,4 km – 14\,8 km hardlopen. Wilt u inschrijven voor dit loopevenement?  Raadpleeg hiervoor dan de website van de organisatie\nDe uitslagen van deze hardloopwedstrijd zijn te raadplegen via dezelfde website of via de bekende websites zoals uitslagen.nl\, runtimer en mylaps. Doet u mee met dit evenement\, zorg dan dat u goed voorbereid aan de start staat! Met een goed trainingsschema komt u een heel eind. Train bijvoorbeeld met start to run van Evy Gruyaert. Download de start to run mp3 bestanden en zet ze op uw telefoon. Oortjes in\, hit the play button en en rennen maar! \n\n\n\n\nMeer informatie over Outdoor Madness Trailrun op Hardloopkalender.nl  \nKom trailen op de Rotterdamse Alp. De Outdoor Madness trailrun loopt over het uitdagende mountainbike parcours van het Hoge Bergse Bos. Na een korte aanloop vanaf Outdoor Valley leg je het parcours van ongeveer 7 kilometer 183 hoogtemeters één of twee keer af. Afhankelijk van welke uitdaging je aan gaat uiteraard. Ook voor de kinderen is er een gave run. \n  \n  \n 
URL:https://hardloopevenementen.com/loopagenda/outdoor-madness-trailrun-bergschenhoek-gemeente-lansingerland-zh/
END:VEVENT
BEGIN:VEVENT
DTSTART;VALUE=DATE:20151004
DTEND;VALUE=DATE:20151005
DTSTAMP:20260422T004200
CREATED:20121027T165131Z
LAST-MODIFIED:20190423T110842Z
UID:9663-1443916800-1443916800@hardloopevenementen.com
SUMMARY:Trailrun outdoor madness Rotterdam (ZH)
DESCRIPTION:Doe mee met het hardloopevenement Trailrun outdoor madness te Rotterdam (ZH) op zo 04 okt 2015. De volgende afstanden staan op het programma: 1 km – 1\,5 km – 7 km – 14 km hardlopen. Wilt u inschrijven voor dit loopevenement?  Raadpleeg hiervoor dan de website van de organisatie\nDe uitslagen van deze hardloopwedstrijd zijn te raadplegen via dezelfde website of via de bekende websites zoals uitslagen.nl\, runtimer en mylaps. Doet u mee met dit evenement\, zorg dan dat u goed voorbereid aan de start staat! Met een goed trainingsschema komt u een heel eind. Train bijvoorbeeld met start to run van Evy Gruyaert. Download de start to run mp3 bestanden en zet ze op uw telefoon. Oortjes in\, hit the play button en en rennen maar! \n\n\n\n\nMeer informatie over Trailrun outdoor madness op Hardloopkalender.nl  \nDe Outdoor Madness trailrun loopt over het uitdagende mountainbike parcours van het Hoge Bergse Bos. Na een korte aanloop vanaf Outdoor Valley leg je het parcours van ongeveer 7 kilometer 178 hoogtemeters één of twee keer af. Afhankelijk van welke uitdaging je aan gaat uiteraard.    Rotterdam Atletiek en het merk Salomon verzorgen de trailrun-wedstrijden. Om een voorspoedige start te bevorderen starten we in groepen van 10-20 personen twintig seconden na elkaar.    Speciaal voor de kids zijn er twee kidsruns op de eerste heuvel.  Voor kinderen van 7 t m 10 jaar is de run 1000 meter met 15 hoogtemeters.  Voor tieners van 11 t m 14 jaar is de run 1450 meter met 46 hoogtemeters.  De kidsruns beginnen een uur voor de trailruns.    Salomon geeft tijdens Outdoor Madness ook trailrun-clinics \n  \n  \n 
URL:https://hardloopevenementen.com/loopagenda/trailrun-outdoor-madness-rotterdam-zh/
END:VEVENT
END:VCALENDAR