BEGIN:VCALENDAR
VERSION:2.0
PRODID:-//Hardloopevenementen - ECPv6.15.14//NONSGML v1.0//EN
CALSCALE:GREGORIAN
METHOD:PUBLISH
X-WR-CALNAME:Hardloopevenementen
X-ORIGINAL-URL:https://hardloopevenementen.com
X-WR-CALDESC:Evenementen voor Hardloopevenementen
REFRESH-INTERVAL;VALUE=DURATION:PT1H
X-Robots-Tag:noindex
X-PUBLISHED-TTL:PT1H
BEGIN:VTIMEZONE
TZID:UTC
BEGIN:STANDARD
TZOFFSETFROM:+0000
TZOFFSETTO:+0000
TZNAME:UTC
DTSTART:20070101T000000
END:STANDARD
END:VTIMEZONE
BEGIN:VEVENT
DTSTART;VALUE=DATE:20081012
DTEND;VALUE=DATE:20081013
DTSTAMP:20260420T195922
CREATED:20111206T063936Z
LAST-MODIFIED:20190423T094448Z
UID:19026-1223769600-1223769600@hardloopevenementen.com
SUMMARY:Marathon Eindhoven NK Marathon Eindhoven
DESCRIPTION:Doe mee met het hardloopevenement Marathon Eindhoven NK Marathon te Eindhoven op zo 12 okt 2008. De volgende afstanden staan op het programma: 3 km – 6 km – halve marathon – marathon hardlopen. Wilt u inschrijven voor dit loopevenement?  Raadpleeg hiervoor dan de website van de organisatie\nDe uitslagen van deze hardloopwedstrijd zijn te raadplegen via dezelfde website of via de bekende websites zoals uitslagen.nl\, runtimer en mylaps. Doet u mee met dit evenement\, zorg dan dat u goed voorbereid aan de start staat! Met een goed trainingsschema komt u een heel eind. Train bijvoorbeeld met start to run van Evy Gruyaert. Download de start to run mp3 bestanden en zet ze op uw telefoon. Oortjes in\, hit the play button en en rennen maar! \n\n\n\n\nMeer informatie over Marathon Eindhoven NK Marathon op Hardloopkalender.nl  \nNederlands kapioenschap Marathon 2008 \n  \n  \n 
URL:https://hardloopevenementen.com/loopagenda/marathon-eindhoven-nk-marathon-eindhoven/
END:VEVENT
END:VCALENDAR