BEGIN:VCALENDAR
VERSION:2.0
PRODID:-//Hardloopevenementen - ECPv6.15.14//NONSGML v1.0//EN
CALSCALE:GREGORIAN
METHOD:PUBLISH
X-ORIGINAL-URL:https://hardloopevenementen.com
X-WR-CALDESC:Evenementen voor Hardloopevenementen
REFRESH-INTERVAL;VALUE=DURATION:PT1H
X-Robots-Tag:noindex
X-PUBLISHED-TTL:PT1H
BEGIN:VTIMEZONE
TZID:UTC
BEGIN:STANDARD
TZOFFSETFROM:+0000
TZOFFSETTO:+0000
TZNAME:UTC
DTSTART:20070101T000000
END:STANDARD
END:VTIMEZONE
BEGIN:VEVENT
DTSTART;VALUE=DATE:20080601
DTEND;VALUE=DATE:20080602
DTSTAMP:20260426T040825
CREATED:20170820T094606Z
LAST-MODIFIED:20190423T094706Z
UID:19623-1212278400-1212278400@hardloopevenementen.com
SUMMARY:1e  Estafette Marathon Atverni Nieuwegein
DESCRIPTION:Doe mee met het hardloopevenement 1e  Estafette Marathon Atverni te Nieuwegein op zo 01 jun 2008. De volgende afstanden staan op het programma: marathon hardlopen. Wilt u inschrijven voor dit loopevenement?  Raadpleeg hiervoor dan de website van de organisatie\nDe uitslagen van deze hardloopwedstrijd zijn te raadplegen via dezelfde website of via de bekende websites zoals uitslagen.nl\, runtimer en mylaps. Doet u mee met dit evenement\, zorg dan dat u goed voorbereid aan de start staat! Met een goed trainingsschema komt u een heel eind. Train bijvoorbeeld met start to run van Evy Gruyaert. Download de start to run mp3 bestanden en zet ze op uw telefoon. Oortjes in\, hit the play button en en rennen maar! \n\n\n\n\nMeer informatie over 1e  Estafette Marathon Atverni op Hardloopkalender.nl  \nHALVE MARATHON VERVANGEN DOOR ESTAFETTE-MARATHON  Na 8 edities is er een einde gekomen aan de HALVE MARATHON VAN NIEUWEGEIN.     De organisatie heeft altijd gezegd mocht het mogelijk zijn dan starten we de ESTAFETTE-MARATHON weer op.     en\, HET IS ZOVER\, op ZONDAG 22 JUNI daags na de viering van het 25 jaar ATVERNI bestaan.     De 1e AM WONEN estafette-marathon gaat om 12.00 uur van start.     Er is een wedstrijdloop en een recreatieve loop.     Inschrijven is mogelijk voor iedereen.     De wedstrijdloop is voor LOOPGROEPEN — BEDRIJVEN — SPORTSCHOLEN.     meer informatie volgt. \n  \n  \n 
URL:https://hardloopevenementen.com/loopagenda/1e-estafette-marathon-atverni-nieuwegein/
END:VEVENT
END:VCALENDAR