BEGIN:VCALENDAR
VERSION:2.0
PRODID:-//Hardloopevenementen - ECPv6.15.14//NONSGML v1.0//EN
CALSCALE:GREGORIAN
METHOD:PUBLISH
X-WR-CALNAME:Hardloopevenementen
X-ORIGINAL-URL:https://hardloopevenementen.com
X-WR-CALDESC:Evenementen voor Hardloopevenementen
REFRESH-INTERVAL;VALUE=DURATION:PT1H
X-Robots-Tag:noindex
X-PUBLISHED-TTL:PT1H
BEGIN:VTIMEZONE
TZID:UTC
BEGIN:STANDARD
TZOFFSETFROM:+0000
TZOFFSETTO:+0000
TZNAME:UTC
DTSTART:20110101T000000
END:STANDARD
END:VTIMEZONE
BEGIN:VEVENT
DTSTART;VALUE=DATE:20171105
DTEND;VALUE=DATE:20171106
DTSTAMP:20260425T102730
CREATED:20091017T071109Z
LAST-MODIFIED:20190423T114254Z
UID:13808-1509840000-1509840000@hardloopevenementen.com
SUMMARY:3e Marathon van Rooi Sint-Oedenrode (NB)
DESCRIPTION:Doe mee met het hardloopevenement 3e Marathon van Rooi te Sint-Oedenrode (NB) op zo 05 nov 2017. De volgende afstanden staan op het programma: marathon hardlopen. Wilt u inschrijven voor dit loopevenement?  Raadpleeg hiervoor dan de website van de organisatie\nDe uitslagen van deze hardloopwedstrijd zijn te raadplegen via dezelfde website of via de bekende websites zoals uitslagen.nl\, runtimer en mylaps. Doet u mee met dit evenement\, zorg dan dat u goed voorbereid aan de start staat! Met een goed trainingsschema komt u een heel eind. Train bijvoorbeeld met start to run van Evy Gruyaert. Download de start to run mp3 bestanden en zet ze op uw telefoon. Oortjes in\, hit the play button en en rennen maar! \n\n\n\n\nMeer informatie over 3e Marathon van Rooi op Hardloopkalender.nl  \nIn 2017 viert Sportvereniging Fortuna ’67 in Sint-Oedenrode (in de volksmond “Rooi”) haar 50-jarig bestaan. In verband hiermee organiseert zij dit jaar de 3e Marathon van Rooi. Deze unieke marathon vond voor het eerst plaats op zondag 4 november 2007 en werd herhaald op 4 november 2012. \n  \n  \n 
URL:https://hardloopevenementen.com/loopagenda/3e-marathon-van-rooi-sint-oedenrode-nb/
END:VEVENT
BEGIN:VEVENT
DTSTART;VALUE=DATE:20121104
DTEND;VALUE=DATE:20121105
DTSTAMP:20260425T102730
CREATED:20161127T161415Z
LAST-MODIFIED:20190423T102806Z
UID:7410-1351987200-1351987200@hardloopevenementen.com
SUMMARY:Jubileum Marathon 2012 Sint-Oedenrode (NB)
DESCRIPTION:Doe mee met het hardloopevenement Jubileum Marathon 2012 te Sint-Oedenrode (NB) op zo 04 nov 2012. De volgende afstanden staan op het programma: marathon hardlopen. Wilt u inschrijven voor dit loopevenement?  Raadpleeg hiervoor dan de website van de organisatie\nDe uitslagen van deze hardloopwedstrijd zijn te raadplegen via dezelfde website of via de bekende websites zoals uitslagen.nl\, runtimer en mylaps. Doet u mee met dit evenement\, zorg dan dat u goed voorbereid aan de start staat! Met een goed trainingsschema komt u een heel eind. Train bijvoorbeeld met start to run van Evy Gruyaert. Download de start to run mp3 bestanden en zet ze op uw telefoon. Oortjes in\, hit the play button en en rennen maar! \n\n\n\n\nMeer informatie over Jubileum Marathon 2012 op Hardloopkalender.nl  \nEr is een individuele marathon\, starttijd 11.00 u\, inschrijfgeld  12\,00  Er is een estafettemarathon\, te lopen met een team van 2\, 3\, 4\, 5 of 6 personen\, starttijd 11.15 u\, inschrijfgeld  6\,00 per persoon.  Alleen inschrijven via www.inschrijven.nl tot uiterlijk 21 oktober 2012  Info op www.fortuna67.nl of bij  Peter Hellings  peterhellings@planet.nl \n  \n  \n 
URL:https://hardloopevenementen.com/loopagenda/jubileum-marathon-2012-sint-oedenrode-nb/
END:VEVENT
BEGIN:VEVENT
DTSTART;VALUE=DATE:20121104
DTEND;VALUE=DATE:20121105
DTSTAMP:20260425T102730
CREATED:20160127T162056Z
LAST-MODIFIED:20190423T102809Z
UID:7428-1351987200-1351987200@hardloopevenementen.com
SUMMARY:Marathon van Rooi Sint-Oedenrode (NB)
DESCRIPTION:Doe mee met het hardloopevenement Marathon van Rooi te Sint-Oedenrode (NB) op zo 04 nov 2012. De volgende afstanden staan op het programma: marathon hardlopen. Wilt u inschrijven voor dit loopevenement?  Raadpleeg hiervoor dan de website van de organisatie\nDe uitslagen van deze hardloopwedstrijd zijn te raadplegen via dezelfde website of via de bekende websites zoals uitslagen.nl\, runtimer en mylaps. Doet u mee met dit evenement\, zorg dan dat u goed voorbereid aan de start staat! Met een goed trainingsschema komt u een heel eind. Train bijvoorbeeld met start to run van Evy Gruyaert. Download de start to run mp3 bestanden en zet ze op uw telefoon. Oortjes in\, hit the play button en en rennen maar! \n\n\n\n\nMeer informatie over Marathon van Rooi op Hardloopkalender.nl  \nNatuur marathon in de prachtige omgeving van Sint-Oedenrode en de bijbehorende kerkdorpen.    Marathon is ook te lopen in estafette vorm.     Voor meer informatie zie de website: www.fortuna67.nl     zie hieronder een impressie van het parcours:    http:  www.youtube.com watch?v=VjX44winI8g \n  \n  \n 
URL:https://hardloopevenementen.com/loopagenda/marathon-van-rooi-sint-oedenrode-nb/
END:VEVENT
END:VCALENDAR