BEGIN:VCALENDAR
VERSION:2.0
PRODID:-//Hardloopevenementen - ECPv6.15.14//NONSGML v1.0//EN
CALSCALE:GREGORIAN
METHOD:PUBLISH
X-WR-CALNAME:Hardloopevenementen
X-ORIGINAL-URL:https://hardloopevenementen.com
X-WR-CALDESC:Evenementen voor Hardloopevenementen
REFRESH-INTERVAL;VALUE=DURATION:PT1H
X-Robots-Tag:noindex
X-PUBLISHED-TTL:PT1H
BEGIN:VTIMEZONE
TZID:UTC
BEGIN:STANDARD
TZOFFSETFROM:+0000
TZOFFSETTO:+0000
TZNAME:UTC
DTSTART:20070101T000000
END:STANDARD
END:VTIMEZONE
BEGIN:VEVENT
DTSTART;VALUE=DATE:20080406
DTEND;VALUE=DATE:20080407
DTSTAMP:20260420T225247
CREATED:20140423T174915Z
LAST-MODIFIED:20190423T094811Z
UID:19916-1207440000-1207440000@hardloopevenementen.com
SUMMARY:Marathon van Steenbergen Steenbergen
DESCRIPTION:Doe mee met het hardloopevenement Marathon van Steenbergen te Steenbergen op zo 06 apr 2008. De volgende afstanden staan op het programma: marathon hardlopen. Wilt u inschrijven voor dit loopevenement?  Raadpleeg hiervoor dan de website van de organisatie\nDe uitslagen van deze hardloopwedstrijd zijn te raadplegen via dezelfde website of via de bekende websites zoals uitslagen.nl\, runtimer en mylaps. Doet u mee met dit evenement\, zorg dan dat u goed voorbereid aan de start staat! Met een goed trainingsschema komt u een heel eind. Train bijvoorbeeld met start to run van Evy Gruyaert. Download de start to run mp3 bestanden en zet ze op uw telefoon. Oortjes in\, hit the play button en en rennen maar! \n\n\n\n\nMeer informatie over Marathon van Steenbergen op Hardloopkalender.nl  \n42\,2 km 11:00 uur \n  \n  \n 
URL:https://hardloopevenementen.com/loopagenda/marathon-van-steenbergen-steenbergen/
END:VEVENT
END:VCALENDAR