BEGIN:VCALENDAR
VERSION:2.0
PRODID:-//Hardloopevenementen - ECPv6.15.14//NONSGML v1.0//EN
CALSCALE:GREGORIAN
METHOD:PUBLISH
X-WR-CALNAME:Hardloopevenementen
X-ORIGINAL-URL:https://hardloopevenementen.com
X-WR-CALDESC:Evenementen voor Hardloopevenementen
REFRESH-INTERVAL;VALUE=DURATION:PT1H
X-Robots-Tag:noindex
X-PUBLISHED-TTL:PT1H
BEGIN:VTIMEZONE
TZID:UTC
BEGIN:STANDARD
TZOFFSETFROM:+0000
TZOFFSETTO:+0000
TZNAME:UTC
DTSTART:20090101T000000
END:STANDARD
END:VTIMEZONE
BEGIN:VEVENT
DTSTART;VALUE=DATE:20101211
DTEND;VALUE=DATE:20101212
DTSTAMP:20260426T021400
CREATED:20110817T020045Z
LAST-MODIFIED:20190423T100559Z
UID:3124-1292025600-1292025600@hardloopevenementen.com
SUMMARY:Halve MarathonAv Fortuna Vlaardingen (ZH)
DESCRIPTION:Doe mee met het hardloopevenement Halve MarathonAv Fortuna te Vlaardingen (ZH) op za 11 dec 2010. De volgende afstanden staan op het programma: 5 km – 10 km – halve marathon hardlopen. Wilt u inschrijven voor dit loopevenement?  Raadpleeg hiervoor dan de website van de organisatie\nDe uitslagen van deze hardloopwedstrijd zijn te raadplegen via dezelfde website of via de bekende websites zoals uitslagen.nl\, runtimer en mylaps. Doet u mee met dit evenement\, zorg dan dat u goed voorbereid aan de start staat! Met een goed trainingsschema komt u een heel eind. Train bijvoorbeeld met start to run van Evy Gruyaert. Download de start to run mp3 bestanden en zet ze op uw telefoon. Oortjes in\, hit the play button en en rennen maar! \n\n\n\n\nMeer informatie over Halve MarathonAv Fortuna op Hardloopkalender.nl  \nInformatie PRESTATIELOOP    Zaterdag 11 december 2010    5\, 10 km. en halve marathon     Parcours     De door AV Fortuna Vlaardingen georganiseerde prestatielopen gaan over een verhard- en autovrij parcours. De start vindt plaats op de atletiekbaan van AV Fortuna aan de Watersportweg 11A in Vlaardingen en voert de atleten door het fraaie recreatiegebied De Broekpolder en Foppenpolder.  Routes: 5 km – 10 km – 21\,1 km – (Route in satellietbeeld zie www.avfortuna.nl)      Afstanden en kosten     Afstanden:  5\, 10\, en 21\,1km.    Voor- inschrijven:  Kan via internet: www.Inschrijvingen.nl  Na-inschrijven  Vanaf een uur voor de wedstrijd op het complex van av Fortuna Watersportweg 11A in Vlaardingen ingang ‘Polderpoort’.  Het inschrijfgeld voor de prestatielopen bedraagt voor niet leden:    5 km               –  2\,00 + eventueel  2\,00 voor de huurChip  10 en 21\,1 km   –  3\,00 + eventueel  2\,00 voor de huurChip \n  \n  \n 
URL:https://hardloopevenementen.com/loopagenda/halve-marathonav-fortuna-vlaardingen-zh/
END:VEVENT
END:VCALENDAR