BEGIN:VCALENDAR
VERSION:2.0
PRODID:-//Hardloopevenementen - ECPv6.15.14//NONSGML v1.0//EN
CALSCALE:GREGORIAN
METHOD:PUBLISH
X-ORIGINAL-URL:https://hardloopevenementen.com
X-WR-CALDESC:Evenementen voor Hardloopevenementen
REFRESH-INTERVAL;VALUE=DURATION:PT1H
X-Robots-Tag:noindex
X-PUBLISHED-TTL:PT1H
BEGIN:VTIMEZONE
TZID:UTC
BEGIN:STANDARD
TZOFFSETFROM:+0000
TZOFFSETTO:+0000
TZNAME:UTC
DTSTART:20190101T000000
END:STANDARD
END:VTIMEZONE
BEGIN:VEVENT
DTSTART;VALUE=DATE:20200315
DTEND;VALUE=DATE:20200316
DTSTAMP:20260425T150715
CREATED:20110124T192859Z
LAST-MODIFIED:20200206T111454Z
UID:145223-1584230400-1584230400@hardloopevenementen.com
SUMMARY:PAC Marathontrainingsloop 5 Rotterdam (ZH)
DESCRIPTION:Doe mee met het hardloopevenement PAC Marathontrainingsloop 5 te Rotterdam (ZH) op zo 15 mrt 2020. De volgende afstanden staan op het programma: 30 km – 35 km hardlopen. Wilt u inschrijven voor dit loopevenement?  Raadpleeg hiervoor dan de website van de organisatie\nDe uitslagen van deze hardloopwedstrijd zijn te raadplegen via dezelfde website of via de bekende websites zoals uitslagen.nl\, runtimer en mylaps. Doet u mee met dit evenement\, zorg dan dat u goed voorbereid aan de start staat! Met een goed trainingsschema komt u een heel eind. Train bijvoorbeeld met start to run van Evy Gruyaert. Download de start to run mp3 bestanden en zet ze op uw telefoon. Oortjes in\, hit the play button en en rennen maar! \n\n\n\n\nMeer informatie over PAC Marathontrainingsloop 5 op Hardloopkalender.nl  \n  \n  \n 
URL:https://hardloopevenementen.com/loopagenda/pac-marathontrainingsloop-5-rotterdam-zh/
END:VEVENT
BEGIN:VEVENT
DTSTART;VALUE=DATE:20200223
DTEND;VALUE=DATE:20200224
DTSTAMP:20260425T150715
CREATED:20090530T015410Z
LAST-MODIFIED:20200206T111514Z
UID:145302-1582416000-1582416000@hardloopevenementen.com
SUMMARY:PAC Marathontrainingsloop 4 Rotterdam (ZH)
DESCRIPTION:Doe mee met het hardloopevenement PAC Marathontrainingsloop 4 te Rotterdam (ZH) op zo 23 feb 2020. De volgende afstanden staan op het programma: 25 km – 30 km hardlopen. Wilt u inschrijven voor dit loopevenement?  Raadpleeg hiervoor dan de website van de organisatie\nDe uitslagen van deze hardloopwedstrijd zijn te raadplegen via dezelfde website of via de bekende websites zoals uitslagen.nl\, runtimer en mylaps. Doet u mee met dit evenement\, zorg dan dat u goed voorbereid aan de start staat! Met een goed trainingsschema komt u een heel eind. Train bijvoorbeeld met start to run van Evy Gruyaert. Download de start to run mp3 bestanden en zet ze op uw telefoon. Oortjes in\, hit the play button en en rennen maar! \n\n\n\n\nMeer informatie over PAC Marathontrainingsloop 4 op Hardloopkalender.nl  \n  \n  \n 
URL:https://hardloopevenementen.com/loopagenda/pac-marathontrainingsloop-4-rotterdam-zh/
END:VEVENT
BEGIN:VEVENT
DTSTART;VALUE=DATE:20200202
DTEND;VALUE=DATE:20200203
DTSTAMP:20260425T150715
CREATED:20140311T214901Z
LAST-MODIFIED:20200206T111534Z
UID:145395-1580601600-1580601600@hardloopevenementen.com
SUMMARY:PAC Marathontrainingsloop 3 Rotterdam (ZH)
DESCRIPTION:Doe mee met het hardloopevenement PAC Marathontrainingsloop 3 te Rotterdam (ZH) op zo 02 feb 2020. De volgende afstanden staan op het programma: 25 km hardlopen. Wilt u inschrijven voor dit loopevenement?  Raadpleeg hiervoor dan de website van de organisatie\nDe uitslagen van deze hardloopwedstrijd zijn te raadplegen via dezelfde website of via de bekende websites zoals uitslagen.nl\, runtimer en mylaps. Doet u mee met dit evenement\, zorg dan dat u goed voorbereid aan de start staat! Met een goed trainingsschema komt u een heel eind. Train bijvoorbeeld met start to run van Evy Gruyaert. Download de start to run mp3 bestanden en zet ze op uw telefoon. Oortjes in\, hit the play button en en rennen maar! \n\n\n\n\nMeer informatie over PAC Marathontrainingsloop 3 op Hardloopkalender.nl  \nPAC Rotterdamse Atletiekvereniging. PAC is de oudste atletiekvereniging van Nederland\, met meer dan 1700 leden en te vinden in het Rotterdamse Kralingse Bos. \n  \n  \n 
URL:https://hardloopevenementen.com/loopagenda/pac-marathontrainingsloop-3-rotterdam-zh/
END:VEVENT
BEGIN:VEVENT
DTSTART;VALUE=DATE:20200202
DTEND;VALUE=DATE:20200203
DTSTAMP:20260425T150715
CREATED:20130830T084056Z
LAST-MODIFIED:20200206T111531Z
UID:145379-1580601600-1580601600@hardloopevenementen.com
SUMMARY:Marathontrainingsloop 1e van 3 Maassluis (ZH)
DESCRIPTION:Doe mee met het hardloopevenement Marathontrainingsloop 1e van 3 te Maassluis (ZH) op zo 02 feb 2020. De volgende afstanden staan op het programma: 10 km – 17 km – 24 km – 30 km hardlopen. Wilt u inschrijven voor dit loopevenement?  Raadpleeg hiervoor dan de website van de organisatie\nDe uitslagen van deze hardloopwedstrijd zijn te raadplegen via dezelfde website of via de bekende websites zoals uitslagen.nl\, runtimer en mylaps. Doet u mee met dit evenement\, zorg dan dat u goed voorbereid aan de start staat! Met een goed trainingsschema komt u een heel eind. Train bijvoorbeeld met start to run van Evy Gruyaert. Download de start to run mp3 bestanden en zet ze op uw telefoon. Oortjes in\, hit the play button en en rennen maar! \n\n\n\n\nMeer informatie over Marathontrainingsloop 1e van 3 op Hardloopkalender.nl  \nKleinschalig evenement met clubhazen van 4.30 tot 6.30 min km     Deze wordt ook georganiseerd op 23 februari en 15 maart. \n  \n  \n 
URL:https://hardloopevenementen.com/loopagenda/marathontrainingsloop-1e-van-3-maassluis-zh/
END:VEVENT
BEGIN:VEVENT
DTSTART;VALUE=DATE:20200112
DTEND;VALUE=DATE:20200113
DTSTAMP:20260425T150715
CREATED:20081019T111119Z
LAST-MODIFIED:20200206T111557Z
UID:145489-1578787200-1578787200@hardloopevenementen.com
SUMMARY:PAC Marathontrainingsloop 2 Rotterdam (ZH)
DESCRIPTION:Doe mee met het hardloopevenement PAC Marathontrainingsloop 2 te Rotterdam (ZH) op zo 12 jan 2020. De volgende afstanden staan op het programma: 20 km – 25 km hardlopen. Wilt u inschrijven voor dit loopevenement?  Raadpleeg hiervoor dan de website van de organisatie\nDe uitslagen van deze hardloopwedstrijd zijn te raadplegen via dezelfde website of via de bekende websites zoals uitslagen.nl\, runtimer en mylaps. Doet u mee met dit evenement\, zorg dan dat u goed voorbereid aan de start staat! Met een goed trainingsschema komt u een heel eind. Train bijvoorbeeld met start to run van Evy Gruyaert. Download de start to run mp3 bestanden en zet ze op uw telefoon. Oortjes in\, hit the play button en en rennen maar! \n\n\n\n\nMeer informatie over PAC Marathontrainingsloop 2 op Hardloopkalender.nl  \n  \n  \n 
URL:https://hardloopevenementen.com/loopagenda/pac-marathontrainingsloop-2-rotterdam-zh/
END:VEVENT
END:VCALENDAR