BEGIN:VCALENDAR
VERSION:2.0
PRODID:-//Hardloopevenementen - ECPv6.15.14//NONSGML v1.0//EN
CALSCALE:GREGORIAN
METHOD:PUBLISH
X-ORIGINAL-URL:https://hardloopevenementen.com
X-WR-CALDESC:Evenementen voor Hardloopevenementen
REFRESH-INTERVAL;VALUE=DURATION:PT1H
X-Robots-Tag:noindex
X-PUBLISHED-TTL:PT1H
BEGIN:VTIMEZONE
TZID:UTC
BEGIN:STANDARD
TZOFFSETFROM:+0000
TZOFFSETTO:+0000
TZNAME:UTC
DTSTART:20090101T000000
END:STANDARD
END:VTIMEZONE
BEGIN:VEVENT
DTSTART;VALUE=DATE:20161001
DTEND;VALUE=DATE:20161002
DTSTAMP:20260426T013252
CREATED:20100125T100428Z
LAST-MODIFIED:20190423T112151Z
UID:11855-1475280000-1475280000@hardloopevenementen.com
SUMMARY:MarathonZeeland Zoutelande\, gemeente Veere (ZE)
DESCRIPTION:Doe mee met het hardloopevenement MarathonZeeland te Zoutelande\, gemeente Veere (ZE) op za 01 okt 2016. De volgende afstanden staan op het programma: marathon hardlopen. Wilt u inschrijven voor dit loopevenement?  Raadpleeg hiervoor dan de website van de organisatie\nDe uitslagen van deze hardloopwedstrijd zijn te raadplegen via dezelfde website of via de bekende websites zoals uitslagen.nl\, runtimer en mylaps. Doet u mee met dit evenement\, zorg dan dat u goed voorbereid aan de start staat! Met een goed trainingsschema komt u een heel eind. Train bijvoorbeeld met start to run van Evy Gruyaert. Download de start to run mp3 bestanden en zet ze op uw telefoon. Oortjes in\, hit the play button en en rennen maar! \n\n\n\n\nMeer informatie over MarathonZeeland op Hardloopkalender.nl  \nHet loopevenement MarathonZeeland te Burgh-Zoutelande vindt plaats op zaterdag 01 oktober 2016. \n  \n  \n 
URL:https://hardloopevenementen.com/loopagenda/marathonzeeland-zoutelande-gemeente-veere-ze-3/
END:VEVENT
BEGIN:VEVENT
DTSTART;VALUE=DATE:20141004
DTEND;VALUE=DATE:20141005
DTSTAMP:20260426T013252
CREATED:20121018T060605Z
LAST-MODIFIED:20190423T105057Z
UID:9021-1412380800-1412380800@hardloopevenementen.com
SUMMARY:MarathonZeeland Burgh\, gemeente Schouwen-Duiveland (ZE)
DESCRIPTION:Doe mee met het hardloopevenement MarathonZeeland te Burgh\, gemeente Schouwen-Duiveland (ZE) op za 04 okt 2014. De volgende afstanden staan op het programma: marathon hardlopen. Wilt u inschrijven voor dit loopevenement?  Raadpleeg hiervoor dan de website van de organisatie\nDe uitslagen van deze hardloopwedstrijd zijn te raadplegen via dezelfde website of via de bekende websites zoals uitslagen.nl\, runtimer en mylaps. Doet u mee met dit evenement\, zorg dan dat u goed voorbereid aan de start staat! Met een goed trainingsschema komt u een heel eind. Train bijvoorbeeld met start to run van Evy Gruyaert. Download de start to run mp3 bestanden en zet ze op uw telefoon. Oortjes in\, hit the play button en en rennen maar! \n\n\n\n\nMeer informatie over MarathonZeeland op Hardloopkalender.nl  \nHet loopevenement MarathonZeeland te Burgh-Zoutelande vindt plaats op zaterdag 04 oktober 2014. De loop wordt georganisseerd door Stichting Marathon Zeeland. Klik hier voor het adres van de start (Google Maps).Bijzonderheden: Voor alle finishers een unieke KUSTMARATHON herinnering en een medaille.. \n  \n  \n 
URL:https://hardloopevenementen.com/loopagenda/marathonzeeland-burgh-gemeente-schouwen-duiveland-ze-3/
END:VEVENT
BEGIN:VEVENT
DTSTART;VALUE=DATE:20131005
DTEND;VALUE=DATE:20131006
DTSTAMP:20260426T013252
CREATED:20100329T034202Z
LAST-MODIFIED:20190423T103933Z
UID:8366-1380931200-1380931200@hardloopevenementen.com
SUMMARY:MarathonZeeland Burgh\, gemeente Schouwen-Duiveland (ZE)
DESCRIPTION:Doe mee met het hardloopevenement MarathonZeeland te Burgh\, gemeente Schouwen-Duiveland (ZE) op za 05 okt 2013. De volgende afstanden staan op het programma: marathon hardlopen. Wilt u inschrijven voor dit loopevenement?  Raadpleeg hiervoor dan de website van de organisatie\nDe uitslagen van deze hardloopwedstrijd zijn te raadplegen via dezelfde website of via de bekende websites zoals uitslagen.nl\, runtimer en mylaps. Doet u mee met dit evenement\, zorg dan dat u goed voorbereid aan de start staat! Met een goed trainingsschema komt u een heel eind. Train bijvoorbeeld met start to run van Evy Gruyaert. Download de start to run mp3 bestanden en zet ze op uw telefoon. Oortjes in\, hit the play button en en rennen maar! \n\n\n\n\nMeer informatie over MarathonZeeland op Hardloopkalender.nl  \nHet loopevenement MarathonZeeland te Burgh-Zoutelande vindt plaats op zaterdag 05 oktober 2013. De loop wordt georganisseerd door Stichting Marathon Zeeland. Inschrijven is mogelijk vanaf 01 januari 2012. Klik hier voor het adres van de start (Google Maps).Er is verkleedaccomodatie met douchemogelijkheid aanwezig. Er is EHBO aanwezig. Bijzonderheden: Voor alle finishers een unieke KUSTMARATHON herinnering en een medaille..Voor meer informatie:L. Lievenseinfo@marathonzeeland.nl0118561473http:  www.marathonzeeland.nl \n  \n  \n 
URL:https://hardloopevenementen.com/loopagenda/marathonzeeland-burgh-gemeente-schouwen-duiveland-ze-2/
END:VEVENT
BEGIN:VEVENT
DTSTART;VALUE=DATE:20121007
DTEND;VALUE=DATE:20121008
DTSTAMP:20260426T013252
CREATED:20081015T205626Z
LAST-MODIFIED:20190423T102900Z
UID:7605-1349568000-1349568000@hardloopevenementen.com
SUMMARY:Wandel MarathonZeeland Zoutelande\, gemeente Veere (ZE)
DESCRIPTION:Doe mee met het hardloopevenement Wandel MarathonZeeland te Zoutelande\, gemeente Veere (ZE) op zo 07 okt 2012. De volgende afstanden staan op het programma: marathon hardlopen. Wilt u inschrijven voor dit loopevenement?  Raadpleeg hiervoor dan de website van de organisatie\nDe uitslagen van deze hardloopwedstrijd zijn te raadplegen via dezelfde website of via de bekende websites zoals uitslagen.nl\, runtimer en mylaps. Doet u mee met dit evenement\, zorg dan dat u goed voorbereid aan de start staat! Met een goed trainingsschema komt u een heel eind. Train bijvoorbeeld met start to run van Evy Gruyaert. Download de start to run mp3 bestanden en zet ze op uw telefoon. Oortjes in\, hit the play button en en rennen maar! \n\n\n\n\nMeer informatie over Wandel MarathonZeeland op Hardloopkalender.nl  \nHet loopevenement Wandel MarathonZeeland te Zoutelande vindt plaats op zondag 07 oktober 2012. De loop wordt georganiseerd door Stichting Marathon Zeeland. Inschrijven is mogelijk vanaf 01 januari 2012. Klik hier voor het adres van de start (Google Maps).Er is EHBO aanwezig. Afstand SoortloopInschrijfgeldStarttijdInfo42.195 km18\,0008.00Voor meer informatie:Piet Franckefrancke@planet.nl0618433891http:  www.marathonzeeland.nl \n  \n  \n 
URL:https://hardloopevenementen.com/loopagenda/wandel-marathonzeeland-zoutelande-gemeente-veere-ze/
END:VEVENT
BEGIN:VEVENT
DTSTART;VALUE=DATE:20121006
DTEND;VALUE=DATE:20121007
DTSTAMP:20260426T013252
CREATED:20150215T193817Z
LAST-MODIFIED:20190423T102905Z
UID:7629-1349481600-1349481600@hardloopevenementen.com
SUMMARY:Mini MarathonZeeland Zoutelande\, gemeente Veere (ZE)
DESCRIPTION:Doe mee met het hardloopevenement Mini MarathonZeeland te Zoutelande\, gemeente Veere (ZE) op za 06 okt 2012. De volgende afstanden staan op het programma: 1050 km hardlopen. Wilt u inschrijven voor dit loopevenement?  Raadpleeg hiervoor dan de website van de organisatie\nDe uitslagen van deze hardloopwedstrijd zijn te raadplegen via dezelfde website of via de bekende websites zoals uitslagen.nl\, runtimer en mylaps. Doet u mee met dit evenement\, zorg dan dat u goed voorbereid aan de start staat! Met een goed trainingsschema komt u een heel eind. Train bijvoorbeeld met start to run van Evy Gruyaert. Download de start to run mp3 bestanden en zet ze op uw telefoon. Oortjes in\, hit the play button en en rennen maar! \n\n\n\n\nMeer informatie over Mini MarathonZeeland op Hardloopkalender.nl  \nHet loopevenement Mini MarathonZeeland te Zoutelande vindt plaats op zaterdag 06 oktober 2012. De loop wordt georganiseerd door Stichting Marathon Zeeland. Inschrijven is mogelijk vanaf 01 januari 2012. Klik hier voor het adres van de start (Google Maps).Er is EHBO aanwezig. Bijzonderheden: Minimarathon voor de jeugd. afstand 4200 kwart meters. Deelaname gratis..Afstand SoortloopInschrijfgeldStarttijdInfo42.195 km37\,5012.00Voor meer informatie:Wibo Verstraateweweve@zeelandnet.nl0622806517http:  www.marathonzeeland.nl \n  \n  \n 
URL:https://hardloopevenementen.com/loopagenda/mini-marathonzeeland-zoutelande-gemeente-veere-ze/
END:VEVENT
BEGIN:VEVENT
DTSTART;VALUE=DATE:20121006
DTEND;VALUE=DATE:20121007
DTSTAMP:20260426T013252
CREATED:20141217T092259Z
LAST-MODIFIED:20190423T102904Z
UID:7624-1349481600-1349481600@hardloopevenementen.com
SUMMARY:MarathonZeeland Zoutelande\, gemeente Veere (ZE)
DESCRIPTION:Doe mee met het hardloopevenement MarathonZeeland te Zoutelande\, gemeente Veere (ZE) op za 06 okt 2012. De volgende afstanden staan op het programma: marathon hardlopen. Wilt u inschrijven voor dit loopevenement?  Raadpleeg hiervoor dan de website van de organisatie\nDe uitslagen van deze hardloopwedstrijd zijn te raadplegen via dezelfde website of via de bekende websites zoals uitslagen.nl\, runtimer en mylaps. Doet u mee met dit evenement\, zorg dan dat u goed voorbereid aan de start staat! Met een goed trainingsschema komt u een heel eind. Train bijvoorbeeld met start to run van Evy Gruyaert. Download de start to run mp3 bestanden en zet ze op uw telefoon. Oortjes in\, hit the play button en en rennen maar! \n\n\n\n\nMeer informatie over MarathonZeeland op Hardloopkalender.nl  \nHet loopevenement MarathonZeeland te Zoutelande vindt plaats op zaterdag 06 oktober 2012. De loop wordt georganiseerd door Stichting Marathon Zeeland. Inschrijven is mogelijk vanaf 01 januari 2012. Klik hier voor het adres van de start (Google Maps).Er is EHBO aanwezig. Afstand SoortloopInschrijfgeldStarttijdInfo42.195 km37\,5012.00Voor meer informatie:L. Lievenseinfo@marathonzeeland.nl0651179872http:  www.marathonzeeland.nl \n  \n  \n 
URL:https://hardloopevenementen.com/loopagenda/marathonzeeland-zoutelande-gemeente-veere-ze-2/
END:VEVENT
BEGIN:VEVENT
DTSTART;VALUE=DATE:20121005
DTEND;VALUE=DATE:20121006
DTSTAMP:20260426T013252
CREATED:20160219T122653Z
LAST-MODIFIED:20190423T102907Z
UID:7633-1349395200-1349395200@hardloopevenementen.com
SUMMARY:LADIES Run MarathonZeeland Zoutelande\, gemeente Veere (ZE)
DESCRIPTION:Doe mee met het hardloopevenement LADIES Run MarathonZeeland te Zoutelande\, gemeente Veere (ZE) op vr 05 okt 2012. De volgende afstanden staan op het programma: 5 km – 10 km hardlopen. Wilt u inschrijven voor dit loopevenement?  Raadpleeg hiervoor dan de website van de organisatie\nDe uitslagen van deze hardloopwedstrijd zijn te raadplegen via dezelfde website of via de bekende websites zoals uitslagen.nl\, runtimer en mylaps. Doet u mee met dit evenement\, zorg dan dat u goed voorbereid aan de start staat! Met een goed trainingsschema komt u een heel eind. Train bijvoorbeeld met start to run van Evy Gruyaert. Download de start to run mp3 bestanden en zet ze op uw telefoon. Oortjes in\, hit the play button en en rennen maar! \n\n\n\n\nMeer informatie over LADIES Run MarathonZeeland op Hardloopkalender.nl  \nHet loopevenement LADIES Run MarathonZeeland te Zoutelande vindt plaats op vrijdag 05 oktober 2012. De loop wordt georganiseerd door Stichting Marathon Zeeland. Inschrijven is mogelijk vanaf 01 januari 2012. Klik hier voor het adres van de start (Google Maps).Er is EHBO aanwezig. Bijzonderheden: Maximaal aantal deelneemsters 1000.Afstand SoortloopInschrijfgeldStarttijdInfo5 km8\,5018.0010 km11\,0018.00Voor meer informatie:Igna Becksrijke06@zeelandnet.nl0681379949 \n  \n  \n 
URL:https://hardloopevenementen.com/loopagenda/ladies-run-marathonzeeland-zoutelande-gemeente-veere-ze/
END:VEVENT
BEGIN:VEVENT
DTSTART;VALUE=DATE:20111001
DTEND;VALUE=DATE:20111002
DTSTAMP:20260426T013252
CREATED:20080717T082135Z
LAST-MODIFIED:20190423T101826Z
UID:6243-1317427200-1317427200@hardloopevenementen.com
SUMMARY:MarathonZeeland Burgh\, gemeente Schouwen-Duiveland (ZE)
DESCRIPTION:Doe mee met het hardloopevenement MarathonZeeland te Burgh\, gemeente Schouwen-Duiveland (ZE) op za 01 okt 2011. De volgende afstanden staan op het programma: marathon hardlopen. Wilt u inschrijven voor dit loopevenement?  Raadpleeg hiervoor dan de website van de organisatie\nDe uitslagen van deze hardloopwedstrijd zijn te raadplegen via dezelfde website of via de bekende websites zoals uitslagen.nl\, runtimer en mylaps. Doet u mee met dit evenement\, zorg dan dat u goed voorbereid aan de start staat! Met een goed trainingsschema komt u een heel eind. Train bijvoorbeeld met start to run van Evy Gruyaert. Download de start to run mp3 bestanden en zet ze op uw telefoon. Oortjes in\, hit the play button en en rennen maar! \n\n\n\n\nMeer informatie over MarathonZeeland op Hardloopkalender.nl  \nHet loopevenement MarathonZeeland te Burgh-Zoutelande vindt plaats op zaterdag 01 oktober 2011. De loop wordt georganiseerd door Stichting Marathon Zeeland. Inschrijven is mogelijk vanaf 01 januari 2011. Klik hier voor het adres van de start (Google Maps).Er is verkleedaccomodatie met douchemogelijkheid aanwezig. Er is EHBO aanwezig. Bijzonderheden: Voor alle finishers het unieke Kustmarathon T-shirt en een medaille.Afstand(km)Inschrijfgeld()Starttijd42.19535\,0012.00Voor meer informatie:L. Lievenseinfo@marathonzeeland.nl0118561473http:  www.marathonzeeland.nl \n  \n  \n 
URL:https://hardloopevenementen.com/loopagenda/marathonzeeland-burgh-gemeente-schouwen-duiveland-ze/
END:VEVENT
BEGIN:VEVENT
DTSTART;VALUE=DATE:20101002
DTEND;VALUE=DATE:20101003
DTSTAMP:20260426T013252
CREATED:20110621T002846Z
LAST-MODIFIED:20190423T100816Z
UID:3523-1285977600-1285977600@hardloopevenementen.com
SUMMARY:MarathonZeeland Zoutelande\, gemeente Veere (ZE)
DESCRIPTION:Doe mee met het hardloopevenement MarathonZeeland te Zoutelande\, gemeente Veere (ZE) op za 02 okt 2010. De volgende afstanden staan op het programma: marathon hardlopen. Wilt u inschrijven voor dit loopevenement?  Raadpleeg hiervoor dan de website van de organisatie\nDe uitslagen van deze hardloopwedstrijd zijn te raadplegen via dezelfde website of via de bekende websites zoals uitslagen.nl\, runtimer en mylaps. Doet u mee met dit evenement\, zorg dan dat u goed voorbereid aan de start staat! Met een goed trainingsschema komt u een heel eind. Train bijvoorbeeld met start to run van Evy Gruyaert. Download de start to run mp3 bestanden en zet ze op uw telefoon. Oortjes in\, hit the play button en en rennen maar! \n\n\n\n\nMeer informatie over MarathonZeeland op Hardloopkalender.nl  \nDit loopevenement wordt georganiseerd door Stichting Marathon Zeeland.De eerste afstand (of onderdeel) start om 12:00.Het adres van de start is Kerkstraat26 Het adres van de finish is Langstraat 1Categorie(ën): mannen\, vrouwenVooraf inschrijven is mogelijk vanaf 01 januari 2010 tot niet van toepassing.Inschrijven op de dag van de loop is mogelijk (vanaf 12.30) op dit adres: Sportlaan 6 – AAV 36 Atletiekbaan.Meer informatie:Contactpersoon: L. LievenseTel.: 0118561473Email: info@marathonzeeland.nlEr is een kleedaccomodatie aanwezig. Douchen is mogelijk.Het parcours is deels onverhard.Overige bijzonderheden:  Voor alle finishers het unieke Kustmarathon T-shirt en een medaille \n  \n  \n 
URL:https://hardloopevenementen.com/loopagenda/marathonzeeland-zoutelande-gemeente-veere-ze/
END:VEVENT
END:VCALENDAR