BEGIN:VCALENDAR
VERSION:2.0
PRODID:-//Hardloopevenementen - ECPv6.15.14//NONSGML v1.0//EN
CALSCALE:GREGORIAN
METHOD:PUBLISH
X-ORIGINAL-URL:https://hardloopevenementen.com
X-WR-CALDESC:Evenementen voor Hardloopevenementen
REFRESH-INTERVAL;VALUE=DURATION:PT1H
X-Robots-Tag:noindex
X-PUBLISHED-TTL:PT1H
BEGIN:VTIMEZONE
TZID:UTC
BEGIN:STANDARD
TZOFFSETFROM:+0000
TZOFFSETTO:+0000
TZNAME:UTC
DTSTART:20060101T000000
END:STANDARD
END:VTIMEZONE
BEGIN:VEVENT
DTSTART;VALUE=DATE:20190519
DTEND;VALUE=DATE:20190520
DTSTAMP:20260422T025015
CREATED:20120419T004904Z
LAST-MODIFIED:20191114T112628Z
UID:43687-1558224000-1558224000@hardloopevenementen.com
SUMMARY:Marikenloop Nijmegen (GE)
DESCRIPTION:Doe mee met het hardloopevenement Marikenloop te Nijmegen (GE) op zo 19 mei 2019. De volgende afstanden staan op het programma: 5 km – 7\,5 km – 10 km hardlopen. Wilt u inschrijven voor dit loopevenement?  Raadpleeg hiervoor dan de website van de organisatie\nDe uitslagen van deze hardloopwedstrijd zijn te raadplegen via dezelfde website of via de bekende websites zoals uitslagen.nl\, runtimer en mylaps. Doet u mee met dit evenement\, zorg dan dat u goed voorbereid aan de start staat! Met een goed trainingsschema komt u een heel eind. Train bijvoorbeeld met start to run van Evy Gruyaert. Download de start to run mp3 bestanden en zet ze op uw telefoon. Oortjes in\, hit the play button en en rennen maar! \n\n\n\n\nMeer informatie over Marikenloop op Hardloopkalender.nl  \n  \n  \n 
URL:https://hardloopevenementen.com/loopagenda/marikenloop-nijmegen-ge-11/
END:VEVENT
BEGIN:VEVENT
DTSTART;VALUE=DATE:20190518
DTEND;VALUE=DATE:20190519
DTSTAMP:20260422T025015
CREATED:20150120T040150Z
LAST-MODIFIED:20191114T112634Z
UID:84213-1558137600-1558137600@hardloopevenementen.com
SUMMARY:Trail edition Marikenloop Nijmegen (GE)
DESCRIPTION:Doe mee met het hardloopevenement Trail edition Marikenloop te Nijmegen (GE) op za 18 mei 2019. De volgende afstanden staan op het programma: 7 km – 12 km – 18 km – 25 km hardlopen. Wilt u inschrijven voor dit loopevenement?  Raadpleeg hiervoor dan de website van de organisatie\nDe uitslagen van deze hardloopwedstrijd zijn te raadplegen via dezelfde website of via de bekende websites zoals uitslagen.nl\, runtimer en mylaps. Doet u mee met dit evenement\, zorg dan dat u goed voorbereid aan de start staat! Met een goed trainingsschema komt u een heel eind. Train bijvoorbeeld met start to run van Evy Gruyaert. Download de start to run mp3 bestanden en zet ze op uw telefoon. Oortjes in\, hit the play button en en rennen maar! \n\n\n\n\nMeer informatie over Trail edition Marikenloop op Hardloopkalender.nl  \n  \n  \n 
URL:https://hardloopevenementen.com/loopagenda/trail-edition-marikenloop-nijmegen-ge/
END:VEVENT
BEGIN:VEVENT
DTSTART;VALUE=DATE:20180527
DTEND;VALUE=DATE:20180528
DTSTAMP:20260422T025015
CREATED:20111027T044844Z
LAST-MODIFIED:20190423T120446Z
UID:16526-1527379200-1527379200@hardloopevenementen.com
SUMMARY:Marikenloop Nijmegen (GE)
DESCRIPTION:Doe mee met het hardloopevenement Marikenloop te Nijmegen (GE) op zo 27 mei 2018. De volgende afstanden staan op het programma: 5 km – 7\,5 km – 10 km hardlopen. Wilt u inschrijven voor dit loopevenement?  Raadpleeg hiervoor dan de website van de organisatie\nDe uitslagen van deze hardloopwedstrijd zijn te raadplegen via dezelfde website of via de bekende websites zoals uitslagen.nl\, runtimer en mylaps. Doet u mee met dit evenement\, zorg dan dat u goed voorbereid aan de start staat! Met een goed trainingsschema komt u een heel eind. Train bijvoorbeeld met start to run van Evy Gruyaert. Download de start to run mp3 bestanden en zet ze op uw telefoon. Oortjes in\, hit the play button en en rennen maar! \n\n\n\n\nMeer informatie over Marikenloop op Hardloopkalender.nl  \n  \n  \n 
URL:https://hardloopevenementen.com/loopagenda/marikenloop-nijmegen-ge-6/
END:VEVENT
BEGIN:VEVENT
DTSTART;VALUE=DATE:20170521
DTEND;VALUE=DATE:20170522
DTSTAMP:20260422T025015
CREATED:20140315T233253Z
LAST-MODIFIED:20190423T114617Z
UID:14712-1495324800-1495324800@hardloopevenementen.com
SUMMARY:Marikenloop Nijmegen (GE)
DESCRIPTION:Doe mee met het hardloopevenement Marikenloop te Nijmegen (GE) op zo 21 mei 2017. De volgende afstanden staan op het programma: 5 km – 7\,5 km – 10 km hardlopen. Wilt u inschrijven voor dit loopevenement?  Raadpleeg hiervoor dan de website van de organisatie\nDe uitslagen van deze hardloopwedstrijd zijn te raadplegen via dezelfde website of via de bekende websites zoals uitslagen.nl\, runtimer en mylaps. Doet u mee met dit evenement\, zorg dan dat u goed voorbereid aan de start staat! Met een goed trainingsschema komt u een heel eind. Train bijvoorbeeld met start to run van Evy Gruyaert. Download de start to run mp3 bestanden en zet ze op uw telefoon. Oortjes in\, hit the play button en en rennen maar! \n\n\n\n\nMeer informatie over Marikenloop op Hardloopkalender.nl  \n  \n  \n 
URL:https://hardloopevenementen.com/loopagenda/marikenloop-nijmegen-ge-5/
END:VEVENT
BEGIN:VEVENT
DTSTART;VALUE=DATE:20160522
DTEND;VALUE=DATE:20160523
DTSTAMP:20260422T025015
CREATED:20161023T063544Z
LAST-MODIFIED:20190423T112508Z
UID:12722-1463875200-1463875200@hardloopevenementen.com
SUMMARY:Marikenloop Nijmegen (GE)
DESCRIPTION:Doe mee met het hardloopevenement Marikenloop te Nijmegen (GE) op zo 22 mei 2016. De volgende afstanden staan op het programma: 5 km – 10 km hardlopen. Wilt u inschrijven voor dit loopevenement?  Raadpleeg hiervoor dan de website van de organisatie\nDe uitslagen van deze hardloopwedstrijd zijn te raadplegen via dezelfde website of via de bekende websites zoals uitslagen.nl\, runtimer en mylaps. Doet u mee met dit evenement\, zorg dan dat u goed voorbereid aan de start staat! Met een goed trainingsschema komt u een heel eind. Train bijvoorbeeld met start to run van Evy Gruyaert. Download de start to run mp3 bestanden en zet ze op uw telefoon. Oortjes in\, hit the play button en en rennen maar! \n\n\n\n\nMeer informatie over Marikenloop op Hardloopkalender.nl  \nHet loopevenement Marikenloop te Nijmegen vindt plaats op zondag 22 mei 2016. \n  \n  \n 
URL:https://hardloopevenementen.com/loopagenda/marikenloop-nijmegen-ge-4/
END:VEVENT
BEGIN:VEVENT
DTSTART;VALUE=DATE:20150517
DTEND;VALUE=DATE:20150518
DTSTAMP:20260422T025015
CREATED:20130116T213857Z
LAST-MODIFIED:20190423T111217Z
UID:10466-1431820800-1431820800@hardloopevenementen.com
SUMMARY:Marikenloop Nijmegen (GE)
DESCRIPTION:Doe mee met het hardloopevenement Marikenloop te Nijmegen (GE) op zo 17 mei 2015. De volgende afstanden staan op het programma: 5 km – 10 km hardlopen. Wilt u inschrijven voor dit loopevenement?  Raadpleeg hiervoor dan de website van de organisatie\nDe uitslagen van deze hardloopwedstrijd zijn te raadplegen via dezelfde website of via de bekende websites zoals uitslagen.nl\, runtimer en mylaps. Doet u mee met dit evenement\, zorg dan dat u goed voorbereid aan de start staat! Met een goed trainingsschema komt u een heel eind. Train bijvoorbeeld met start to run van Evy Gruyaert. Download de start to run mp3 bestanden en zet ze op uw telefoon. Oortjes in\, hit the play button en en rennen maar! \n\n\n\n\nMeer informatie over Marikenloop op Hardloopkalender.nl  \nHet loopevenement Marikenloop te Nijmegen vindt plaats op zondag 17 mei 2015. \n  \n  \n 
URL:https://hardloopevenementen.com/loopagenda/marikenloop-nijmegen-ge-3/
END:VEVENT
BEGIN:VEVENT
DTSTART;VALUE=DATE:20140518
DTEND;VALUE=DATE:20140519
DTSTAMP:20260422T025015
CREATED:20100703T073958Z
LAST-MODIFIED:20190423T105515Z
UID:34071-1400371200-1400371200@hardloopevenementen.com
SUMMARY:Marikenloop Nijmegen (GE)
DESCRIPTION:Doe mee met het hardloopevenement Marikenloop te Nijmegen (GE) op zo 18 mei 2014. De volgende afstanden staan op het programma: 5 km – 10 km hardlopen. Wilt u inschrijven voor dit loopevenement?  Raadpleeg hiervoor dan de website van de organisatie\nDe uitslagen van deze hardloopwedstrijd zijn te raadplegen via dezelfde website of via de bekende websites zoals uitslagen.nl\, runtimer en mylaps. Doet u mee met dit evenement\, zorg dan dat u goed voorbereid aan de start staat! Met een goed trainingsschema komt u een heel eind. Train bijvoorbeeld met start to run van Evy Gruyaert. Download de start to run mp3 bestanden en zet ze op uw telefoon. Oortjes in\, hit the play button en en rennen maar! \n\n\n\n\nMeer informatie over Marikenloop op Hardloopkalender.nl  \nHet loopevenement Marikenloop te Nijmegen vindt plaats op zondag 18 mei 2014. De loop wordt georganisseerd door Stichting Zevenheuvelenloop. Klik hier voor het adres van de start (Google Maps). \n  \n  \n 
URL:https://hardloopevenementen.com/loopagenda/marikenloop-nijmegen-ge-10/
END:VEVENT
BEGIN:VEVENT
DTSTART;VALUE=DATE:20130526
DTEND;VALUE=DATE:20130527
DTSTAMP:20260422T025015
CREATED:20120807T052527Z
LAST-MODIFIED:20190423T104235Z
UID:31691-1369526400-1369526400@hardloopevenementen.com
SUMMARY:Marikenloop Nijmegen (GE)
DESCRIPTION:Doe mee met het hardloopevenement Marikenloop te Nijmegen (GE) op zo 26 mei 2013. De volgende afstanden staan op het programma: 5 km – 10 km hardlopen. Wilt u inschrijven voor dit loopevenement?  Raadpleeg hiervoor dan de website van de organisatie\nDe uitslagen van deze hardloopwedstrijd zijn te raadplegen via dezelfde website of via de bekende websites zoals uitslagen.nl\, runtimer en mylaps. Doet u mee met dit evenement\, zorg dan dat u goed voorbereid aan de start staat! Met een goed trainingsschema komt u een heel eind. Train bijvoorbeeld met start to run van Evy Gruyaert. Download de start to run mp3 bestanden en zet ze op uw telefoon. Oortjes in\, hit the play button en en rennen maar! \n\n\n\n\nMeer informatie over Marikenloop op Hardloopkalender.nl  \n  \n  \n 
URL:https://hardloopevenementen.com/loopagenda/marikenloop-nijmegen-ge-9/
END:VEVENT
BEGIN:VEVENT
DTSTART;VALUE=DATE:20120520
DTEND;VALUE=DATE:20120521
DTSTAMP:20260422T025015
CREATED:20170315T233120Z
LAST-MODIFIED:20190423T103219Z
UID:28343-1337472000-1337472000@hardloopevenementen.com
SUMMARY:Marikenloop Nijmegen (GE)
DESCRIPTION:Doe mee met het hardloopevenement Marikenloop te Nijmegen (GE) op zo 20 mei 2012. De volgende afstanden staan op het programma: 5 km – 10 km hardlopen. Wilt u inschrijven voor dit loopevenement?  Raadpleeg hiervoor dan de website van de organisatie\nDe uitslagen van deze hardloopwedstrijd zijn te raadplegen via dezelfde website of via de bekende websites zoals uitslagen.nl\, runtimer en mylaps. Doet u mee met dit evenement\, zorg dan dat u goed voorbereid aan de start staat! Met een goed trainingsschema komt u een heel eind. Train bijvoorbeeld met start to run van Evy Gruyaert. Download de start to run mp3 bestanden en zet ze op uw telefoon. Oortjes in\, hit the play button en en rennen maar! \n\n\n\n\nMeer informatie over Marikenloop op Hardloopkalender.nl  \nHet loopevenement Marikenloop te Nijmegen vindt plaats op zondag 20 mei 2012. De loop wordt georganiseerd door Stichting Zevenheuvelenloop. Inschrijven is mogelijk vanaf 01 januari 2008. Klik hier voor het adres van de start (Google Maps).Er is EHBO aanwezig. Afstand SoortloopInschrijfgeldStarttijdInfo5 km13\,5013.00uur10 km13\,5014.15uurVoor meer informatie:Joan Merxinfo@marikenloop.nl0243792397http:  www.marikenloop.nl \n  \n  \n 
URL:https://hardloopevenementen.com/loopagenda/marikenloop-nijmegen-ge-8/
END:VEVENT
BEGIN:VEVENT
DTSTART;VALUE=DATE:20110515
DTEND;VALUE=DATE:20110516
DTSTAMP:20260422T025015
CREATED:20120922T104349Z
LAST-MODIFIED:20190423T102139Z
UID:6988-1305417600-1305417600@hardloopevenementen.com
SUMMARY:Marikenloop Nijmegen (GE)
DESCRIPTION:Doe mee met het hardloopevenement Marikenloop te Nijmegen (GE) op zo 15 mei 2011. De volgende afstanden staan op het programma: 5 km – 10 km hardlopen. Wilt u inschrijven voor dit loopevenement?  Raadpleeg hiervoor dan de website van de organisatie\nDe uitslagen van deze hardloopwedstrijd zijn te raadplegen via dezelfde website of via de bekende websites zoals uitslagen.nl\, runtimer en mylaps. Doet u mee met dit evenement\, zorg dan dat u goed voorbereid aan de start staat! Met een goed trainingsschema komt u een heel eind. Train bijvoorbeeld met start to run van Evy Gruyaert. Download de start to run mp3 bestanden en zet ze op uw telefoon. Oortjes in\, hit the play button en en rennen maar! \n\n\n\n\nMeer informatie over Marikenloop op Hardloopkalender.nl  \nHet loopevenement Marikenloop te Nijmegen vindt plaats op zondag 15 mei 2011. De loop wordt georganiseerd door Stichting Zevenheuvelenloop. Inschrijven is mogelijk vanaf 12 januari 2011. Klik hier voor het adres van de start (Google Maps).Er is verkleedaccomodatie met douchemogelijkheid aanwezig. Er is EHBO aanwezig. Afstand(km)Inschrijfgeld(€)Starttijd5km€13\,5013.00uur10KM€13\,5014.00UURVoor meer informatie:Joan Merxinfo@marikenloop.nl0243792397http:  www.marikenloop.nl \n  \n  \n 
URL:https://hardloopevenementen.com/loopagenda/marikenloop-nijmegen-ge-2/
END:VEVENT
BEGIN:VEVENT
DTSTART;VALUE=DATE:20100516
DTEND;VALUE=DATE:20100517
DTSTAMP:20260422T025015
CREATED:20120913T123048Z
LAST-MODIFIED:20190423T101150Z
UID:23463-1273968000-1273968000@hardloopevenementen.com
SUMMARY:Marikenloop Nijmegen (GE)
DESCRIPTION:Doe mee met het hardloopevenement Marikenloop te Nijmegen (GE) op zo 16 mei 2010. De volgende afstanden staan op het programma: 5 km – 10 km hardlopen. Wilt u inschrijven voor dit loopevenement?  Raadpleeg hiervoor dan de website van de organisatie\nDe uitslagen van deze hardloopwedstrijd zijn te raadplegen via dezelfde website of via de bekende websites zoals uitslagen.nl\, runtimer en mylaps. Doet u mee met dit evenement\, zorg dan dat u goed voorbereid aan de start staat! Met een goed trainingsschema komt u een heel eind. Train bijvoorbeeld met start to run van Evy Gruyaert. Download de start to run mp3 bestanden en zet ze op uw telefoon. Oortjes in\, hit the play button en en rennen maar! \n\n\n\n\nMeer informatie over Marikenloop op Hardloopkalender.nl  \nDit loopevenement wordt georganiseerd door Stichting Zevenheuvelenloop.De eerste afstand (of onderdeel) start om 13:00.Het adres van de start is Kwekerijweg (t.h.v.)13 Het adres van de finish is Heyendaalseweg (t.h.v) 141Categorie(ën): vrouwenVooraf inschrijven is mogelijk vanaf 08 september 2009 tot 08 september 2009.Inschrijven op de dag van de loop is mogelijk (vanaf 09:45 uur) op dit adres: Sporthal De Lunet  Amersfoortsestraatwg 16  1411 HDNaarden.Meer informatie:Contactpersoon: Joan MerxTel.: 0243792397Email: joan.merx@zevenheuvelenloop.nlEr is een kleedaccomodatie aanwezig. Douchen is niet mogelijk.Het parcours is deels onverhard.Vorig jaar deden er 7671 lopers mee aan dit evenement.Overige bijzonderheden:  Finish onder de historische Utrechtse Poort. \n  \n  \n 
URL:https://hardloopevenementen.com/loopagenda/marikenloop-nijmegen-ge-7/
END:VEVENT
BEGIN:VEVENT
DTSTART;VALUE=DATE:20090517
DTEND;VALUE=DATE:20090518
DTSTAMP:20260422T025015
CREATED:20131024T075628Z
LAST-MODIFIED:20190423T100121Z
UID:2313-1242518400-1242518400@hardloopevenementen.com
SUMMARY:Marikenloop Nijmegen (GE)
DESCRIPTION:Doe mee met het hardloopevenement Marikenloop te Nijmegen (GE) op zo 17 mei 2009. De volgende afstanden staan op het programma: 5 km – 10 km hardlopen. Wilt u inschrijven voor dit loopevenement?  Raadpleeg hiervoor dan de website van de organisatie\nDe uitslagen van deze hardloopwedstrijd zijn te raadplegen via dezelfde website of via de bekende websites zoals uitslagen.nl\, runtimer en mylaps. Doet u mee met dit evenement\, zorg dan dat u goed voorbereid aan de start staat! Met een goed trainingsschema komt u een heel eind. Train bijvoorbeeld met start to run van Evy Gruyaert. Download de start to run mp3 bestanden en zet ze op uw telefoon. Oortjes in\, hit the play button en en rennen maar! \n\n\n\n\nMeer informatie over Marikenloop op Hardloopkalender.nl  \nEen loop voor alleen vrouwen. \n  \n  \n 
URL:https://hardloopevenementen.com/loopagenda/marikenloop-nijmegen-ge/
END:VEVENT
BEGIN:VEVENT
DTSTART;VALUE=DATE:20080518
DTEND;VALUE=DATE:20080519
DTSTAMP:20260422T025015
CREATED:20170411T235530Z
LAST-MODIFIED:20190423T094719Z
UID:19683-1211068800-1211068800@hardloopevenementen.com
SUMMARY:Marikenloop Nijmegen
DESCRIPTION:Doe mee met het hardloopevenement Marikenloop te Nijmegen op zo 18 mei 2008. De volgende afstanden staan op het programma: 5 km – 10 km hardlopen. Wilt u inschrijven voor dit loopevenement?  Raadpleeg hiervoor dan de website van de organisatie\nDe uitslagen van deze hardloopwedstrijd zijn te raadplegen via dezelfde website of via de bekende websites zoals uitslagen.nl\, runtimer en mylaps. Doet u mee met dit evenement\, zorg dan dat u goed voorbereid aan de start staat! Met een goed trainingsschema komt u een heel eind. Train bijvoorbeeld met start to run van Evy Gruyaert. Download de start to run mp3 bestanden en zet ze op uw telefoon. Oortjes in\, hit the play button en en rennen maar! \n\n\n\n\nMeer informatie over Marikenloop op Hardloopkalender.nl  \n5 km 13:00 uur\, 10 km 14:00 uur  Alleen voor vrouwen. \n  \n  \n 
URL:https://hardloopevenementen.com/loopagenda/marikenloop-nijmegen-2/
END:VEVENT
BEGIN:VEVENT
DTSTART;VALUE=DATE:20070520
DTEND;VALUE=DATE:20070521
DTSTAMP:20260422T025015
CREATED:20080919T073159Z
LAST-MODIFIED:20190423T093955Z
UID:524-1179619200-1179619200@hardloopevenementen.com
SUMMARY:Marikenloop Nijmegen
DESCRIPTION:Doe mee met het hardloopevenement Marikenloop te Nijmegen op zo 20 mei 2007. De volgende afstanden staan op het programma: 5 km – 10 km hardlopen. Wilt u inschrijven voor dit loopevenement?  Raadpleeg hiervoor dan de website van de organisatie\nDe uitslagen van deze hardloopwedstrijd zijn te raadplegen via dezelfde website of via de bekende websites zoals uitslagen.nl\, runtimer en mylaps. Doet u mee met dit evenement\, zorg dan dat u goed voorbereid aan de start staat! Met een goed trainingsschema komt u een heel eind. Train bijvoorbeeld met start to run van Evy Gruyaert. Download de start to run mp3 bestanden en zet ze op uw telefoon. Oortjes in\, hit the play button en en rennen maar! \n\n\n\n\nMeer informatie over Marikenloop op Hardloopkalender.nl  \n  \n  \n 
URL:https://hardloopevenementen.com/loopagenda/marikenloop-nijmegen/
END:VEVENT
END:VCALENDAR