BEGIN:VCALENDAR
VERSION:2.0
PRODID:-//Hardloopevenementen - ECPv6.15.14//NONSGML v1.0//EN
CALSCALE:GREGORIAN
METHOD:PUBLISH
X-WR-CALNAME:Hardloopevenementen
X-ORIGINAL-URL:https://hardloopevenementen.com
X-WR-CALDESC:Evenementen voor Hardloopevenementen
REFRESH-INTERVAL;VALUE=DURATION:PT1H
X-Robots-Tag:noindex
X-PUBLISHED-TTL:PT1H
BEGIN:VTIMEZONE
TZID:UTC
BEGIN:STANDARD
TZOFFSETFROM:+0000
TZOFFSETTO:+0000
TZNAME:UTC
DTSTART:20120101T000000
END:STANDARD
END:VTIMEZONE
BEGIN:VEVENT
DTSTART;VALUE=DATE:20170121
DTEND;VALUE=DATE:20170122
DTSTAMP:20260423T080311
CREATED:20170105T150800Z
LAST-MODIFIED:20190423T114847Z
UID:15382-1484956800-1484956800@hardloopevenementen.com
SUMMARY:Merwelandencross Dordrecht (ZH)
DESCRIPTION:Doe mee met het hardloopevenement Merwelandencross te Dordrecht (ZH) op za 21 jan 2017. De volgende afstanden staan op het programma: 1 km – 1\,2 km – 1\,7 km – 1\,9 km – 3\,3 km – 4\,7 km – 7\,5 km hardlopen. Wilt u inschrijven voor dit loopevenement?  Raadpleeg hiervoor dan de website van de organisatie\nDe uitslagen van deze hardloopwedstrijd zijn te raadplegen via dezelfde website of via de bekende websites zoals uitslagen.nl\, runtimer en mylaps. Doet u mee met dit evenement\, zorg dan dat u goed voorbereid aan de start staat! Met een goed trainingsschema komt u een heel eind. Train bijvoorbeeld met start to run van Evy Gruyaert. Download de start to run mp3 bestanden en zet ze op uw telefoon. Oortjes in\, hit the play button en en rennen maar! \n\n\n\n\nMeer informatie over Merwelandencross op Hardloopkalender.nl  \n  \n  \n 
URL:https://hardloopevenementen.com/loopagenda/merwelandencross-dordrecht-zh-3/
END:VEVENT
BEGIN:VEVENT
DTSTART;VALUE=DATE:20160116
DTEND;VALUE=DATE:20160117
DTSTAMP:20260423T080311
CREATED:20090708T042701Z
LAST-MODIFIED:20190423T112748Z
UID:13440-1452902400-1452902400@hardloopevenementen.com
SUMMARY:Merwelandencross Dordrecht (ZH)
DESCRIPTION:Doe mee met het hardloopevenement Merwelandencross te Dordrecht (ZH) op za 16 jan 2016. De volgende afstanden staan op het programma: 9 km hardlopen. Wilt u inschrijven voor dit loopevenement?  Raadpleeg hiervoor dan de website van de organisatie\nDe uitslagen van deze hardloopwedstrijd zijn te raadplegen via dezelfde website of via de bekende websites zoals uitslagen.nl\, runtimer en mylaps. Doet u mee met dit evenement\, zorg dan dat u goed voorbereid aan de start staat! Met een goed trainingsschema komt u een heel eind. Train bijvoorbeeld met start to run van Evy Gruyaert. Download de start to run mp3 bestanden en zet ze op uw telefoon. Oortjes in\, hit the play button en en rennen maar! \n\n\n\n\nMeer informatie over Merwelandencross op Hardloopkalender.nl  \nHet loopevenement Merwelandencross te Dordrecht vindt plaats op zaterdag 16 januari 2016. \n  \n  \n 
URL:https://hardloopevenementen.com/loopagenda/merwelandencross-dordrecht-zh-2/
END:VEVENT
BEGIN:VEVENT
DTSTART;VALUE=DATE:20150117
DTEND;VALUE=DATE:20150118
DTSTAMP:20260423T080311
CREATED:20180904T103051Z
LAST-MODIFIED:20190423T111501Z
UID:11206-1421452800-1421452800@hardloopevenementen.com
SUMMARY:Merwelandencross Dordrecht (ZH)
DESCRIPTION:Doe mee met het hardloopevenement Merwelandencross te Dordrecht (ZH) op za 17 jan 2015. De volgende afstanden staan op het programma: 9 km hardlopen. Wilt u inschrijven voor dit loopevenement?  Raadpleeg hiervoor dan de website van de organisatie\nDe uitslagen van deze hardloopwedstrijd zijn te raadplegen via dezelfde website of via de bekende websites zoals uitslagen.nl\, runtimer en mylaps. Doet u mee met dit evenement\, zorg dan dat u goed voorbereid aan de start staat! Met een goed trainingsschema komt u een heel eind. Train bijvoorbeeld met start to run van Evy Gruyaert. Download de start to run mp3 bestanden en zet ze op uw telefoon. Oortjes in\, hit the play button en en rennen maar! \n\n\n\n\nMeer informatie over Merwelandencross op Hardloopkalender.nl  \nHet loopevenement Merwelandencross te Dordrecht vindt plaats op zaterdag 17 januari 2015. \n  \n  \n 
URL:https://hardloopevenementen.com/loopagenda/merwelandencross-dordrecht-zh/
END:VEVENT
BEGIN:VEVENT
DTSTART;VALUE=DATE:20140118
DTEND;VALUE=DATE:20140119
DTSTAMP:20260423T080311
CREATED:20080518T104255Z
LAST-MODIFIED:20190423T105846Z
UID:34864-1390003200-1390003200@hardloopevenementen.com
SUMMARY:Merwelandencross Dordrecht (ZH)
DESCRIPTION:Doe mee met het hardloopevenement Merwelandencross te Dordrecht (ZH) op za 18 jan 2014. De volgende afstanden staan op het programma: 9 km hardlopen. Wilt u inschrijven voor dit loopevenement?  Raadpleeg hiervoor dan de website van de organisatie\nDe uitslagen van deze hardloopwedstrijd zijn te raadplegen via dezelfde website of via de bekende websites zoals uitslagen.nl\, runtimer en mylaps. Doet u mee met dit evenement\, zorg dan dat u goed voorbereid aan de start staat! Met een goed trainingsschema komt u een heel eind. Train bijvoorbeeld met start to run van Evy Gruyaert. Download de start to run mp3 bestanden en zet ze op uw telefoon. Oortjes in\, hit the play button en en rennen maar! \n\n\n\n\nMeer informatie over Merwelandencross op Hardloopkalender.nl  \nHet loopevenement Merwelandencross te Dordrecht vindt plaats op zaterdag 18 januari 2014. De loop wordt georganisseerd door AV Parthenon. Klik hier voor het adres van de start (Google Maps). \n  \n  \n 
URL:https://hardloopevenementen.com/loopagenda/merwelandencross-dordrecht-zh-5/
END:VEVENT
BEGIN:VEVENT
DTSTART;VALUE=DATE:20130119
DTEND;VALUE=DATE:20130120
DTSTAMP:20260423T080311
CREATED:20081011T073417Z
LAST-MODIFIED:20190423T104545Z
UID:32419-1358553600-1358553600@hardloopevenementen.com
SUMMARY:Merwelandencross Dordrecht (ZH)
DESCRIPTION:Doe mee met het hardloopevenement Merwelandencross te Dordrecht (ZH) op za 19 jan 2013. De volgende afstanden staan op het programma: 9 km hardlopen. Wilt u inschrijven voor dit loopevenement?  Raadpleeg hiervoor dan de website van de organisatie\nDe uitslagen van deze hardloopwedstrijd zijn te raadplegen via dezelfde website of via de bekende websites zoals uitslagen.nl\, runtimer en mylaps. Doet u mee met dit evenement\, zorg dan dat u goed voorbereid aan de start staat! Met een goed trainingsschema komt u een heel eind. Train bijvoorbeeld met start to run van Evy Gruyaert. Download de start to run mp3 bestanden en zet ze op uw telefoon. Oortjes in\, hit the play button en en rennen maar! \n\n\n\n\nMeer informatie over Merwelandencross op Hardloopkalender.nl  \nHet loopevenement Merwelandencross te Dordrecht vindt plaats op zaterdag 19 januari 2013. De loop wordt georganisseerd door AV Parthenon. Inschrijven is mogelijk vanaf 02 januari 2013. Klik hier voor het adres van de start (Google Maps).Er is geen verkleedaccomodatie aanwezig. Er is EHBO aanwezig. Voor meer informatie:Gerard van Raalteghvanraalte@gmail.com0653204236http:  www.avparthenon.nl \n  \n  \n 
URL:https://hardloopevenementen.com/loopagenda/merwelandencross-dordrecht-zh-4/
END:VEVENT
END:VCALENDAR