BEGIN:VCALENDAR
VERSION:2.0
PRODID:-//Hardloopevenementen - ECPv6.15.14//NONSGML v1.0//EN
CALSCALE:GREGORIAN
METHOD:PUBLISH
X-WR-CALNAME:Hardloopevenementen
X-ORIGINAL-URL:https://hardloopevenementen.com
X-WR-CALDESC:Evenementen voor Hardloopevenementen
REFRESH-INTERVAL;VALUE=DURATION:PT1H
X-Robots-Tag:noindex
X-PUBLISHED-TTL:PT1H
BEGIN:VTIMEZONE
TZID:UTC
BEGIN:STANDARD
TZOFFSETFROM:+0000
TZOFFSETTO:+0000
TZNAME:UTC
DTSTART:20090101T000000
END:STANDARD
END:VTIMEZONE
BEGIN:VEVENT
DTSTART;VALUE=DATE:20100418
DTEND;VALUE=DATE:20100419
DTSTAMP:20260423T053613
CREATED:20130422T012338Z
LAST-MODIFIED:20190423T101232Z
UID:23626-1271548800-1271548800@hardloopevenementen.com
SUMMARY:Herculesloop Middenbeemster Delft (ZH)
DESCRIPTION:Doe mee met het hardloopevenement Herculesloop Middenbeemster te Delft (ZH) op zo 18 apr 2010. De volgende afstanden staan op het programma: 1\,5 km – 5 km – 10 km – 15 km hardlopen. Wilt u inschrijven voor dit loopevenement?  Raadpleeg hiervoor dan de website van de organisatie\nDe uitslagen van deze hardloopwedstrijd zijn te raadplegen via dezelfde website of via de bekende websites zoals uitslagen.nl\, runtimer en mylaps. Doet u mee met dit evenement\, zorg dan dat u goed voorbereid aan de start staat! Met een goed trainingsschema komt u een heel eind. Train bijvoorbeeld met start to run van Evy Gruyaert. Download de start to run mp3 bestanden en zet ze op uw telefoon. Oortjes in\, hit the play button en en rennen maar! \n\n\n\n\nMeer informatie over Herculesloop Middenbeemster op Hardloopkalender.nl  \nDit loopevenement wordt georganiseerd door AV `40.De eerste afstand (of onderdeel) start om 10:30.Het adres van de start en de finish is Sportring 12Categorie(ën): mannen\, vrouwen\, jeugdVooraf inschrijven is mogelijk vanaf 18 april 2010 tot niet van toepassing.Inschrijven op de dag van de loop is mogelijk (vanaf 10:00) op dit adres: Grote Markt  Bergen op Zoom.Meer informatie:Contactpersoon: G. AartsTel.: 0152565453Email: Aarts@dgg.nlEr is een kleedaccomodatie aanwezig. Douchen is mogelijk.Het parcours is deels onverhard.Vorig jaar deden er 74 lopers mee aan dit evenement.Overige bijzonderheden:  Parcours gaat door de mooie parken van tussen Delft en Nootdorp \n  \n  \n 
URL:https://hardloopevenementen.com/loopagenda/herculesloop-middenbeemster-delft-zh/
END:VEVENT
BEGIN:VEVENT
DTSTART;VALUE=DATE:20100418
DTEND;VALUE=DATE:20100419
DTSTAMP:20260423T053613
CREATED:20111031T124214Z
LAST-MODIFIED:20190423T101232Z
UID:23625-1271548800-1271548800@hardloopevenementen.com
SUMMARY:Herculesloop Middenbeemster Middenbeemster\, gemeente Beemster (NH)
DESCRIPTION:Doe mee met het hardloopevenement Herculesloop Middenbeemster te Middenbeemster\, gemeente Beemster (NH) op zo 18 apr 2010. De volgende afstanden staan op het programma: 1\,4 km – 2\,8 km – 7\,7 km – 10 km – 14 km – halve marathon hardlopen. Wilt u inschrijven voor dit loopevenement?  Raadpleeg hiervoor dan de website van de organisatie\nDe uitslagen van deze hardloopwedstrijd zijn te raadplegen via dezelfde website of via de bekende websites zoals uitslagen.nl\, runtimer en mylaps. Doet u mee met dit evenement\, zorg dan dat u goed voorbereid aan de start staat! Met een goed trainingsschema komt u een heel eind. Train bijvoorbeeld met start to run van Evy Gruyaert. Download de start to run mp3 bestanden en zet ze op uw telefoon. Oortjes in\, hit the play button en en rennen maar! \n\n\n\n\nMeer informatie over Herculesloop Middenbeemster op Hardloopkalender.nl  \nDit loopevenement wordt georganiseerd door KGV Hercules.De eerste afstand (of onderdeel) start om 10:00.Het adres van de start en de finish is Insulindeweg 11Categorie(ën): mannen\, vrouwen\, jeugdVooraf inschrijven is mogelijk vanaf 01 januari 2010 tot 20 november 2009.Inschrijven op de dag van de loop is mogelijk (vanaf 10:00) op dit adres: Grote Markt  Bergen op Zoom.Meer informatie:Contactpersoon: Vincent van GelderenTel.: 0653624282Email: info@tennisschooldekloek.nlEr is geen kleedaccomodatie aanwezig.Het parcours is verhard.Overige bijzonderheden:  Iedere deelnemer loopt 1000m\,behalve de 1e loper deze loopt 1195m. \n  \n  \n 
URL:https://hardloopevenementen.com/loopagenda/herculesloop-middenbeemster-middenbeemster-gemeente-beemster-nh/
END:VEVENT
END:VCALENDAR