BEGIN:VCALENDAR
VERSION:2.0
PRODID:-//Hardloopevenementen - ECPv6.15.14//NONSGML v1.0//EN
CALSCALE:GREGORIAN
METHOD:PUBLISH
X-WR-CALNAME:Hardloopevenementen
X-ORIGINAL-URL:https://hardloopevenementen.com
X-WR-CALDESC:Evenementen voor Hardloopevenementen
REFRESH-INTERVAL;VALUE=DURATION:PT1H
X-Robots-Tag:noindex
X-PUBLISHED-TTL:PT1H
BEGIN:VTIMEZONE
TZID:UTC
BEGIN:STANDARD
TZOFFSETFROM:+0000
TZOFFSETTO:+0000
TZNAME:UTC
DTSTART:20150101T000000
END:STANDARD
END:VTIMEZONE
BEGIN:VEVENT
DTSTART;VALUE=DATE:20170108
DTEND;VALUE=DATE:20170109
DTSTAMP:20260422T010431
CREATED:20100330T231357Z
LAST-MODIFIED:20190423T114904Z
UID:15453-1483833600-1483833600@hardloopevenementen.com
SUMMARY:Midwintercrossloop Heeten Heeten\, gemeente Raalte (OV)
DESCRIPTION:Doe mee met het hardloopevenement Midwintercrossloop Heeten te Heeten\, gemeente Raalte (OV) op zo 08 jan 2017. De volgende afstanden staan op het programma: 2 km – 5 km – 10 km hardlopen. Wilt u inschrijven voor dit loopevenement?  Raadpleeg hiervoor dan de website van de organisatie\nDe uitslagen van deze hardloopwedstrijd zijn te raadplegen via dezelfde website of via de bekende websites zoals uitslagen.nl\, runtimer en mylaps. Doet u mee met dit evenement\, zorg dan dat u goed voorbereid aan de start staat! Met een goed trainingsschema komt u een heel eind. Train bijvoorbeeld met start to run van Evy Gruyaert. Download de start to run mp3 bestanden en zet ze op uw telefoon. Oortjes in\, hit the play button en en rennen maar! \n\n\n\n\nMeer informatie over Midwintercrossloop Heeten op Hardloopkalender.nl  \n  \n  \n 
URL:https://hardloopevenementen.com/loopagenda/midwintercrossloop-heeten-heeten-gemeente-raalte-ov/
END:VEVENT
BEGIN:VEVENT
DTSTART;VALUE=DATE:20160103
DTEND;VALUE=DATE:20160104
DTSTAMP:20260422T010431
CREATED:20110527T133433Z
LAST-MODIFIED:20190423T112804Z
UID:13499-1451779200-1451779200@hardloopevenementen.com
SUMMARY:Midwintercrossloop Raalte (OV)
DESCRIPTION:Doe mee met het hardloopevenement Midwintercrossloop te Raalte (OV) op zo 03 jan 2016. De volgende afstanden staan op het programma: 3 km – 6 km – 10 km hardlopen. Wilt u inschrijven voor dit loopevenement?  Raadpleeg hiervoor dan de website van de organisatie\nDe uitslagen van deze hardloopwedstrijd zijn te raadplegen via dezelfde website of via de bekende websites zoals uitslagen.nl\, runtimer en mylaps. Doet u mee met dit evenement\, zorg dan dat u goed voorbereid aan de start staat! Met een goed trainingsschema komt u een heel eind. Train bijvoorbeeld met start to run van Evy Gruyaert. Download de start to run mp3 bestanden en zet ze op uw telefoon. Oortjes in\, hit the play button en en rennen maar! \n\n\n\n\nMeer informatie over Midwintercrossloop op Hardloopkalender.nl  \nonderdeel van het sallandcrosscircuit \n  \n  \n 
URL:https://hardloopevenementen.com/loopagenda/midwintercrossloop-raalte-ov/
END:VEVENT
END:VCALENDAR