BEGIN:VCALENDAR
VERSION:2.0
PRODID:-//Hardloopevenementen - ECPv6.15.14//NONSGML v1.0//EN
CALSCALE:GREGORIAN
METHOD:PUBLISH
X-WR-CALNAME:Hardloopevenementen
X-ORIGINAL-URL:https://hardloopevenementen.com
X-WR-CALDESC:Evenementen voor Hardloopevenementen
REFRESH-INTERVAL;VALUE=DURATION:PT1H
X-Robots-Tag:noindex
X-PUBLISHED-TTL:PT1H
BEGIN:VTIMEZONE
TZID:UTC
BEGIN:STANDARD
TZOFFSETFROM:+0000
TZOFFSETTO:+0000
TZNAME:UTC
DTSTART:20070101T000000
END:STANDARD
END:VTIMEZONE
BEGIN:VEVENT
DTSTART;VALUE=DATE:20130622
DTEND;VALUE=DATE:20130623
DTSTAMP:20260421T142023
CREATED:20180208T044300Z
LAST-MODIFIED:20190423T104152Z
UID:31527-1371859200-1371859200@hardloopevenementen.com
SUMMARY:Midzomeravond Run Beekbergen\, gemeente Apeldoorn (GE)
DESCRIPTION:Doe mee met het hardloopevenement Midzomeravond Run te Beekbergen\, gemeente Apeldoorn (GE) op za 22 jun 2013. De volgende afstanden staan op het programma: 5 km – 15 km hardlopen. Wilt u inschrijven voor dit loopevenement?  Raadpleeg hiervoor dan de website van de organisatie\nDe uitslagen van deze hardloopwedstrijd zijn te raadplegen via dezelfde website of via de bekende websites zoals uitslagen.nl\, runtimer en mylaps. Doet u mee met dit evenement\, zorg dan dat u goed voorbereid aan de start staat! Met een goed trainingsschema komt u een heel eind. Train bijvoorbeeld met start to run van Evy Gruyaert. Download de start to run mp3 bestanden en zet ze op uw telefoon. Oortjes in\, hit the play button en en rennen maar! \n\n\n\n\nMeer informatie over Midzomeravond Run op Hardloopkalender.nl  \nHet loopevenement Midzomeravond Run te Beekbergen vindt plaats op zaterdag 22 juni 2013. De loop wordt georganisseerd door AV Veluwe. Inschrijven is mogelijk vanaf 01 maart 2013. Klik hier voor het adres van de start (Google Maps).Er is verkleedaccomodatie met douchemogelijkheid aanwezig. Er is EHBO aanwezig. Voor meer informatie:Annette Voetsannette.voets@planet.nl0553602279http:  avveluwe.nl \n  \n  \n 
URL:https://hardloopevenementen.com/loopagenda/midzomeravond-run-beekbergen-gemeente-apeldoorn-ge-4/
END:VEVENT
BEGIN:VEVENT
DTSTART;VALUE=DATE:20120623
DTEND;VALUE=DATE:20120624
DTSTAMP:20260421T142023
CREATED:20091004T164739Z
LAST-MODIFIED:20190423T103121Z
UID:28112-1340409600-1340409600@hardloopevenementen.com
SUMMARY:Midzomeravond Run Beekbergen\, gemeente Apeldoorn (GE)
DESCRIPTION:Doe mee met het hardloopevenement Midzomeravond Run te Beekbergen\, gemeente Apeldoorn (GE) op za 23 jun 2012. De volgende afstanden staan op het programma: 5 km – 15 km hardlopen. Wilt u inschrijven voor dit loopevenement?  Raadpleeg hiervoor dan de website van de organisatie\nDe uitslagen van deze hardloopwedstrijd zijn te raadplegen via dezelfde website of via de bekende websites zoals uitslagen.nl\, runtimer en mylaps. Doet u mee met dit evenement\, zorg dan dat u goed voorbereid aan de start staat! Met een goed trainingsschema komt u een heel eind. Train bijvoorbeeld met start to run van Evy Gruyaert. Download de start to run mp3 bestanden en zet ze op uw telefoon. Oortjes in\, hit the play button en en rennen maar! \n\n\n\n\nMeer informatie over Midzomeravond Run op Hardloopkalender.nl  \nHet loopevenement Midzomeravond Run te Beekbergen vindt plaats op zaterdag 23 juni 2012. De loop wordt georganiseerd door AV Veluwe. Inschrijven is mogelijk vanaf 07 maart 2012. Klik hier voor het adres van de start (Google Maps).Er is EHBO aanwezig. Afstand SoortloopInschrijfgeldStarttijdInfo5 km6\,0019.1515 km6\,0019.00Voor meer informatie:Tonny van den Brinkwedstrijden@avveluwe.nl0553667419http:  www.avveluwe.nl \n  \n  \n 
URL:https://hardloopevenementen.com/loopagenda/midzomeravond-run-beekbergen-gemeente-apeldoorn-ge-3/
END:VEVENT
BEGIN:VEVENT
DTSTART;VALUE=DATE:20110618
DTEND;VALUE=DATE:20110619
DTSTAMP:20260421T142023
CREATED:20081206T211133Z
LAST-MODIFIED:20190423T102040Z
UID:6770-1308355200-1308355200@hardloopevenementen.com
SUMMARY:Midzomeravond Run Beekbergen\, gemeente Apeldoorn (GE)
DESCRIPTION:Doe mee met het hardloopevenement Midzomeravond Run te Beekbergen\, gemeente Apeldoorn (GE) op za 18 jun 2011. De volgende afstanden staan op het programma: 5 km – 15 km hardlopen. Wilt u inschrijven voor dit loopevenement?  Raadpleeg hiervoor dan de website van de organisatie\nDe uitslagen van deze hardloopwedstrijd zijn te raadplegen via dezelfde website of via de bekende websites zoals uitslagen.nl\, runtimer en mylaps. Doet u mee met dit evenement\, zorg dan dat u goed voorbereid aan de start staat! Met een goed trainingsschema komt u een heel eind. Train bijvoorbeeld met start to run van Evy Gruyaert. Download de start to run mp3 bestanden en zet ze op uw telefoon. Oortjes in\, hit the play button en en rennen maar! \n\n\n\n\nMeer informatie over Midzomeravond Run op Hardloopkalender.nl  \nHet loopevenement Midzomeravond Run te Beekbergen vindt plaats op zaterdag 18 juni 2011. De loop wordt georganiseerd door AV Veluwe. Inschrijven is mogelijk vanaf 01 maart 2011. Klik hier voor het adres van de start (Google Maps).Er is verkleedaccomodatie met douchemogelijkheid aanwezig. Er is EHBO aanwezig. Afstand(km)Inschrijfgeld(€)Starttijd5\,0€3\,0019.1515.0€5\,0019.00Voor meer informatie:tonny vd Brinktonny@tonnylex.demon.nl0553667419http:  avveluwe.nl \n  \n  \n 
URL:https://hardloopevenementen.com/loopagenda/midzomeravond-run-beekbergen-gemeente-apeldoorn-ge-2/
END:VEVENT
BEGIN:VEVENT
DTSTART;VALUE=DATE:20100619
DTEND;VALUE=DATE:20100620
DTSTAMP:20260421T142023
CREATED:20081114T193407Z
LAST-MODIFIED:20190423T101049Z
UID:4027-1276905600-1276905600@hardloopevenementen.com
SUMMARY:Midzomeravond Run Beekbergen\, gemeente Apeldoorn (GE)
DESCRIPTION:Doe mee met het hardloopevenement Midzomeravond Run te Beekbergen\, gemeente Apeldoorn (GE) op za 19 jun 2010. De volgende afstanden staan op het programma: 5 km – 15 km hardlopen. Wilt u inschrijven voor dit loopevenement?  Raadpleeg hiervoor dan de website van de organisatie\nDe uitslagen van deze hardloopwedstrijd zijn te raadplegen via dezelfde website of via de bekende websites zoals uitslagen.nl\, runtimer en mylaps. Doet u mee met dit evenement\, zorg dan dat u goed voorbereid aan de start staat! Met een goed trainingsschema komt u een heel eind. Train bijvoorbeeld met start to run van Evy Gruyaert. Download de start to run mp3 bestanden en zet ze op uw telefoon. Oortjes in\, hit the play button en en rennen maar! \n\n\n\n\nMeer informatie over Midzomeravond Run op Hardloopkalender.nl  \nDit loopevenement wordt georganiseerd door AV Veluwe.De eerste afstand (of onderdeel) start om 19:00.Het adres van de start is Veldhofweg31 Het adres van de finish is Veldhofweg 31Categorie(ën): mannen\, vrouwen\, jeugdVooraf inschrijven is mogelijk vanaf 01 maart 2010 tot 05 juni 2010.Inschrijven op de dag van de loop is mogelijk (vanaf 17.30) op dit adres: Voetbalvereniging Beekbergen  Veldhofweg 31 Beekbergen.Meer informatie:Contactpersoon: tonny vd BrinkTel.: 0553667419Email: tonny@tonnylex.demon.nlEr is een kleedaccomodatie aanwezig. Douchen is mogelijk.Het parcours is verhard.Overige bijzonderheden:  startplaats kan nog aangepast worden \n  \n  \n 
URL:https://hardloopevenementen.com/loopagenda/midzomeravond-run-beekbergen-gemeente-apeldoorn-ge/
END:VEVENT
BEGIN:VEVENT
DTSTART;VALUE=DATE:20090718
DTEND;VALUE=DATE:20090719
DTSTAMP:20260421T142023
CREATED:20100201T233409Z
LAST-MODIFIED:20190423T095958Z
UID:2034-1247875200-1247875200@hardloopevenementen.com
SUMMARY:10e Midzomeravond Marathon Diever\, gemeente Westerveld (DR)
DESCRIPTION:Doe mee met het hardloopevenement 10e Midzomeravond Marathon te Diever\, gemeente Westerveld (DR) op za 18 jul 2009. De volgende afstanden staan op het programma: 10 km – 20 km – 30 km – marathon hardlopen. Wilt u inschrijven voor dit loopevenement?  Raadpleeg hiervoor dan de website van de organisatie\nDe uitslagen van deze hardloopwedstrijd zijn te raadplegen via dezelfde website of via de bekende websites zoals uitslagen.nl\, runtimer en mylaps. Doet u mee met dit evenement\, zorg dan dat u goed voorbereid aan de start staat! Met een goed trainingsschema komt u een heel eind. Train bijvoorbeeld met start to run van Evy Gruyaert. Download de start to run mp3 bestanden en zet ze op uw telefoon. Oortjes in\, hit the play button en en rennen maar! \n\n\n\n\nMeer informatie over 10e Midzomeravond Marathon op Hardloopkalender.nl  \n42\,2 km 17:00 uur\, 10-20-30 km 17:30 uur \n  \n  \n 
URL:https://hardloopevenementen.com/loopagenda/10e-midzomeravond-marathon-diever-gemeente-westerveld-dr/
END:VEVENT
BEGIN:VEVENT
DTSTART;VALUE=DATE:20080719
DTEND;VALUE=DATE:20080720
DTSTAMP:20260421T142023
CREATED:20090506T203533Z
LAST-MODIFIED:20190423T094618Z
UID:19417-1216425600-1216425600@hardloopevenementen.com
SUMMARY:9e Midzomeravond Marathon Diever
DESCRIPTION:Doe mee met het hardloopevenement 9e Midzomeravond Marathon te Diever op za 19 jul 2008. De volgende afstanden staan op het programma: 10\,2 km – 20 km – 30 km – marathon hardlopen. Wilt u inschrijven voor dit loopevenement?  Raadpleeg hiervoor dan de website van de organisatie\nDe uitslagen van deze hardloopwedstrijd zijn te raadplegen via dezelfde website of via de bekende websites zoals uitslagen.nl\, runtimer en mylaps. Doet u mee met dit evenement\, zorg dan dat u goed voorbereid aan de start staat! Met een goed trainingsschema komt u een heel eind. Train bijvoorbeeld met start to run van Evy Gruyaert. Download de start to run mp3 bestanden en zet ze op uw telefoon. Oortjes in\, hit the play button en en rennen maar! \n\n\n\n\nMeer informatie over 9e Midzomeravond Marathon op Hardloopkalender.nl  \n42\,2 km 17:00 uur\, 10-20-30 km 17:30 uurHet parcours   Het parcours bestaat vooral uit asfalt- en schelpenpaden.     Inschrijving en kosten     marathon  9\,00   30 km-loop  7\,00   20 km-loop  6\,00   10\,2 km-loop  4\,00   Medaille ter plaatse te koop   Uitslagenlijst zie internet       Algemene informatie     Afstanden 10\,2 km 20 km 30 km 42\,2 km   Ontvangst- en kleedruimte zalencentrum “Het Dingspilhuus”   Inschrijving Tot 10 juli kunt u voorinschrijven (klik hier voor het inschrijfformulier). Betaling van het inschrijfgeld dient tegelijk met de opgave te geschieden door overschrijving op bankrekeningnr. 3137.24.571 onder vermelding van “Midzomeravondmarathon”.      Voor deelnemers die gebruik maken van de voorinschrijving en betaald hebben\, ligt het startnummer gereed bij de inschrijving in het Dingspilhuus\, Hoofdstraat 88 te Diever.      Verzorging om de 5 km   Tijdslimiet 5 uur   Start 17.00 uur bij zalencentrum “Het Dingspilhuus”\, Hoofdstraat 88 te Diever      Uitslagen internet (deze site)      Informatie St. Sport Promotie Diever;   F. Benthem\, tel.nr. 0521-592627 b.g.g. 0592-414764   (beide na 18.00 uur)   Email: sportpromdiever@planet.nlThis e-mail address is being protected from spam bots\, you need JavaScript enabled to view it   SV Friesland:  J. Kooistra\, tel.nr. 0518-491363        Voor informatie over overnachting en verblijf kunt u contact opnemen met VVV Diever\, tel. 0521-591748 \n  \n  \n 
URL:https://hardloopevenementen.com/loopagenda/9e-midzomeravond-marathon-diever/
END:VEVENT
END:VCALENDAR