BEGIN:VCALENDAR
VERSION:2.0
PRODID:-//Hardloopevenementen - ECPv6.15.14//NONSGML v1.0//EN
CALSCALE:GREGORIAN
METHOD:PUBLISH
X-WR-CALNAME:Hardloopevenementen
X-ORIGINAL-URL:https://hardloopevenementen.com
X-WR-CALDESC:Evenementen voor Hardloopevenementen
REFRESH-INTERVAL;VALUE=DURATION:PT1H
X-Robots-Tag:noindex
X-PUBLISHED-TTL:PT1H
BEGIN:VTIMEZONE
TZID:UTC
BEGIN:STANDARD
TZOFFSETFROM:+0000
TZOFFSETTO:+0000
TZNAME:UTC
DTSTART:20100101T000000
END:STANDARD
END:VTIMEZONE
BEGIN:VEVENT
DTSTART;VALUE=DATE:20191013
DTEND;VALUE=DATE:20191014
DTSTAMP:20260424T045101
CREATED:20130725T071334Z
LAST-MODIFIED:20191114T112418Z
UID:142563-1570924800-1570924800@hardloopevenementen.com
SUMMARY:Military crossloop Boekelo\, gemeente Enschede (OV)
DESCRIPTION:Doe mee met het hardloopevenement Military crossloop te Boekelo\, gemeente Enschede (OV) op zo 13 okt 2019. De volgende afstanden staan op het programma: 5 km – 10 km hardlopen. Wilt u inschrijven voor dit loopevenement?  Raadpleeg hiervoor dan de website van de organisatie\nDe uitslagen van deze hardloopwedstrijd zijn te raadplegen via dezelfde website of via de bekende websites zoals uitslagen.nl\, runtimer en mylaps. Doet u mee met dit evenement\, zorg dan dat u goed voorbereid aan de start staat! Met een goed trainingsschema komt u een heel eind. Train bijvoorbeeld met start to run van Evy Gruyaert. Download de start to run mp3 bestanden en zet ze op uw telefoon. Oortjes in\, hit the play button en en rennen maar! \n\n\n\n\nMeer informatie over Military crossloop op Hardloopkalender.nl  \nMILITARY CROSSLOOP BOEKELO  zondag 13 oktober 2019    Ben jij een hardloper die in is voor een uitdaging\, voor wie geen hindernis te hoog is en die niet bang is voor modder en water? Dan is de Military crossloop echt iets voor jou!  Hardloopgroep de Boekelopers organiseert deze recreatieve crossloop   op zondag 13 oktober 2019\,  over het parcours van de Military Boekelo. Het parcours waar zaterdag de paarden voor de cross country gaan\, is de dag erna het domein van hardlopers.   Routes van 5 en 10 km door het prachtige Teesinkbos\, bestaande uit bospaden\, weilanden\, crosshindernissen\, waterbakken enz.  START: 9.30 uur vanaf sportpark De Zweede\, Boekelosestraat 275\, Boekelo    AFSTANDEN: 5 en 10 km    INSCHRIJVEN: Voor-inschrijven:  5\,- p.p. vanaf 1 augustus t m 9 oktober 2019  via onze site: www.bscunisson.nl military-crossloop  Na-inschrijven:  7\,- p.p. op de dag zelf (13 oktober) vanaf 8:00 uur  tot 9:15 uur bij het secretariaat in de kantine van Sportpark De Zweede te Boekelo    Tegen inlevering van je startnummer ontvang je gratis koffie thee en ranja voor de jeugd  Info over crossloop\, mail naar: acboekelopers@gmail.com  Voor info over de Boekelopers mail naar: lopers@bscunisson.nl  www.bscunisson.nl boekelopers \n  \n  \n 
URL:https://hardloopevenementen.com/loopagenda/military-crossloop-boekelo-gemeente-enschede-ov-2/
END:VEVENT
BEGIN:VEVENT
DTSTART;VALUE=DATE:20171008
DTEND;VALUE=DATE:20171009
DTSTAMP:20260424T045101
CREATED:20121002T060628Z
LAST-MODIFIED:20190423T114328Z
UID:13951-1507420800-1507420800@hardloopevenementen.com
SUMMARY:Military Crossloop Boekelo\, gemeente Enschede (OV)
DESCRIPTION:Doe mee met het hardloopevenement Military Crossloop te Boekelo\, gemeente Enschede (OV) op zo 08 okt 2017. De volgende afstanden staan op het programma: 5 km – 10 km hardlopen. Wilt u inschrijven voor dit loopevenement?  Raadpleeg hiervoor dan de website van de organisatie\nDe uitslagen van deze hardloopwedstrijd zijn te raadplegen via dezelfde website of via de bekende websites zoals uitslagen.nl\, runtimer en mylaps. Doet u mee met dit evenement\, zorg dan dat u goed voorbereid aan de start staat! Met een goed trainingsschema komt u een heel eind. Train bijvoorbeeld met start to run van Evy Gruyaert. Download de start to run mp3 bestanden en zet ze op uw telefoon. Oortjes in\, hit the play button en en rennen maar! \n\n\n\n\nMeer informatie over Military Crossloop op Hardloopkalender.nl  \nBen jij een hardloper die in is voor een uitdaging\, geen hindernis te hoog is\, niet bang voor een beetje water en modder? Dan is de military crossloop echt iets voor jou! 8 oktober 2017.    Hardloopgroep de Boekelopers organiseert deze recreatieve crossloop.    Het parcours waar zaterdag de paarden voor de cross country gaan\, is de dag erna het domein van de hardlopers. Starten doen we op ons mooie sportpark De Zweede. Hindernissen met namen als de Bosvijver\, Drop en Draf en Down Hill staan ook dit jaar weer op de planning. \n  \n  \n 
URL:https://hardloopevenementen.com/loopagenda/military-crossloop-boekelo-gemeente-enschede-ov/
END:VEVENT
BEGIN:VEVENT
DTSTART;VALUE=DATE:20111009
DTEND;VALUE=DATE:20111010
DTSTAMP:20260424T045101
CREATED:20140412T012508Z
LAST-MODIFIED:20190423T101813Z
UID:6188-1318118400-1318118400@hardloopevenementen.com
SUMMARY:Military Crossloop Enschede (OV)
DESCRIPTION:Doe mee met het hardloopevenement Military Crossloop te Enschede (OV) op zo 09 okt 2011. De volgende afstanden staan op het programma: 5 km – 10 km hardlopen. Wilt u inschrijven voor dit loopevenement?  Raadpleeg hiervoor dan de website van de organisatie\nDe uitslagen van deze hardloopwedstrijd zijn te raadplegen via dezelfde website of via de bekende websites zoals uitslagen.nl\, runtimer en mylaps. Doet u mee met dit evenement\, zorg dan dat u goed voorbereid aan de start staat! Met een goed trainingsschema komt u een heel eind. Train bijvoorbeeld met start to run van Evy Gruyaert. Download de start to run mp3 bestanden en zet ze op uw telefoon. Oortjes in\, hit the play button en en rennen maar! \n\n\n\n\nMeer informatie over Military Crossloop op Hardloopkalender.nl  \nDe Boekelopers organiseren op    zondag 9 oktober a.s.     de jaarlijkse Military Crossloop over het terrein van de Military Boekelo.  De trimloop gaat over het parcours van de paarden\,  naar keuze met of zonder hindernissen.     Inschrijven: 	            van 9.30 tot 10.00 uur bij Clubhuis Boekelose                                   Tennis Club (BTC) De Mans 6 te Boekelo.  Start:		            10:10 uur  Inschrijfkosten:           3\,50 p.p.  Afstand:                     ca. 5 en 10 km    Eerste ronde wordt gezamenlijk gelopen.  Tweede ronde op eigen snelheid.  Na afloop is er voor iedere deelnemer koffie thee en een broodje.    Informatie: www.bscunisson.nl\, bij Lopers\, e-mail: lopers@bscunisson.nl \n  \n  \n 
URL:https://hardloopevenementen.com/loopagenda/military-crossloop-enschede-ov/
END:VEVENT
END:VCALENDAR