BEGIN:VCALENDAR
VERSION:2.0
PRODID:-//Hardloopevenementen - ECPv6.15.14//NONSGML v1.0//EN
CALSCALE:GREGORIAN
METHOD:PUBLISH
X-ORIGINAL-URL:https://hardloopevenementen.com
X-WR-CALDESC:Evenementen voor Hardloopevenementen
REFRESH-INTERVAL;VALUE=DURATION:PT1H
X-Robots-Tag:noindex
X-PUBLISHED-TTL:PT1H
BEGIN:VTIMEZONE
TZID:UTC
BEGIN:STANDARD
TZOFFSETFROM:+0000
TZOFFSETTO:+0000
TZNAME:UTC
DTSTART:20180101T000000
END:STANDARD
END:VTIMEZONE
BEGIN:VEVENT
DTSTART;VALUE=DATE:20190413
DTEND;VALUE=DATE:20190414
DTSTAMP:20260422T010606
CREATED:20170109T000930Z
LAST-MODIFIED:20191114T112709Z
UID:17776-1555113600-1555113600@hardloopevenementen.com
SUMMARY:Mission Run Ridderkerk (ZH)
DESCRIPTION:Doe mee met het hardloopevenement Mission Run te Ridderkerk (ZH) op za 13 apr 2019. De volgende afstanden staan op het programma: 0\,9 km – 1 km – 5 km – 10 km hardlopen. Wilt u inschrijven voor dit loopevenement?  Raadpleeg hiervoor dan de website van de organisatie\nDe uitslagen van deze hardloopwedstrijd zijn te raadplegen via dezelfde website of via de bekende websites zoals uitslagen.nl\, runtimer en mylaps. Doet u mee met dit evenement\, zorg dan dat u goed voorbereid aan de start staat! Met een goed trainingsschema komt u een heel eind. Train bijvoorbeeld met start to run van Evy Gruyaert. Download de start to run mp3 bestanden en zet ze op uw telefoon. Oortjes in\, hit the play button en en rennen maar! \n\n\n\n\nMeer informatie over Mission Run op Hardloopkalender.nl  \nHoud jij van hardlopen? Doe mee met de MissionRun!    Je kunt je inschrijven voor de volgende onderdelen:    Kidsrun van ± 1 km (tot 12 jr).   Start 9.30 uur\, prijsuitreiking 10.15 uur.  5 km run (vanaf 13 jr).  Start 10.00 uur\, prijsuitreiking 11.15 uur.  10 km run (vanaf 18 jr).   Start 10.00 uur\, prijsuitreiking 11.15 uur.  ± 9 km wandeltocht. Start 9.15 uur    Geef je op via:  https:  www.gzb.nl doe-mee missionrun-in-ridderkerk    De MissionRun vindt plaats op D.V. zaterdagmorgen 13 april in Ridderkerk.    De opbrengst is bestemd voor het zendingswerk van Leendert en Marianne Otterspeer in Thailand. Zie voor meer informatie https:  www.gzb.nl zendingswerkers leendert-en-marianne-otterspeer home?user_id=118395 \n  \n  \n 
URL:https://hardloopevenementen.com/loopagenda/mission-run-ridderkerk-zh/
END:VEVENT
END:VCALENDAR