BEGIN:VCALENDAR
VERSION:2.0
PRODID:-//Hardloopevenementen - ECPv6.15.14//NONSGML v1.0//EN
CALSCALE:GREGORIAN
METHOD:PUBLISH
X-WR-CALNAME:Hardloopevenementen
X-ORIGINAL-URL:https://hardloopevenementen.com
X-WR-CALDESC:Evenementen voor Hardloopevenementen
REFRESH-INTERVAL;VALUE=DURATION:PT1H
X-Robots-Tag:noindex
X-PUBLISHED-TTL:PT1H
BEGIN:VTIMEZONE
TZID:UTC
BEGIN:STANDARD
TZOFFSETFROM:+0000
TZOFFSETTO:+0000
TZNAME:UTC
DTSTART:20070101T000000
END:STANDARD
END:VTIMEZONE
BEGIN:VEVENT
DTSTART;VALUE=DATE:20180415
DTEND;VALUE=DATE:20180416
DTSTAMP:20260423T114040
CREATED:20070724T124009Z
LAST-MODIFIED:20190423T120536Z
UID:16751-1523750400-1523750400@hardloopevenementen.com
SUMMARY:20e DRV Bergse Monumentenloop 2018 Bergen op Zoom (NB)
DESCRIPTION:Doe mee met het hardloopevenement 20e DRV Bergse Monumentenloop 2018 te Bergen op Zoom (NB) op zo 15 apr 2018. De volgende afstanden staan op het programma: 1 km – 5 km – 10 km hardlopen. Wilt u inschrijven voor dit loopevenement?  Raadpleeg hiervoor dan de website van de organisatie\nDe uitslagen van deze hardloopwedstrijd zijn te raadplegen via dezelfde website of via de bekende websites zoals uitslagen.nl\, runtimer en mylaps. Doet u mee met dit evenement\, zorg dan dat u goed voorbereid aan de start staat! Met een goed trainingsschema komt u een heel eind. Train bijvoorbeeld met start to run van Evy Gruyaert. Download de start to run mp3 bestanden en zet ze op uw telefoon. Oortjes in\, hit the play button en en rennen maar! \n\n\n\n\nMeer informatie over 20e DRV Bergse Monumentenloop 2018 op Hardloopkalender.nl  \n  \n  \n 
URL:https://hardloopevenementen.com/loopagenda/20e-drv-bergse-monumentenloop-2018-bergen-op-zoom-nb/
END:VEVENT
BEGIN:VEVENT
DTSTART;VALUE=DATE:20150419
DTEND;VALUE=DATE:20150420
DTSTAMP:20260423T114040
CREATED:20130516T051945Z
LAST-MODIFIED:20190423T111256Z
UID:10639-1429401600-1429401600@hardloopevenementen.com
SUMMARY:Bergse Monumentenloop Bergen op Zoom (NB)
DESCRIPTION:Doe mee met het hardloopevenement Bergse Monumentenloop te Bergen op Zoom (NB) op zo 19 apr 2015. De volgende afstanden staan op het programma: 1 km – 2 km – 5 km – 10 km hardlopen. Wilt u inschrijven voor dit loopevenement?  Raadpleeg hiervoor dan de website van de organisatie\nDe uitslagen van deze hardloopwedstrijd zijn te raadplegen via dezelfde website of via de bekende websites zoals uitslagen.nl\, runtimer en mylaps. Doet u mee met dit evenement\, zorg dan dat u goed voorbereid aan de start staat! Met een goed trainingsschema komt u een heel eind. Train bijvoorbeeld met start to run van Evy Gruyaert. Download de start to run mp3 bestanden en zet ze op uw telefoon. Oortjes in\, hit the play button en en rennen maar! \n\n\n\n\nMeer informatie over Bergse Monumentenloop op Hardloopkalender.nl  \nHet loopevenement Bergse Monumentenloop te Bergen Op Zoom vindt plaats op zondag 19 april 2015. \n  \n  \n 
URL:https://hardloopevenementen.com/loopagenda/bergse-monumentenloop-bergen-op-zoom-nb-2/
END:VEVENT
BEGIN:VEVENT
DTSTART;VALUE=DATE:20150412
DTEND;VALUE=DATE:20150413
DTSTAMP:20260423T114040
CREATED:20080203T233337Z
LAST-MODIFIED:20190423T111312Z
UID:10709-1428796800-1428796800@hardloopevenementen.com
SUMMARY:Bergse Monumentenloop Bergen op Zoom (NB)
DESCRIPTION:Doe mee met het hardloopevenement Bergse Monumentenloop te Bergen op Zoom (NB) op zo 12 apr 2015. De volgende afstanden staan op het programma: 1 km – 2 km – 5 km – 10 km hardlopen. Wilt u inschrijven voor dit loopevenement?  Raadpleeg hiervoor dan de website van de organisatie\nDe uitslagen van deze hardloopwedstrijd zijn te raadplegen via dezelfde website of via de bekende websites zoals uitslagen.nl\, runtimer en mylaps. Doet u mee met dit evenement\, zorg dan dat u goed voorbereid aan de start staat! Met een goed trainingsschema komt u een heel eind. Train bijvoorbeeld met start to run van Evy Gruyaert. Download de start to run mp3 bestanden en zet ze op uw telefoon. Oortjes in\, hit the play button en en rennen maar! \n\n\n\n\nMeer informatie over Bergse Monumentenloop op Hardloopkalender.nl  \nHet loopevenement Bergse Monumentenloop te Bergen Op Zoom vindt plaats op zondag 12 april 2015. \n  \n  \n 
URL:https://hardloopevenementen.com/loopagenda/bergse-monumentenloop-bergen-op-zoom-nb-3/
END:VEVENT
BEGIN:VEVENT
DTSTART;VALUE=DATE:20140420
DTEND;VALUE=DATE:20140421
DTSTAMP:20260423T114040
CREATED:20070131T182131Z
LAST-MODIFIED:20190423T105614Z
UID:34289-1397952000-1397952000@hardloopevenementen.com
SUMMARY:Bergse Monumentenloop Bergen op Zoom (NB)
DESCRIPTION:Doe mee met het hardloopevenement Bergse Monumentenloop te Bergen op Zoom (NB) op zo 20 apr 2014. De volgende afstanden staan op het programma: 1 km – 2 km – 5 km – 10 km hardlopen. Wilt u inschrijven voor dit loopevenement?  Raadpleeg hiervoor dan de website van de organisatie\nDe uitslagen van deze hardloopwedstrijd zijn te raadplegen via dezelfde website of via de bekende websites zoals uitslagen.nl\, runtimer en mylaps. Doet u mee met dit evenement\, zorg dan dat u goed voorbereid aan de start staat! Met een goed trainingsschema komt u een heel eind. Train bijvoorbeeld met start to run van Evy Gruyaert. Download de start to run mp3 bestanden en zet ze op uw telefoon. Oortjes in\, hit the play button en en rennen maar! \n\n\n\n\nMeer informatie over Bergse Monumentenloop op Hardloopkalender.nl  \nHet loopevenement Bergse Monumentenloop te Bergen Op Zoom vindt plaats op zondag 20 april 2014. De loop wordt georganisseerd door Spado. Klik hier voor het adres van de start (Google Maps).Bijzonderheden: Sfeervolle stratenloop door de historische binnenstad van Bergen op Zoom.  . \n  \n  \n 
URL:https://hardloopevenementen.com/loopagenda/bergse-monumentenloop-bergen-op-zoom-nb-8/
END:VEVENT
BEGIN:VEVENT
DTSTART;VALUE=DATE:20130421
DTEND;VALUE=DATE:20130422
DTSTAMP:20260423T114040
CREATED:20111002T070708Z
LAST-MODIFIED:20190423T104319Z
UID:31857-1366502400-1366502400@hardloopevenementen.com
SUMMARY:Bergse Monumentenloop Bergen op Zoom (NB)
DESCRIPTION:Doe mee met het hardloopevenement Bergse Monumentenloop te Bergen op Zoom (NB) op zo 21 apr 2013. De volgende afstanden staan op het programma: 1 km – 2 km – 5 km – 10 km hardlopen. Wilt u inschrijven voor dit loopevenement?  Raadpleeg hiervoor dan de website van de organisatie\nDe uitslagen van deze hardloopwedstrijd zijn te raadplegen via dezelfde website of via de bekende websites zoals uitslagen.nl\, runtimer en mylaps. Doet u mee met dit evenement\, zorg dan dat u goed voorbereid aan de start staat! Met een goed trainingsschema komt u een heel eind. Train bijvoorbeeld met start to run van Evy Gruyaert. Download de start to run mp3 bestanden en zet ze op uw telefoon. Oortjes in\, hit the play button en en rennen maar! \n\n\n\n\nMeer informatie over Bergse Monumentenloop op Hardloopkalender.nl  \nHet loopevenement Bergse Monumentenloop te Bergen Op Zoom vindt plaats op zondag 21 april 2013. De loop wordt georganisseerd door Spado. Inschrijven is mogelijk vanaf 01 februari 2013. Klik hier voor het adres van de start (Google Maps).Er is verkleedaccomodatie met douchemogelijkheid aanwezig. Er is EHBO aanwezig. Bijzonderheden: Sfeervolle stratenloop door de historische binnenstad van Bergen op Zoom.  .Voor meer informatie:Marly van Neerbosmarlyvanneerbos@home.nl0165300998http:  bergsemonumentenloop.nl \n  \n  \n 
URL:https://hardloopevenementen.com/loopagenda/bergse-monumentenloop-bergen-op-zoom-nb-7/
END:VEVENT
BEGIN:VEVENT
DTSTART;VALUE=DATE:20120415
DTEND;VALUE=DATE:20120416
DTSTAMP:20260423T114040
CREATED:20090513T082727Z
LAST-MODIFIED:20190423T103258Z
UID:28511-1334448000-1334448000@hardloopevenementen.com
SUMMARY:Bergse Monumentenloop Bergen op Zoom (NB)
DESCRIPTION:Doe mee met het hardloopevenement Bergse Monumentenloop te Bergen op Zoom (NB) op zo 15 apr 2012. De volgende afstanden staan op het programma: 1\,2 km – 5 km – 10 km – 15 km hardlopen. Wilt u inschrijven voor dit loopevenement?  Raadpleeg hiervoor dan de website van de organisatie\nDe uitslagen van deze hardloopwedstrijd zijn te raadplegen via dezelfde website of via de bekende websites zoals uitslagen.nl\, runtimer en mylaps. Doet u mee met dit evenement\, zorg dan dat u goed voorbereid aan de start staat! Met een goed trainingsschema komt u een heel eind. Train bijvoorbeeld met start to run van Evy Gruyaert. Download de start to run mp3 bestanden en zet ze op uw telefoon. Oortjes in\, hit the play button en en rennen maar! \n\n\n\n\nMeer informatie over Bergse Monumentenloop op Hardloopkalender.nl  \nHet loopevenement Bergse Monumentenloop te Bergen Op Zoom vindt plaats op zondag 15 april 2012. De loop wordt georganiseerd door Spado. Inschrijven is mogelijk vanaf 01 januari 2012. Klik hier voor het adres van de start (Google Maps).Er is EHBO aanwezig. Bijzonderheden: Sfeervolle stratenloop door de historische binnenstad van Bergen op Zoom..Afstand SoortloopInschrijfgeldStarttijdInfo5 km0\,00nognietbekend10 km0\,00nognietbekend15 km0\,00nognietbekend1.2 km0\,00nognietbekendVoor meer informatie:Marly van Neerbosmarlyvanneerbos@home.nl0165300998http:  bergsemonumentenloop.nl \n  \n  \n 
URL:https://hardloopevenementen.com/loopagenda/bergse-monumentenloop-bergen-op-zoom-nb-6/
END:VEVENT
BEGIN:VEVENT
DTSTART;VALUE=DATE:20110417
DTEND;VALUE=DATE:20110418
DTSTAMP:20260423T114040
CREATED:20080825T001404Z
LAST-MODIFIED:20190423T102220Z
UID:26524-1302998400-1302998400@hardloopevenementen.com
SUMMARY:Bergse Monumentenloop Bergen op Zoom (NB)
DESCRIPTION:Doe mee met het hardloopevenement Bergse Monumentenloop te Bergen op Zoom (NB) op zo 17 apr 2011. De volgende afstanden staan op het programma: 5 km – 10 km – 15 km hardlopen. Wilt u inschrijven voor dit loopevenement?  Raadpleeg hiervoor dan de website van de organisatie\nDe uitslagen van deze hardloopwedstrijd zijn te raadplegen via dezelfde website of via de bekende websites zoals uitslagen.nl\, runtimer en mylaps. Doet u mee met dit evenement\, zorg dan dat u goed voorbereid aan de start staat! Met een goed trainingsschema komt u een heel eind. Train bijvoorbeeld met start to run van Evy Gruyaert. Download de start to run mp3 bestanden en zet ze op uw telefoon. Oortjes in\, hit the play button en en rennen maar! \n\n\n\n\nMeer informatie over Bergse Monumentenloop op Hardloopkalender.nl  \nHet loopevenement Bergse Monumentenloop te Bergen Op Zoom vindt plaats op zondag 17 april 2011. De loop wordt georganiseerd door Spado. Inschrijven is mogelijk vanaf 01 januari 2010. Klik hier voor het adres van de start (Google Maps).Er is verkleedaccomodatie met douchemogelijkheid aanwezig. Er is EHBO aanwezig. Afstand(km)Inschrijfgeld(€)Starttijd5€0\,00nognietbekend10€0\,00nognietbekend15€0\,00nognietbekendkidsrun€0\,00nognietbekendVoor meer informatie:Marly van Neerbosmarlyvanneerbos@home.nl0165300998http:  bergsemonumentenloop.nl \n  \n  \n 
URL:https://hardloopevenementen.com/loopagenda/bergse-monumentenloop-bergen-op-zoom-nb-5/
END:VEVENT
BEGIN:VEVENT
DTSTART;VALUE=DATE:20100418
DTEND;VALUE=DATE:20100419
DTSTAMP:20260423T114040
CREATED:20091004T144103Z
LAST-MODIFIED:20190423T101232Z
UID:23624-1271548800-1271548800@hardloopevenementen.com
SUMMARY:Bergse Monumentenloop Bergen op Zoom (NB)
DESCRIPTION:Doe mee met het hardloopevenement Bergse Monumentenloop te Bergen op Zoom (NB) op zo 18 apr 2010. De volgende afstanden staan op het programma: 5 km – 10 km – 15 km hardlopen. Wilt u inschrijven voor dit loopevenement?  Raadpleeg hiervoor dan de website van de organisatie\nDe uitslagen van deze hardloopwedstrijd zijn te raadplegen via dezelfde website of via de bekende websites zoals uitslagen.nl\, runtimer en mylaps. Doet u mee met dit evenement\, zorg dan dat u goed voorbereid aan de start staat! Met een goed trainingsschema komt u een heel eind. Train bijvoorbeeld met start to run van Evy Gruyaert. Download de start to run mp3 bestanden en zet ze op uw telefoon. Oortjes in\, hit the play button en en rennen maar! \n\n\n\n\nMeer informatie over Bergse Monumentenloop op Hardloopkalender.nl  \nDit loopevenement wordt georganiseerd door Spado.De eerste afstand (of onderdeel) start om 13:00.Het adres van de start en de finish is Grote Markt 1Categorie(ën): mannen\, vrouwen\, jeugdVooraf inschrijven is mogelijk vanaf 01 januari 2010 tot 11 april 2010.Inschrijven op de dag van de loop is mogelijk (vanaf 10:00) op dit adres: Grote Markt  Bergen op Zoom.Meer informatie:Contactpersoon: Marly van NeerbosTel.: 0165300998Email: marlyvanneerbos@home.nlEr is een kleedaccomodatie aanwezig. Douchen is mogelijk.Het parcours is verhard.Overige bijzonderheden:  Iedere deelnemer loopt 1000m\,behalve de 1e loper deze loopt 1195m. \n  \n  \n 
URL:https://hardloopevenementen.com/loopagenda/bergse-monumentenloop-bergen-op-zoom-nb-4/
END:VEVENT
BEGIN:VEVENT
DTSTART;VALUE=DATE:20090419
DTEND;VALUE=DATE:20090420
DTSTAMP:20260423T114040
CREATED:20150529T093757Z
LAST-MODIFIED:20190423T100156Z
UID:2449-1240099200-1240099200@hardloopevenementen.com
SUMMARY:Bergse Monumentenloop Bergen op Zoom (NB)
DESCRIPTION:Doe mee met het hardloopevenement Bergse Monumentenloop te Bergen op Zoom (NB) op zo 19 apr 2009. De volgende afstanden staan op het programma: 5 km – 10 km – 15 km hardlopen. Wilt u inschrijven voor dit loopevenement?  Raadpleeg hiervoor dan de website van de organisatie\nDe uitslagen van deze hardloopwedstrijd zijn te raadplegen via dezelfde website of via de bekende websites zoals uitslagen.nl\, runtimer en mylaps. Doet u mee met dit evenement\, zorg dan dat u goed voorbereid aan de start staat! Met een goed trainingsschema komt u een heel eind. Train bijvoorbeeld met start to run van Evy Gruyaert. Download de start to run mp3 bestanden en zet ze op uw telefoon. Oortjes in\, hit the play button en en rennen maar! \n\n\n\n\nMeer informatie over Bergse Monumentenloop op Hardloopkalender.nl  \n5 km 13:00 uur\, 10-15 km 14:00 uur \n  \n  \n 
URL:https://hardloopevenementen.com/loopagenda/bergse-monumentenloop-bergen-op-zoom-nb/
END:VEVENT
BEGIN:VEVENT
DTSTART;VALUE=DATE:20080420
DTEND;VALUE=DATE:20080421
DTSTAMP:20260423T114040
CREATED:20120507T033335Z
LAST-MODIFIED:20190423T094754Z
UID:19838-1208649600-1208649600@hardloopevenementen.com
SUMMARY:Bergse Monumentenloop Bergen op Zoom
DESCRIPTION:Doe mee met het hardloopevenement Bergse Monumentenloop te Bergen op Zoom op zo 20 apr 2008. De volgende afstanden staan op het programma: 5 km – 10 km – 15 km hardlopen. Wilt u inschrijven voor dit loopevenement?  Raadpleeg hiervoor dan de website van de organisatie\nDe uitslagen van deze hardloopwedstrijd zijn te raadplegen via dezelfde website of via de bekende websites zoals uitslagen.nl\, runtimer en mylaps. Doet u mee met dit evenement\, zorg dan dat u goed voorbereid aan de start staat! Met een goed trainingsschema komt u een heel eind. Train bijvoorbeeld met start to run van Evy Gruyaert. Download de start to run mp3 bestanden en zet ze op uw telefoon. Oortjes in\, hit the play button en en rennen maar! \n\n\n\n\nMeer informatie over Bergse Monumentenloop op Hardloopkalender.nl  \nStart  5 km 13:00 uur  10-15 km 14:00 uur \n  \n  \n 
URL:https://hardloopevenementen.com/loopagenda/bergse-monumentenloop-bergen-op-zoom/
END:VEVENT
END:VCALENDAR