BEGIN:VCALENDAR
VERSION:2.0
PRODID:-//Hardloopevenementen - ECPv6.15.14//NONSGML v1.0//EN
CALSCALE:GREGORIAN
METHOD:PUBLISH
X-WR-CALNAME:Hardloopevenementen
X-ORIGINAL-URL:https://hardloopevenementen.com
X-WR-CALDESC:Evenementen voor Hardloopevenementen
REFRESH-INTERVAL;VALUE=DURATION:PT1H
X-Robots-Tag:noindex
X-PUBLISHED-TTL:PT1H
BEGIN:VTIMEZONE
TZID:UTC
BEGIN:STANDARD
TZOFFSETFROM:+0000
TZOFFSETTO:+0000
TZNAME:UTC
DTSTART:20090101T000000
END:STANDARD
END:VTIMEZONE
BEGIN:VEVENT
DTSTART;VALUE=DATE:20200419
DTEND;VALUE=DATE:20200420
DTSTAMP:20260422T225755
CREATED:20160510T000912Z
LAST-MODIFIED:20200206T111419Z
UID:145079-1587254400-1587254400@hardloopevenementen.com
SUMMARY:80e Krinkels Pim Mulierloop Santpoort-Noord\, gemeente Velsen (NH)
DESCRIPTION:Doe mee met het hardloopevenement 80e Krinkels Pim Mulierloop te Santpoort-Noord\, gemeente Velsen (NH) op zo 19 apr 2020. De volgende afstanden staan op het programma: 1\,2 km – 5 km – 10 km – 10 Engelse mijl hardlopen. Wilt u inschrijven voor dit loopevenement?  Raadpleeg hiervoor dan de website van de organisatie\nDe uitslagen van deze hardloopwedstrijd zijn te raadplegen via dezelfde website of via de bekende websites zoals uitslagen.nl\, runtimer en mylaps. Doet u mee met dit evenement\, zorg dan dat u goed voorbereid aan de start staat! Met een goed trainingsschema komt u een heel eind. Train bijvoorbeeld met start to run van Evy Gruyaert. Download de start to run mp3 bestanden en zet ze op uw telefoon. Oortjes in\, hit the play button en en rennen maar! \n\n\n\n\nMeer informatie over 80e Krinkels Pim Mulierloop op Hardloopkalender.nl  \n  \n  \n 
URL:https://hardloopevenementen.com/loopagenda/80e-krinkels-pim-mulierloop-santpoort-noord-gemeente-velsen-nh/
END:VEVENT
BEGIN:VEVENT
DTSTART;VALUE=DATE:20190512
DTEND;VALUE=DATE:20190513
DTSTAMP:20260422T225755
CREATED:20130209T005249Z
LAST-MODIFIED:20191114T112638Z
UID:43728-1557619200-1557619200@hardloopevenementen.com
SUMMARY:78e Weleda Pim Mulierloop Santpoort-Noord\, gemeente Velsen (NH)
DESCRIPTION:Doe mee met het hardloopevenement 78e Weleda Pim Mulierloop te Santpoort-Noord\, gemeente Velsen (NH) op zo 12 mei 2019. De volgende afstanden staan op het programma: 1\,2 km – 5 km – 10 km – 10 Engelse mijl hardlopen. Wilt u inschrijven voor dit loopevenement?  Raadpleeg hiervoor dan de website van de organisatie\nDe uitslagen van deze hardloopwedstrijd zijn te raadplegen via dezelfde website of via de bekende websites zoals uitslagen.nl\, runtimer en mylaps. Doet u mee met dit evenement\, zorg dan dat u goed voorbereid aan de start staat! Met een goed trainingsschema komt u een heel eind. Train bijvoorbeeld met start to run van Evy Gruyaert. Download de start to run mp3 bestanden en zet ze op uw telefoon. Oortjes in\, hit the play button en en rennen maar! \n\n\n\n\nMeer informatie over 78e Weleda Pim Mulierloop op Hardloopkalender.nl  \n  \n  \n 
URL:https://hardloopevenementen.com/loopagenda/78e-weleda-pim-mulierloop-santpoort-noord-gemeente-velsen-nh/
END:VEVENT
BEGIN:VEVENT
DTSTART;VALUE=DATE:20180422
DTEND;VALUE=DATE:20180423
DTSTAMP:20260422T225755
CREATED:20070704T152601Z
LAST-MODIFIED:20190423T120528Z
UID:16711-1524355200-1524355200@hardloopevenementen.com
SUMMARY:78ste Weleda Pim Mulierloop Santpoort-Noord\, gemeente Velsen (NH)
DESCRIPTION:Doe mee met het hardloopevenement 78ste Weleda Pim Mulierloop te Santpoort-Noord\, gemeente Velsen (NH) op zo 22 apr 2018. De volgende afstanden staan op het programma: 1\,2 km – 5 km – 10 km – 10 Engelse mijl hardlopen. Wilt u inschrijven voor dit loopevenement?  Raadpleeg hiervoor dan de website van de organisatie\nDe uitslagen van deze hardloopwedstrijd zijn te raadplegen via dezelfde website of via de bekende websites zoals uitslagen.nl\, runtimer en mylaps. Doet u mee met dit evenement\, zorg dan dat u goed voorbereid aan de start staat! Met een goed trainingsschema komt u een heel eind. Train bijvoorbeeld met start to run van Evy Gruyaert. Download de start to run mp3 bestanden en zet ze op uw telefoon. Oortjes in\, hit the play button en en rennen maar! \n\n\n\n\nMeer informatie over 78ste Weleda Pim Mulierloop op Hardloopkalender.nl  \nHet oudste loopevenement van Nederland beleeft zijn 78ste editie!  Kom op 22 april ook naar Santpoort-Noord en loop een van de prachtige groene routes door en langs het Landgoed Duin-en Kruidberg van Natuurmonumenten!  Je kunt de uitdaging aangaan op de afstanden van 5\, 10 of 16\,1km.  Voor de kinderen is er een jeugdloop over 1\,2km.  We maken ook dit jaar weer onderdeel uit van het RSM loopcircuit powered by Run2Day.  Meer informatie over de 78ste Weleda Pim Mulierloop is te vinden op www.pimmulierloop.nl . \n  \n  \n 
URL:https://hardloopevenementen.com/loopagenda/78ste-weleda-pim-mulierloop-santpoort-noord-gemeente-velsen-nh/
END:VEVENT
BEGIN:VEVENT
DTSTART;VALUE=DATE:20170423
DTEND;VALUE=DATE:20170424
DTSTAMP:20260422T225755
CREATED:20130923T183535Z
LAST-MODIFIED:20190423T114656Z
UID:14888-1492905600-1492905600@hardloopevenementen.com
SUMMARY:77e Pim Mulierloop Santpoort-Noord\, gemeente Velsen (NH)
DESCRIPTION:Doe mee met het hardloopevenement 77e Pim Mulierloop te Santpoort-Noord\, gemeente Velsen (NH) op zo 23 apr 2017. De volgende afstanden staan op het programma: 1\,2 km – 5 km – 10 km – 10 Engelse mijl hardlopen. Wilt u inschrijven voor dit loopevenement?  Raadpleeg hiervoor dan de website van de organisatie\nDe uitslagen van deze hardloopwedstrijd zijn te raadplegen via dezelfde website of via de bekende websites zoals uitslagen.nl\, runtimer en mylaps. Doet u mee met dit evenement\, zorg dan dat u goed voorbereid aan de start staat! Met een goed trainingsschema komt u een heel eind. Train bijvoorbeeld met start to run van Evy Gruyaert. Download de start to run mp3 bestanden en zet ze op uw telefoon. Oortjes in\, hit the play button en en rennen maar! \n\n\n\n\nMeer informatie over 77e Pim Mulierloop op Hardloopkalender.nl  \n  \n  \n 
URL:https://hardloopevenementen.com/loopagenda/77e-pim-mulierloop-santpoort-noord-gemeente-velsen-nh/
END:VEVENT
BEGIN:VEVENT
DTSTART;VALUE=DATE:20160529
DTEND;VALUE=DATE:20160530
DTSTAMP:20260422T225755
CREATED:20161028T060701Z
LAST-MODIFIED:20190423T112455Z
UID:12665-1464480000-1464480000@hardloopevenementen.com
SUMMARY:76e Run2Day Pim Mulierloop Santpoort-Noord\, gemeente Velsen (NH)
DESCRIPTION:Doe mee met het hardloopevenement 76e Run2Day Pim Mulierloop te Santpoort-Noord\, gemeente Velsen (NH) op zo 29 mei 2016. De volgende afstanden staan op het programma: 1\,2 km – 5 km – 10 km – 10 Engelse mijl hardlopen. Wilt u inschrijven voor dit loopevenement?  Raadpleeg hiervoor dan de website van de organisatie\nDe uitslagen van deze hardloopwedstrijd zijn te raadplegen via dezelfde website of via de bekende websites zoals uitslagen.nl\, runtimer en mylaps. Doet u mee met dit evenement\, zorg dan dat u goed voorbereid aan de start staat! Met een goed trainingsschema komt u een heel eind. Train bijvoorbeeld met start to run van Evy Gruyaert. Download de start to run mp3 bestanden en zet ze op uw telefoon. Oortjes in\, hit the play button en en rennen maar! \n\n\n\n\nMeer informatie over 76e Run2Day Pim Mulierloop op Hardloopkalender.nl  \nHet loopevenement 76e Run2Day Pim Mulierloop te Santpoort-Noord vindt plaats op zondag 29 mei 2016. \n  \n  \n 
URL:https://hardloopevenementen.com/loopagenda/76e-run2day-pim-mulierloop-santpoort-noord-gemeente-velsen-nh/
END:VEVENT
BEGIN:VEVENT
DTSTART;VALUE=DATE:20150531
DTEND;VALUE=DATE:20150601
DTSTAMP:20260422T225755
CREATED:20121015T201158Z
LAST-MODIFIED:20190423T111155Z
UID:10386-1433030400-1433030400@hardloopevenementen.com
SUMMARY:Run2Day Pim MulierLoop Santpoort-Noord\, gemeente Velsen (NH)
DESCRIPTION:Doe mee met het hardloopevenement Run2Day Pim MulierLoop te Santpoort-Noord\, gemeente Velsen (NH) op zo 31 mei 2015. De volgende afstanden staan op het programma: 1\,2 km – 5 km – 10 km – 10 Engelse mijl hardlopen. Wilt u inschrijven voor dit loopevenement?  Raadpleeg hiervoor dan de website van de organisatie\nDe uitslagen van deze hardloopwedstrijd zijn te raadplegen via dezelfde website of via de bekende websites zoals uitslagen.nl\, runtimer en mylaps. Doet u mee met dit evenement\, zorg dan dat u goed voorbereid aan de start staat! Met een goed trainingsschema komt u een heel eind. Train bijvoorbeeld met start to run van Evy Gruyaert. Download de start to run mp3 bestanden en zet ze op uw telefoon. Oortjes in\, hit the play button en en rennen maar! \n\n\n\n\nMeer informatie over Run2Day Pim MulierLoop op Hardloopkalender.nl  \nAtletiekvereniging Suomi organiseert op zondag 31 mei voor de 75ste keer de Pim Mulierloop. Dit jaar staat in het teken van de honderdvijftigste geboortedag van de Haarlemse sportpionier Pim Mulier. Deze door Run2day gesponsorde loop is de oudste hardloopwedstrijd van Nederland.  Sinds 2014 loopt het schitterende parcours voor de 10 km en de 10 EM door Duin en Kruidberg en de Heerenduinen. Dit is in samenwerking met Natuurmonumenten opgezet. \n  \n  \n 
URL:https://hardloopevenementen.com/loopagenda/run2day-pim-mulierloop-santpoort-noord-gemeente-velsen-nh/
END:VEVENT
BEGIN:VEVENT
DTSTART;VALUE=DATE:20100516
DTEND;VALUE=DATE:20100517
DTSTAMP:20260422T225755
CREATED:20100414T150909Z
LAST-MODIFIED:20190423T101151Z
UID:23469-1273968000-1273968000@hardloopevenementen.com
SUMMARY:Pim Mulierloop Santpoort-Noord\, gemeente Velsen (NH)
DESCRIPTION:Doe mee met het hardloopevenement Pim Mulierloop te Santpoort-Noord\, gemeente Velsen (NH) op zo 16 mei 2010. De volgende afstanden staan op het programma: 1 km – 5 km – 10 km – 15 km hardlopen. Wilt u inschrijven voor dit loopevenement?  Raadpleeg hiervoor dan de website van de organisatie\nDe uitslagen van deze hardloopwedstrijd zijn te raadplegen via dezelfde website of via de bekende websites zoals uitslagen.nl\, runtimer en mylaps. Doet u mee met dit evenement\, zorg dan dat u goed voorbereid aan de start staat! Met een goed trainingsschema komt u een heel eind. Train bijvoorbeeld met start to run van Evy Gruyaert. Download de start to run mp3 bestanden en zet ze op uw telefoon. Oortjes in\, hit the play button en en rennen maar! \n\n\n\n\nMeer informatie over Pim Mulierloop op Hardloopkalender.nl  \nDit loopevenement wordt georganiseerd door AV Suomi.De eerste afstand (of onderdeel) start om 11:00.Het adres van de start is Hagelingerweg 319 Het adres van de finish is Hagerlingerweg 319Categorie(ën): mannen\, vrouwen\, jeugdVooraf inschrijven is mogelijk vanaf 01 maart 2010 tot 06 mei 2010.Inschrijven op de dag van de loop is mogelijk (vanaf 09.00) op dit adres: Kantine AV Suomi  Sportpark Groeneveen.Meer informatie:Contactpersoon: A. HandgraafTel.: 0235396979Email: wegwedstrijden@avsuomi.nlEr is een kleedaccomodatie aanwezig. Douchen is mogelijk.Het parcours is verhard.Vorig jaar deden er 800 lopers mee aan dit evenement.Overige bijzonderheden:  OUDSTE LOOP VAN NEDERLAND !  Tijdregistratie met chip \n  \n  \n 
URL:https://hardloopevenementen.com/loopagenda/pim-mulierloop-santpoort-noord-gemeente-velsen-nh/
END:VEVENT
END:VCALENDAR