BEGIN:VCALENDAR
VERSION:2.0
PRODID:-//Hardloopevenementen - ECPv6.15.14//NONSGML v1.0//EN
CALSCALE:GREGORIAN
METHOD:PUBLISH
X-ORIGINAL-URL:https://hardloopevenementen.com
X-WR-CALDESC:Evenementen voor Hardloopevenementen
REFRESH-INTERVAL;VALUE=DURATION:PT1H
X-Robots-Tag:noindex
X-PUBLISHED-TTL:PT1H
BEGIN:VTIMEZONE
TZID:UTC
BEGIN:STANDARD
TZOFFSETFROM:+0000
TZOFFSETTO:+0000
TZNAME:UTC
DTSTART:20120101T000000
END:STANDARD
END:VTIMEZONE
BEGIN:VEVENT
DTSTART;VALUE=DATE:20130609
DTEND;VALUE=DATE:20130610
DTSTAMP:20260421T231407
CREATED:20120529T141058Z
LAST-MODIFIED:20190423T104218Z
UID:31625-1370736000-1370736000@hardloopevenementen.com
SUMMARY:Trimloop Muntendam Muntendam\, gemeente Menterwolde (GR)
DESCRIPTION:Doe mee met het hardloopevenement Trimloop Muntendam te Muntendam\, gemeente Menterwolde (GR) op zo 09 jun 2013. De volgende afstanden staan op het programma: 10 km hardlopen. Wilt u inschrijven voor dit loopevenement?  Raadpleeg hiervoor dan de website van de organisatie\nDe uitslagen van deze hardloopwedstrijd zijn te raadplegen via dezelfde website of via de bekende websites zoals uitslagen.nl\, runtimer en mylaps. Doet u mee met dit evenement\, zorg dan dat u goed voorbereid aan de start staat! Met een goed trainingsschema komt u een heel eind. Train bijvoorbeeld met start to run van Evy Gruyaert. Download de start to run mp3 bestanden en zet ze op uw telefoon. Oortjes in\, hit the play button en en rennen maar! \n\n\n\n\nMeer informatie over Trimloop Muntendam op Hardloopkalender.nl  \nRecreatieve Trimloop voor jong en oud. Trimloop gaat door het centrum van Muntendam. Eén ronde is 1\,2 km. Maximaal kunnen er 8 ronden (totaal 10 km.) worden gelopen.     Inschrijfgeld voor kinderen in de leeftijd tot 15 jaar bedraag 1 Euro en 16 jaar en ouder bedraagt 3 Euro. Opgave ter plekke bij de Omegatent in de Kerkstraat of via mail sos@sosmuntendam.nl. Start voor kinderen t m 15 jaar is om 10:30 en voor 16 jaar en ouder is om 11:00 uur. Na afloop ontvangt iedere deelnemer een herinnering.     Na afloop van de trimloop wordt over het zelfde parcours een dikke banden race gehouden en wordt afgesloten met de traditionele wielerronde.     Organisatie is in handen van de Gym- en atletiekvereniging SOS Muntendam en de gemeente Menterwolde. \n  \n  \n 
URL:https://hardloopevenementen.com/loopagenda/trimloop-muntendam-muntendam-gemeente-menterwolde-gr/
END:VEVENT
END:VCALENDAR