BEGIN:VCALENDAR
VERSION:2.0
PRODID:-//Hardloopevenementen - ECPv6.15.14//NONSGML v1.0//EN
CALSCALE:GREGORIAN
METHOD:PUBLISH
X-WR-CALNAME:Hardloopevenementen
X-ORIGINAL-URL:https://hardloopevenementen.com
X-WR-CALDESC:Evenementen voor Hardloopevenementen
REFRESH-INTERVAL;VALUE=DURATION:PT1H
X-Robots-Tag:noindex
X-PUBLISHED-TTL:PT1H
BEGIN:VTIMEZONE
TZID:UTC
BEGIN:STANDARD
TZOFFSETFROM:+0000
TZOFFSETTO:+0000
TZNAME:UTC
DTSTART:20140101T000000
END:STANDARD
END:VTIMEZONE
BEGIN:VEVENT
DTSTART;VALUE=DATE:20161009
DTEND;VALUE=DATE:20161010
DTSTAMP:20260421T181442
CREATED:20140401T142351Z
LAST-MODIFIED:20190423T112130Z
UID:11760-1475971200-1475971200@hardloopevenementen.com
SUMMARY:MuscleRun 2016 Alphen\, gemeente Alphen-Chaam (NB)
DESCRIPTION:Doe mee met het hardloopevenement MuscleRun 2016 te Alphen\, gemeente Alphen-Chaam (NB) op zo 09 okt 2016. De volgende afstanden staan op het programma: 6 km – 12 km hardlopen. Wilt u inschrijven voor dit loopevenement?  Raadpleeg hiervoor dan de website van de organisatie\nDe uitslagen van deze hardloopwedstrijd zijn te raadplegen via dezelfde website of via de bekende websites zoals uitslagen.nl\, runtimer en mylaps. Doet u mee met dit evenement\, zorg dan dat u goed voorbereid aan de start staat! Met een goed trainingsschema komt u een heel eind. Train bijvoorbeeld met start to run van Evy Gruyaert. Download de start to run mp3 bestanden en zet ze op uw telefoon. Oortjes in\, hit the play button en en rennen maar! \n\n\n\n\nMeer informatie over MuscleRun 2016 op Hardloopkalender.nl  \nDe MuscleRun is een Obstacle Run maar dan net even anders! Uitdagende obstakels over een afstand van 6 of 12km. Muscle vs Nature! Durf jij het aan? \n  \n  \n 
URL:https://hardloopevenementen.com/loopagenda/musclerun-2016-alphen-gemeente-alphen-chaam-nb/
END:VEVENT
BEGIN:VEVENT
DTSTART;VALUE=DATE:20161008
DTEND;VALUE=DATE:20161009
DTSTAMP:20260421T181442
CREATED:20140502T173647Z
LAST-MODIFIED:20190423T112137Z
UID:11792-1475884800-1475884800@hardloopevenementen.com
SUMMARY:MuscleRun 2016 Alphen\, gemeente Alphen-Chaam (NB)
DESCRIPTION:Doe mee met het hardloopevenement MuscleRun 2016 te Alphen\, gemeente Alphen-Chaam (NB) op za 08 okt 2016. De volgende afstanden staan op het programma: 6 km – 12 km hardlopen. Wilt u inschrijven voor dit loopevenement?  Raadpleeg hiervoor dan de website van de organisatie\nDe uitslagen van deze hardloopwedstrijd zijn te raadplegen via dezelfde website of via de bekende websites zoals uitslagen.nl\, runtimer en mylaps. Doet u mee met dit evenement\, zorg dan dat u goed voorbereid aan de start staat! Met een goed trainingsschema komt u een heel eind. Train bijvoorbeeld met start to run van Evy Gruyaert. Download de start to run mp3 bestanden en zet ze op uw telefoon. Oortjes in\, hit the play button en en rennen maar! \n\n\n\n\nMeer informatie over MuscleRun 2016 op Hardloopkalender.nl  \nDe MuscleRun is een Obstacle Run maar dan net even anders! Uitdagende obstakels over een afstand van 6 of 12km. Muscle vs Nature! Durf jij het aan? \n  \n  \n 
URL:https://hardloopevenementen.com/loopagenda/musclerun-2016-alphen-gemeente-alphen-chaam-nb-2/
END:VEVENT
BEGIN:VEVENT
DTSTART;VALUE=DATE:20151011
DTEND;VALUE=DATE:20151012
DTSTAMP:20260421T181442
CREATED:20090107T051448Z
LAST-MODIFIED:20190423T110825Z
UID:9610-1444521600-1444521600@hardloopevenementen.com
SUMMARY:MuscleRun 2015 Chaam\, gemeente Alphen-Chaam (NB)
DESCRIPTION:Doe mee met het hardloopevenement MuscleRun 2015 te Chaam\, gemeente Alphen-Chaam (NB) op zo 11 okt 2015. De volgende afstanden staan op het programma: 6 km – 12 km hardlopen. Wilt u inschrijven voor dit loopevenement?  Raadpleeg hiervoor dan de website van de organisatie\nDe uitslagen van deze hardloopwedstrijd zijn te raadplegen via dezelfde website of via de bekende websites zoals uitslagen.nl\, runtimer en mylaps. Doet u mee met dit evenement\, zorg dan dat u goed voorbereid aan de start staat! Met een goed trainingsschema komt u een heel eind. Train bijvoorbeeld met start to run van Evy Gruyaert. Download de start to run mp3 bestanden en zet ze op uw telefoon. Oortjes in\, hit the play button en en rennen maar! \n\n\n\n\nMeer informatie over MuscleRun 2015 op Hardloopkalender.nl  \nDe MuscleRun is een Obstacle Run maar dan net even anders! Uitdagende obstakels over een afstand van 6 of 12km\, midden in de natuur. Muscle vs Nature! Durf jij het aan? Doe dan op 10 en 11 oktober mee aan de MuscleRun in Alphen-Chaam (tussen Breda en Tilburg) \n  \n  \n 
URL:https://hardloopevenementen.com/loopagenda/musclerun-2015-chaam-gemeente-alphen-chaam-nb/
END:VEVENT
BEGIN:VEVENT
DTSTART;VALUE=DATE:20151010
DTEND;VALUE=DATE:20151011
DTSTAMP:20260421T181442
CREATED:20121225T183321Z
LAST-MODIFIED:20190423T110831Z
UID:9630-1444435200-1444435200@hardloopevenementen.com
SUMMARY:MuscleRun 2015 Chaam\, gemeente Alphen-Chaam (NB)
DESCRIPTION:Doe mee met het hardloopevenement MuscleRun 2015 te Chaam\, gemeente Alphen-Chaam (NB) op za 10 okt 2015. De volgende afstanden staan op het programma: 6 km – 12 km hardlopen. Wilt u inschrijven voor dit loopevenement?  Raadpleeg hiervoor dan de website van de organisatie\nDe uitslagen van deze hardloopwedstrijd zijn te raadplegen via dezelfde website of via de bekende websites zoals uitslagen.nl\, runtimer en mylaps. Doet u mee met dit evenement\, zorg dan dat u goed voorbereid aan de start staat! Met een goed trainingsschema komt u een heel eind. Train bijvoorbeeld met start to run van Evy Gruyaert. Download de start to run mp3 bestanden en zet ze op uw telefoon. Oortjes in\, hit the play button en en rennen maar! \n\n\n\n\nMeer informatie over MuscleRun 2015 op Hardloopkalender.nl  \nDe MuscleRun is een Obstacle Run maar dan net even anders! Uitdagende obstakels over een afstand van 6 of 12km\, midden in de natuur. Muscle vs Nature! Durf jij het aan? Doe dan op 10 en 11 oktober mee aan de MuscleRun in Alphen-Chaam (tussen Breda en Tilburg) \n  \n  \n 
URL:https://hardloopevenementen.com/loopagenda/musclerun-2015-chaam-gemeente-alphen-chaam-nb-2/
END:VEVENT
END:VCALENDAR