BEGIN:VCALENDAR
VERSION:2.0
PRODID:-//Hardloopevenementen - ECPv6.15.14//NONSGML v1.0//EN
CALSCALE:GREGORIAN
METHOD:PUBLISH
X-WR-CALNAME:Hardloopevenementen
X-ORIGINAL-URL:https://hardloopevenementen.com
X-WR-CALDESC:Evenementen voor Hardloopevenementen
REFRESH-INTERVAL;VALUE=DURATION:PT1H
X-Robots-Tag:noindex
X-PUBLISHED-TTL:PT1H
BEGIN:VTIMEZONE
TZID:UTC
BEGIN:STANDARD
TZOFFSETFROM:+0000
TZOFFSETTO:+0000
TZNAME:UTC
DTSTART:20130101T000000
END:STANDARD
END:VTIMEZONE
BEGIN:VEVENT
DTSTART;VALUE=DATE:20141025
DTEND;VALUE=DATE:20141026
DTSTAMP:20260424T144636
CREATED:20130729T053937Z
LAST-MODIFIED:20190423T105015Z
UID:8873-1414195200-1414195200@hardloopevenementen.com
SUMMARY:Nasty Night Trail Oostvoorne\, gemeente Westvoorne (ZH)
DESCRIPTION:Doe mee met het hardloopevenement Nasty Night Trail te Oostvoorne\, gemeente Westvoorne (ZH) op za 25 okt 2014. De volgende afstanden staan op het programma:  hardlopen. Wilt u inschrijven voor dit loopevenement?  Raadpleeg hiervoor dan de website van de organisatie\nDe uitslagen van deze hardloopwedstrijd zijn te raadplegen via dezelfde website of via de bekende websites zoals uitslagen.nl\, runtimer en mylaps. Doet u mee met dit evenement\, zorg dan dat u goed voorbereid aan de start staat! Met een goed trainingsschema komt u een heel eind. Train bijvoorbeeld met start to run van Evy Gruyaert. Download de start to run mp3 bestanden en zet ze op uw telefoon. Oortjes in\, hit the play button en en rennen maar! \n\n\n\n\nMeer informatie over Nasty Night Trail op Hardloopkalender.nl  \nHet loopevenement Nasty Night Trail te Oostvoorne vindt plaats op zaterdag 25 oktober 2014. De loop wordt georganisseerd door Voorne Atletiek. Klik hier voor het adres van de start (Google Maps).Bijzonderheden: Trail in het donker door de duinen van Voorne. \n  \n  \n 
URL:https://hardloopevenementen.com/loopagenda/nasty-night-trail-oostvoorne-gemeente-westvoorne-zh/
END:VEVENT
END:VCALENDAR