BEGIN:VCALENDAR
VERSION:2.0
PRODID:-//Hardloopevenementen - ECPv6.15.14//NONSGML v1.0//EN
CALSCALE:GREGORIAN
METHOD:PUBLISH
X-WR-CALNAME:Hardloopevenementen
X-ORIGINAL-URL:https://hardloopevenementen.com
X-WR-CALDESC:Evenementen voor Hardloopevenementen
REFRESH-INTERVAL;VALUE=DURATION:PT1H
X-Robots-Tag:noindex
X-PUBLISHED-TTL:PT1H
BEGIN:VTIMEZONE
TZID:UTC
BEGIN:STANDARD
TZOFFSETFROM:+0000
TZOFFSETTO:+0000
TZNAME:UTC
DTSTART:20170101T000000
END:STANDARD
END:VTIMEZONE
BEGIN:VEVENT
DTSTART;VALUE=DATE:20181104
DTEND;VALUE=DATE:20181105
DTSTAMP:20260421T231013
CREATED:20110524T080523Z
LAST-MODIFIED:20190423T120140Z
UID:15694-1541289600-1541289600@hardloopevenementen.com
SUMMARY:Nedereindse Berg Loop Utrecht (UT)
DESCRIPTION:Doe mee met het hardloopevenement Nedereindse Berg Loop te Utrecht (UT) op zo 04 nov 2018. De volgende afstanden staan op het programma: 1\,1 km – 2\,2 km – 5 km – 10 km hardlopen. Wilt u inschrijven voor dit loopevenement?  Raadpleeg hiervoor dan de website van de organisatie\nDe uitslagen van deze hardloopwedstrijd zijn te raadplegen via dezelfde website of via de bekende websites zoals uitslagen.nl\, runtimer en mylaps. Doet u mee met dit evenement\, zorg dan dat u goed voorbereid aan de start staat! Met een goed trainingsschema komt u een heel eind. Train bijvoorbeeld met start to run van Evy Gruyaert. Download de start to run mp3 bestanden en zet ze op uw telefoon. Oortjes in\, hit the play button en en rennen maar! \n\n\n\n\nMeer informatie over Nedereindse Berg Loop op Hardloopkalender.nl  \nDe 6e Nedereindse Berg Loop 2018    Een leuk kleinschalige loopevent     Met de heavy 2\,2 kidstrail 5 en 10 trail  De “normale” 1\,1 kidsrun de vernieuwde 5 k en de traditionele 10 k    11:00 uur Heavy 5 k & Heavy 10 ( off road )  12:00 uur prijsuitreiking Heavy 5   12:15 uur prijsuitreiking Heavy 10  13:00 uur Heavy 2 Kidstrail (ca 2\,2 km)  13:20 uur Kidsrun (ca 1\,2 km)  14:00 uur 5K &  Rob de Goeij 10K  15:00 uur prijsuitreiking 5 km  15:15 uur prijsuitreiking 10 km  15:30 uur sluit de massage e.d. \n  \n  \n 
URL:https://hardloopevenementen.com/loopagenda/nedereindse-berg-loop-utrecht-ut/
END:VEVENT
END:VCALENDAR