BEGIN:VCALENDAR
VERSION:2.0
PRODID:-//Hardloopevenementen - ECPv6.15.14//NONSGML v1.0//EN
CALSCALE:GREGORIAN
METHOD:PUBLISH
X-ORIGINAL-URL:https://hardloopevenementen.com
X-WR-CALDESC:Evenementen voor Hardloopevenementen
REFRESH-INTERVAL;VALUE=DURATION:PT1H
X-Robots-Tag:noindex
X-PUBLISHED-TTL:PT1H
BEGIN:VTIMEZONE
TZID:UTC
BEGIN:STANDARD
TZOFFSETFROM:+0000
TZOFFSETTO:+0000
TZNAME:UTC
DTSTART:20070101T000000
END:STANDARD
END:VTIMEZONE
BEGIN:VEVENT
DTSTART;VALUE=DATE:20150705
DTEND;VALUE=DATE:20150706
DTSTAMP:20260420T231153
CREATED:20090418T043559Z
LAST-MODIFIED:20190423T111045Z
UID:10115-1436054400-1436054400@hardloopevenementen.com
SUMMARY:Nelli Cooman Run Stadskanaal (GR)
DESCRIPTION:Doe mee met het hardloopevenement Nelli Cooman Run te Stadskanaal (GR) op zo 05 jul 2015. De volgende afstanden staan op het programma: 10 km hardlopen. Wilt u inschrijven voor dit loopevenement?  Raadpleeg hiervoor dan de website van de organisatie\nDe uitslagen van deze hardloopwedstrijd zijn te raadplegen via dezelfde website of via de bekende websites zoals uitslagen.nl\, runtimer en mylaps. Doet u mee met dit evenement\, zorg dan dat u goed voorbereid aan de start staat! Met een goed trainingsschema komt u een heel eind. Train bijvoorbeeld met start to run van Evy Gruyaert. Download de start to run mp3 bestanden en zet ze op uw telefoon. Oortjes in\, hit the play button en en rennen maar! \n\n\n\n\nMeer informatie over Nelli Cooman Run op Hardloopkalender.nl  \nHet loopevenement Nelli Cooman Run te Stadskanaal vindt plaats op zondag 05 juli 2015. \n  \n  \n 
URL:https://hardloopevenementen.com/loopagenda/nelli-cooman-run-stadskanaal-gr-2/
END:VEVENT
BEGIN:VEVENT
DTSTART;VALUE=DATE:20130519
DTEND;VALUE=DATE:20130520
DTSTAMP:20260420T231153
CREATED:20111215T055102Z
LAST-MODIFIED:20190423T104244Z
UID:31728-1368921600-1368921600@hardloopevenementen.com
SUMMARY:Nelli Cooman Run Stadskanaal (GR)
DESCRIPTION:Doe mee met het hardloopevenement Nelli Cooman Run te Stadskanaal (GR) op zo 19 mei 2013. De volgende afstanden staan op het programma: 10 km hardlopen. Wilt u inschrijven voor dit loopevenement?  Raadpleeg hiervoor dan de website van de organisatie\nDe uitslagen van deze hardloopwedstrijd zijn te raadplegen via dezelfde website of via de bekende websites zoals uitslagen.nl\, runtimer en mylaps. Doet u mee met dit evenement\, zorg dan dat u goed voorbereid aan de start staat! Met een goed trainingsschema komt u een heel eind. Train bijvoorbeeld met start to run van Evy Gruyaert. Download de start to run mp3 bestanden en zet ze op uw telefoon. Oortjes in\, hit the play button en en rennen maar! \n\n\n\n\nMeer informatie over Nelli Cooman Run op Hardloopkalender.nl  \nHet loopevenement Nelli Cooman Run te Stadskanaal vindt plaats op zondag 19 mei 2013. De loop wordt georganisseerd door Stichting Nelli Cooman Games. Inschrijven is mogelijk vanaf 31 oktober 2012. Klik hier voor het adres van de start (Google Maps).Er is verkleedaccomodatie met douchemogelijkheid aanwezig. Er is EHBO aanwezig. Voor meer informatie:R.J Huizingainfo@nellicoomangames.nl0622842829http:  www.nellicoomangames.nl \n  \n  \n 
URL:https://hardloopevenementen.com/loopagenda/nelli-cooman-run-stadskanaal-gr-5/
END:VEVENT
BEGIN:VEVENT
DTSTART;VALUE=DATE:20120617
DTEND;VALUE=DATE:20120618
DTSTAMP:20260420T231153
CREATED:20100416T100728Z
LAST-MODIFIED:20190423T103128Z
UID:28139-1339891200-1339891200@hardloopevenementen.com
SUMMARY:Nelli Cooman Run Stadskanaal (GR)
DESCRIPTION:Doe mee met het hardloopevenement Nelli Cooman Run te Stadskanaal (GR) op zo 17 jun 2012. De volgende afstanden staan op het programma: 1\,5 km hardlopen. Wilt u inschrijven voor dit loopevenement?  Raadpleeg hiervoor dan de website van de organisatie\nDe uitslagen van deze hardloopwedstrijd zijn te raadplegen via dezelfde website of via de bekende websites zoals uitslagen.nl\, runtimer en mylaps. Doet u mee met dit evenement\, zorg dan dat u goed voorbereid aan de start staat! Met een goed trainingsschema komt u een heel eind. Train bijvoorbeeld met start to run van Evy Gruyaert. Download de start to run mp3 bestanden en zet ze op uw telefoon. Oortjes in\, hit the play button en en rennen maar! \n\n\n\n\nMeer informatie over Nelli Cooman Run op Hardloopkalender.nl  \nHet loopevenement Nelli Cooman Run te Stadskanaal vindt plaats op zondag 17 juni 2012. De loop wordt georganiseerd door Stichting Nelli Cooman Games. Inschrijven is mogelijk vanaf 01 februari 2012. Klik hier voor het adres van de start (Google Maps).Er is EHBO aanwezig. Afstand SoortloopInschrijfgeldStarttijdInfo1.5 km0\,0014.30Voor meer informatie:R.J Huizingainfo@nellicoomangames.nl0622842829http:  www.nellicoomangames.nl \n  \n  \n 
URL:https://hardloopevenementen.com/loopagenda/nelli-cooman-run-stadskanaal-gr-4/
END:VEVENT
BEGIN:VEVENT
DTSTART;VALUE=DATE:20100227
DTEND;VALUE=DATE:20100228
DTSTAMP:20260420T231153
CREATED:20080624T140411Z
LAST-MODIFIED:20190423T101351Z
UID:23930-1267228800-1267228800@hardloopevenementen.com
SUMMARY:Nelli Cooman Run Stadskanaal (GR)
DESCRIPTION:Doe mee met het hardloopevenement Nelli Cooman Run te Stadskanaal (GR) op za 27 feb 2010. De volgende afstanden staan op het programma: 2\,5 km – 5 km – 10 km hardlopen. Wilt u inschrijven voor dit loopevenement?  Raadpleeg hiervoor dan de website van de organisatie\nDe uitslagen van deze hardloopwedstrijd zijn te raadplegen via dezelfde website of via de bekende websites zoals uitslagen.nl\, runtimer en mylaps. Doet u mee met dit evenement\, zorg dan dat u goed voorbereid aan de start staat! Met een goed trainingsschema komt u een heel eind. Train bijvoorbeeld met start to run van Evy Gruyaert. Download de start to run mp3 bestanden en zet ze op uw telefoon. Oortjes in\, hit the play button en en rennen maar! \n\n\n\n\nMeer informatie over Nelli Cooman Run op Hardloopkalender.nl  \nDit loopevenement wordt georganiseerd door Stichting Nelli Cooman Games.De eerste afstand (of onderdeel) start om 14:00.Het adres van de start en de finish is Hoveniersweg 1Categorie(ën): mannen\, vrouwenVooraf inschrijven is mogelijk vanaf 27 februari 2010 tot niet van toepassing.Inschrijven op de dag van de loop is mogelijk (vanaf 12:00 uur) op dit adres: Sportcentrum Pagedal  Hoveniersweg 1  9502 BW Stadskanaal.Meer informatie:Contactpersoon: Nelli Cooman GamesTel.: 0653358767Email: info@nellicoomangames.nlEr is een kleedaccomodatie aanwezig. Douchen is mogelijk.Het parcours is verhard.Overige bijzonderheden:  onderdeel Univé Loopcircuit.  Ook:Sportdag voor mensen met beperking \n  \n  \n 
URL:https://hardloopevenementen.com/loopagenda/nelli-cooman-run-stadskanaal-gr-3/
END:VEVENT
BEGIN:VEVENT
DTSTART;VALUE=DATE:20091114
DTEND;VALUE=DATE:20091115
DTSTAMP:20260420T231153
CREATED:20070923T003218Z
LAST-MODIFIED:20190423T095720Z
UID:1471-1258156800-1258156800@hardloopevenementen.com
SUMMARY:Nelli Cooman Run Stadskanaal (GR)
DESCRIPTION:Doe mee met het hardloopevenement Nelli Cooman Run te Stadskanaal (GR) op za 14 nov 2009. De volgende afstanden staan op het programma: 10 km hardlopen. Wilt u inschrijven voor dit loopevenement?  Raadpleeg hiervoor dan de website van de organisatie\nDe uitslagen van deze hardloopwedstrijd zijn te raadplegen via dezelfde website of via de bekende websites zoals uitslagen.nl\, runtimer en mylaps. Doet u mee met dit evenement\, zorg dan dat u goed voorbereid aan de start staat! Met een goed trainingsschema komt u een heel eind. Train bijvoorbeeld met start to run van Evy Gruyaert. Download de start to run mp3 bestanden en zet ze op uw telefoon. Oortjes in\, hit the play button en en rennen maar! \n\n\n\n\nMeer informatie over Nelli Cooman Run op Hardloopkalender.nl  \n10 km 14:00 uur \n  \n  \n 
URL:https://hardloopevenementen.com/loopagenda/nelli-cooman-run-stadskanaal-gr/
END:VEVENT
BEGIN:VEVENT
DTSTART;VALUE=DATE:20080607
DTEND;VALUE=DATE:20080608
DTSTAMP:20260420T231153
CREATED:20141107T232928Z
LAST-MODIFIED:20190423T094700Z
UID:19598-1212796800-1212796800@hardloopevenementen.com
SUMMARY:Nelli Cooman Fonds Charity Run Stadskanaal
DESCRIPTION:Doe mee met het hardloopevenement Nelli Cooman Fonds Charity Run te Stadskanaal op za 07 jun 2008. De volgende afstanden staan op het programma: 10 km hardlopen. Wilt u inschrijven voor dit loopevenement?  Raadpleeg hiervoor dan de website van de organisatie\nDe uitslagen van deze hardloopwedstrijd zijn te raadplegen via dezelfde website of via de bekende websites zoals uitslagen.nl\, runtimer en mylaps. Doet u mee met dit evenement\, zorg dan dat u goed voorbereid aan de start staat! Met een goed trainingsschema komt u een heel eind. Train bijvoorbeeld met start to run van Evy Gruyaert. Download de start to run mp3 bestanden en zet ze op uw telefoon. Oortjes in\, hit the play button en en rennen maar! \n\n\n\n\nMeer informatie over Nelli Cooman Fonds Charity Run op Hardloopkalender.nl  \nstart  10 km 18:00 uur \n  \n  \n 
URL:https://hardloopevenementen.com/loopagenda/nelli-cooman-fonds-charity-run-stadskanaal/
END:VEVENT
END:VCALENDAR