BEGIN:VCALENDAR
VERSION:2.0
PRODID:-//Hardloopevenementen - ECPv6.15.14//NONSGML v1.0//EN
CALSCALE:GREGORIAN
METHOD:PUBLISH
X-WR-CALNAME:Hardloopevenementen
X-ORIGINAL-URL:https://hardloopevenementen.com
X-WR-CALDESC:Evenementen voor Hardloopevenementen
REFRESH-INTERVAL;VALUE=DURATION:PT1H
X-Robots-Tag:noindex
X-PUBLISHED-TTL:PT1H
BEGIN:VTIMEZONE
TZID:UTC
BEGIN:STANDARD
TZOFFSETFROM:+0000
TZOFFSETTO:+0000
TZNAME:UTC
DTSTART:20060101T000000
END:STANDARD
END:VTIMEZONE
BEGIN:VEVENT
DTSTART;VALUE=DATE:20100918
DTEND;VALUE=DATE:20100919
DTSTAMP:20260423T072447
CREATED:20120529T023120Z
LAST-MODIFIED:20190423T100842Z
UID:3597-1284768000-1284768000@hardloopevenementen.com
SUMMARY:Newline halve marathon Hattem (GE)
DESCRIPTION:Doe mee met het hardloopevenement Newline halve marathon te Hattem (GE) op za 18 sep 2010. De volgende afstanden staan op het programma: 1 km – 5 km – 7 km – 14\,3 km – halve marathon hardlopen. Wilt u inschrijven voor dit loopevenement?  Raadpleeg hiervoor dan de website van de organisatie\nDe uitslagen van deze hardloopwedstrijd zijn te raadplegen via dezelfde website of via de bekende websites zoals uitslagen.nl\, runtimer en mylaps. Doet u mee met dit evenement\, zorg dan dat u goed voorbereid aan de start staat! Met een goed trainingsschema komt u een heel eind. Train bijvoorbeeld met start to run van Evy Gruyaert. Download de start to run mp3 bestanden en zet ze op uw telefoon. Oortjes in\, hit the play button en en rennen maar! \n\n\n\n\nMeer informatie over Newline halve marathon op Hardloopkalender.nl  \nDit loopevenement wordt georganiseerd door AV De Gemzen.De eerste afstand (of onderdeel) start om 15:35.Het adres van de start is Stationslaan 2 Het adres van de finish is Markt1Categorie(ën): mannen\, vrouwen\, jeugdVooraf inschrijven is mogelijk vanaf 01 maart 2010 tot 14 september 2010.Inschrijven op de dag van de loop is mogelijk (vanaf 15.00 uur) op dit adres: Stationslaan 2 Hattem.Meer informatie:Contactpersoon: M.H. DijkslagTel.: 0578694041Email: woc@gemzen.nlEr is een kleedaccomodatie aanwezig. Douchen is mogelijk.Het parcours is verhard.Vorig jaar deden er 950 lopers mee aan dit evenement.Overige bijzonderheden:  estafette loop van min 4 pers.en max 7 pers door de gemeente De Wolden \n  \n  \n 
URL:https://hardloopevenementen.com/loopagenda/newline-halve-marathon-hattem-ge/
END:VEVENT
BEGIN:VEVENT
DTSTART;VALUE=DATE:20090919
DTEND;VALUE=DATE:20090920
DTSTAMP:20260423T072447
CREATED:20130612T184725Z
LAST-MODIFIED:20190423T095845Z
UID:1783-1253318400-1253318400@hardloopevenementen.com
SUMMARY:7e Newline Halve Marathon Hattem (GE)
DESCRIPTION:Doe mee met het hardloopevenement 7e Newline Halve Marathon te Hattem (GE) op za 19 sep 2009. De volgende afstanden staan op het programma: 5 km – 7 km – 14\,1 km – halve marathon hardlopen. Wilt u inschrijven voor dit loopevenement?  Raadpleeg hiervoor dan de website van de organisatie\nDe uitslagen van deze hardloopwedstrijd zijn te raadplegen via dezelfde website of via de bekende websites zoals uitslagen.nl\, runtimer en mylaps. Doet u mee met dit evenement\, zorg dan dat u goed voorbereid aan de start staat! Met een goed trainingsschema komt u een heel eind. Train bijvoorbeeld met start to run van Evy Gruyaert. Download de start to run mp3 bestanden en zet ze op uw telefoon. Oortjes in\, hit the play button en en rennen maar! \n\n\n\n\nMeer informatie over 7e Newline Halve Marathon op Hardloopkalender.nl  \n5-7-14\,1-21\,1-21\,1 km 0:00 uur \n  \n  \n 
URL:https://hardloopevenementen.com/loopagenda/7e-newline-halve-marathon-hattem-ge/
END:VEVENT
BEGIN:VEVENT
DTSTART;VALUE=DATE:20080920
DTEND;VALUE=DATE:20080921
DTSTAMP:20260423T072447
CREATED:20100128T162032Z
LAST-MODIFIED:20190423T094519Z
UID:19155-1221868800-1221868800@hardloopevenementen.com
SUMMARY:6e Newline Halve Marathon Hattem
DESCRIPTION:Doe mee met het hardloopevenement 6e Newline Halve Marathon te Hattem op za 20 sep 2008. De volgende afstanden staan op het programma: 5 km – 7\,5 km – 14\,3 km – halve marathon hardlopen. Wilt u inschrijven voor dit loopevenement?  Raadpleeg hiervoor dan de website van de organisatie\nDe uitslagen van deze hardloopwedstrijd zijn te raadplegen via dezelfde website of via de bekende websites zoals uitslagen.nl\, runtimer en mylaps. Doet u mee met dit evenement\, zorg dan dat u goed voorbereid aan de start staat! Met een goed trainingsschema komt u een heel eind. Train bijvoorbeeld met start to run van Evy Gruyaert. Download de start to run mp3 bestanden en zet ze op uw telefoon. Oortjes in\, hit the play button en en rennen maar! \n\n\n\n\nMeer informatie over 6e Newline Halve Marathon op Hardloopkalender.nl  \n5-7\,5-14\,3-21\,1 km \n  \n  \n 
URL:https://hardloopevenementen.com/loopagenda/6e-newline-halve-marathon-hattem/
END:VEVENT
BEGIN:VEVENT
DTSTART;VALUE=DATE:20070922
DTEND;VALUE=DATE:20070923
DTSTAMP:20260423T072447
CREATED:20141031T223755Z
LAST-MODIFIED:20190423T093902Z
UID:292-1190419200-1190419200@hardloopevenementen.com
SUMMARY:Newline halve marathon Hattem
DESCRIPTION:Doe mee met het hardloopevenement Newline halve marathon te Hattem op za 22 sep 2007. De volgende afstanden staan op het programma: halve marathon hardlopen. Wilt u inschrijven voor dit loopevenement?  Raadpleeg hiervoor dan de website van de organisatie\nDe uitslagen van deze hardloopwedstrijd zijn te raadplegen via dezelfde website of via de bekende websites zoals uitslagen.nl\, runtimer en mylaps. Doet u mee met dit evenement\, zorg dan dat u goed voorbereid aan de start staat! Met een goed trainingsschema komt u een heel eind. Train bijvoorbeeld met start to run van Evy Gruyaert. Download de start to run mp3 bestanden en zet ze op uw telefoon. Oortjes in\, hit the play button en en rennen maar! \n\n\n\n\nMeer informatie over Newline halve marathon op Hardloopkalender.nl  \n  \n  \n 
URL:https://hardloopevenementen.com/loopagenda/newline-halve-marathon-hattem/
END:VEVENT
BEGIN:VEVENT
DTSTART;VALUE=DATE:20070922
DTEND;VALUE=DATE:20070923
DTSTAMP:20260423T072447
CREATED:20100804T032020Z
LAST-MODIFIED:20190423T093902Z
UID:293-1190419200-1190419200@hardloopevenementen.com
SUMMARY:Newline Ladies run Hattem
DESCRIPTION:Doe mee met het hardloopevenement Newline Ladies run te Hattem op za 22 sep 2007. De volgende afstanden staan op het programma: 5 km hardlopen. Wilt u inschrijven voor dit loopevenement?  Raadpleeg hiervoor dan de website van de organisatie\nDe uitslagen van deze hardloopwedstrijd zijn te raadplegen via dezelfde website of via de bekende websites zoals uitslagen.nl\, runtimer en mylaps. Doet u mee met dit evenement\, zorg dan dat u goed voorbereid aan de start staat! Met een goed trainingsschema komt u een heel eind. Train bijvoorbeeld met start to run van Evy Gruyaert. Download de start to run mp3 bestanden en zet ze op uw telefoon. Oortjes in\, hit the play button en en rennen maar! \n\n\n\n\nMeer informatie over Newline Ladies run op Hardloopkalender.nl  \n  \n  \n 
URL:https://hardloopevenementen.com/loopagenda/newline-ladies-run-hattem/
END:VEVENT
END:VCALENDAR