BEGIN:VCALENDAR
VERSION:2.0
PRODID:-//Hardloopevenementen - ECPv6.15.14//NONSGML v1.0//EN
CALSCALE:GREGORIAN
METHOD:PUBLISH
X-ORIGINAL-URL:https://hardloopevenementen.com
X-WR-CALDESC:Evenementen voor Hardloopevenementen
REFRESH-INTERVAL;VALUE=DURATION:PT1H
X-Robots-Tag:noindex
X-PUBLISHED-TTL:PT1H
BEGIN:VTIMEZONE
TZID:UTC
BEGIN:STANDARD
TZOFFSETFROM:+0000
TZOFFSETTO:+0000
TZNAME:UTC
DTSTART:20100101T000000
END:STANDARD
END:VTIMEZONE
BEGIN:VEVENT
DTSTART;VALUE=DATE:20111009
DTEND;VALUE=DATE:20111010
DTSTAMP:20260421T062340
CREATED:20170917T233906Z
LAST-MODIFIED:20190423T101807Z
UID:6166-1318118400-1318118400@hardloopevenementen.com
SUMMARY:NIK Boscross Noordwijkerhout (ZH)
DESCRIPTION:Doe mee met het hardloopevenement NIK Boscross te Noordwijkerhout (ZH) op zo 09 okt 2011. De volgende afstanden staan op het programma: 5\,2 km hardlopen. Wilt u inschrijven voor dit loopevenement?  Raadpleeg hiervoor dan de website van de organisatie\nDe uitslagen van deze hardloopwedstrijd zijn te raadplegen via dezelfde website of via de bekende websites zoals uitslagen.nl\, runtimer en mylaps. Doet u mee met dit evenement\, zorg dan dat u goed voorbereid aan de start staat! Met een goed trainingsschema komt u een heel eind. Train bijvoorbeeld met start to run van Evy Gruyaert. Download de start to run mp3 bestanden en zet ze op uw telefoon. Oortjes in\, hit the play button en en rennen maar! \n\n\n\n\nMeer informatie over NIK Boscross op Hardloopkalender.nl  \nHet loopevenement NIK Boscross te Noordwijkerhout vindt plaats op zondag 09 oktober 2011. De loop wordt georganiseerd door Noordwijkerhoutse Strandlopers. Inschrijven is mogelijk vanaf 02 september 2011. Klik hier voor het adres van de start (Google Maps).Er is geen verkleedaccomodatie aanwezig. Er is EHBO aanwezig. Bijzonderheden: Boscross\, eerst van 4 crossen in de buurt..Afstand(km)Inschrijfgeld(€)Starttijd2\,580€2\,5010:305\,160€4\,0010:3010\,360€6\,5010:30Voor meer informatie:Corine van der Valkpublicrelations@av-nls.nl0636056791http:  www.av-nsl.nl \n  \n  \n 
URL:https://hardloopevenementen.com/loopagenda/nik-boscross-noordwijkerhout-zh/
END:VEVENT
END:VCALENDAR