BEGIN:VCALENDAR
VERSION:2.0
PRODID:-//Hardloopevenementen - ECPv6.15.14//NONSGML v1.0//EN
CALSCALE:GREGORIAN
METHOD:PUBLISH
X-WR-CALNAME:Hardloopevenementen
X-ORIGINAL-URL:https://hardloopevenementen.com
X-WR-CALDESC:Evenementen voor Hardloopevenementen
REFRESH-INTERVAL;VALUE=DURATION:PT1H
X-Robots-Tag:noindex
X-PUBLISHED-TTL:PT1H
BEGIN:VTIMEZONE
TZID:UTC
BEGIN:STANDARD
TZOFFSETFROM:+0000
TZOFFSETTO:+0000
TZNAME:UTC
DTSTART:20090101T000000
END:STANDARD
END:VTIMEZONE
BEGIN:VEVENT
DTSTART;VALUE=DATE:20100207
DTEND;VALUE=DATE:20100208
DTSTAMP:20260423T151516
CREATED:20140826T191412Z
LAST-MODIFIED:20190423T101418Z
UID:24023-1265500800-1265500800@hardloopevenementen.com
SUMMARY:Panbos Trimlopen Zeist nr340 Zeist (UT)
DESCRIPTION:Doe mee met het hardloopevenement Panbos Trimlopen Zeist nr340 te Zeist (UT) op zo 07 feb 2010. De volgende afstanden staan op het programma: 1 km – 3 km – 6 km – 9 km – 12 km – 15 km – 18 km – halve marathon hardlopen. Wilt u inschrijven voor dit loopevenement?  Raadpleeg hiervoor dan de website van de organisatie\nDe uitslagen van deze hardloopwedstrijd zijn te raadplegen via dezelfde website of via de bekende websites zoals uitslagen.nl\, runtimer en mylaps. Doet u mee met dit evenement\, zorg dan dat u goed voorbereid aan de start staat! Met een goed trainingsschema komt u een heel eind. Train bijvoorbeeld met start to run van Evy Gruyaert. Download de start to run mp3 bestanden en zet ze op uw telefoon. Oortjes in\, hit the play button en en rennen maar! \n\n\n\n\nMeer informatie over Panbos Trimlopen Zeist nr340 op Hardloopkalender.nl  \nDit loopevenement wordt georganiseerd door U-Track.De eerste afstand (of onderdeel) start om 12:00.Het adres van de start en de finish is Amersfoortseweg 1Categorie(ën): mannen\, vrouwen\, jeugdVooraf inschrijven is mogelijk vanaf 03 januari 2010 tot 03 januari 2010.Inschrijven op de dag van de loop is mogelijk (vanaf Voorafgaande aan de training) op dit adres: Spijkenisse – AV Spark  Plaatweg Atletiekpad 1  Spijkenisse.Meer informatie:Contactpersoon: Edward M.K.TolTel.: 0302610215Email: info.trimlopen@hccnet.nlEr is een kleedaccomodatie aanwezig. Douchen is niet mogelijk.Het parcours is onverhard.Overige bijzonderheden:  verkeersvrij-verloting-geen voorinschrijving \n  \n  \n 
URL:https://hardloopevenementen.com/loopagenda/panbos-trimlopen-zeist-nr340-zeist-ut/
END:VEVENT
END:VCALENDAR