BEGIN:VCALENDAR
VERSION:2.0
PRODID:-//Hardloopevenementen - ECPv6.15.14//NONSGML v1.0//EN
CALSCALE:GREGORIAN
METHOD:PUBLISH
X-WR-CALNAME:Hardloopevenementen
X-ORIGINAL-URL:https://hardloopevenementen.com
X-WR-CALDESC:Evenementen voor Hardloopevenementen
REFRESH-INTERVAL;VALUE=DURATION:PT1H
X-Robots-Tag:noindex
X-PUBLISHED-TTL:PT1H
BEGIN:VTIMEZONE
TZID:UTC
BEGIN:STANDARD
TZOFFSETFROM:+0000
TZOFFSETTO:+0000
TZNAME:UTC
DTSTART:20110101T000000
END:STANDARD
END:VTIMEZONE
BEGIN:VEVENT
DTSTART;VALUE=DATE:20120401
DTEND;VALUE=DATE:20120402
DTSTAMP:20260419T234512
CREATED:20120131T235526Z
LAST-MODIFIED:20190423T103324Z
UID:28597-1333238400-1333238400@hardloopevenementen.com
SUMMARY:Panbos ROPArun loop  Zeist nr366 Zeist (UT)
DESCRIPTION:Doe mee met het hardloopevenement Panbos ROPArun loop  Zeist nr366 te Zeist (UT) op zo 01 apr 2012. De volgende afstanden staan op het programma: 1 km – 3 km – 6 km – 9 km – 12 km – 15 km – 18 km – halve marathon hardlopen. Wilt u inschrijven voor dit loopevenement?  Raadpleeg hiervoor dan de website van de organisatie\nDe uitslagen van deze hardloopwedstrijd zijn te raadplegen via dezelfde website of via de bekende websites zoals uitslagen.nl\, runtimer en mylaps. Doet u mee met dit evenement\, zorg dan dat u goed voorbereid aan de start staat! Met een goed trainingsschema komt u een heel eind. Train bijvoorbeeld met start to run van Evy Gruyaert. Download de start to run mp3 bestanden en zet ze op uw telefoon. Oortjes in\, hit the play button en en rennen maar! \n\n\n\n\nMeer informatie over Panbos ROPArun loop  Zeist nr366 op Hardloopkalender.nl  \nHet loopevenement Panbos ROPArun loop  Zeist nr.366 te Zeist vindt plaats op zondag 01 april 2012. De loop wordt georganiseerd door U-Track. Inschrijven is mogelijk vanaf 01 april 2012. Klik hier voor het adres van de start (Google Maps).Er is EHBO aanwezig. Bijzonderheden: Deze loop staat in het teken van de sponsoring van de ROPArun. Toeslag € 0\,50.Afstand SoortloopInschrijfgeldStarttijdInfo1 km3\,0012.05uur3 km3\,0012.00uur6 km3\,0012.00uur9 km3\,0012.00uur12 km3\,0012.00uur15 km3\,0012.00uur18 km3\,0012.00uur21 km3\,0012.00uurVoor meer informatie:Edward M.K.Tolinfo.trimlopen@hccnet.nl0302610215http:  u-track.nl \n  \n  \n 
URL:https://hardloopevenementen.com/loopagenda/panbos-roparun-loop-zeist-nr366-zeist-ut/
END:VEVENT
END:VCALENDAR