BEGIN:VCALENDAR
VERSION:2.0
PRODID:-//Hardloopevenementen - ECPv6.15.14//NONSGML v1.0//EN
CALSCALE:GREGORIAN
METHOD:PUBLISH
X-WR-CALNAME:Hardloopevenementen
X-ORIGINAL-URL:https://hardloopevenementen.com
X-WR-CALDESC:Evenementen voor Hardloopevenementen
REFRESH-INTERVAL;VALUE=DURATION:PT1H
X-Robots-Tag:noindex
X-PUBLISHED-TTL:PT1H
BEGIN:VTIMEZONE
TZID:UTC
BEGIN:STANDARD
TZOFFSETFROM:+0000
TZOFFSETTO:+0000
TZNAME:UTC
DTSTART:20120101T000000
END:STANDARD
END:VTIMEZONE
BEGIN:VEVENT
DTSTART;VALUE=DATE:20130106
DTEND;VALUE=DATE:20130107
DTSTAMP:20260425T134506
CREATED:20150101T080920Z
LAST-MODIFIED:20190423T104603Z
UID:32482-1357430400-1357430400@hardloopevenementen.com
SUMMARY:Panbos Trimlopen  Zeist nr375 Zeist (UT)
DESCRIPTION:Doe mee met het hardloopevenement Panbos Trimlopen  Zeist nr375 te Zeist (UT) op zo 06 jan 2013. De volgende afstanden staan op het programma: 1 km – 3 km – 6 km – 9 km – 12 km – 15 km – 18 km – halve marathon hardlopen. Wilt u inschrijven voor dit loopevenement?  Raadpleeg hiervoor dan de website van de organisatie\nDe uitslagen van deze hardloopwedstrijd zijn te raadplegen via dezelfde website of via de bekende websites zoals uitslagen.nl\, runtimer en mylaps. Doet u mee met dit evenement\, zorg dan dat u goed voorbereid aan de start staat! Met een goed trainingsschema komt u een heel eind. Train bijvoorbeeld met start to run van Evy Gruyaert. Download de start to run mp3 bestanden en zet ze op uw telefoon. Oortjes in\, hit the play button en en rennen maar! \n\n\n\n\nMeer informatie over Panbos Trimlopen  Zeist nr375 op Hardloopkalender.nl  \nHet loopevenement Panbos Trimlopen  Zeist nr.375 te Zeist vindt plaats op zondag 06 januari 2013. De loop wordt georganisseerd door U-Track. Inschrijven is mogelijk vanaf 06 januari 2012. Klik hier voor het adres van de start (Google Maps).Er is verkleedaccomodatie met douchemogelijkheid aanwezig. Er is EHBO aanwezig. Bijzonderheden: verkeersvrij-verloting-geen voorinschrijving.Voor meer informatie:Edward M.K.Tolinfo.trimlopen@hccnet.nl0302610215http:  u-track.nl \n  \n  \n 
URL:https://hardloopevenementen.com/loopagenda/panbos-trimlopen-zeist-nr375-zeist-ut/
END:VEVENT
END:VCALENDAR