BEGIN:VCALENDAR
VERSION:2.0
PRODID:-//Hardloopevenementen - ECPv6.15.14//NONSGML v1.0//EN
CALSCALE:GREGORIAN
METHOD:PUBLISH
X-WR-CALNAME:Hardloopevenementen
X-ORIGINAL-URL:https://hardloopevenementen.com
X-WR-CALDESC:Evenementen voor Hardloopevenementen
REFRESH-INTERVAL;VALUE=DURATION:PT1H
X-Robots-Tag:noindex
X-PUBLISHED-TTL:PT1H
BEGIN:VTIMEZONE
TZID:UTC
BEGIN:STANDARD
TZOFFSETFROM:+0000
TZOFFSETTO:+0000
TZNAME:UTC
DTSTART:20140101T000000
END:STANDARD
END:VTIMEZONE
BEGIN:VEVENT
DTSTART;VALUE=DATE:20190519
DTEND;VALUE=DATE:20190520
DTSTAMP:20260426T022051
CREATED:20141224T194622Z
LAST-MODIFIED:20191114T112630Z
UID:43694-1558224000-1558224000@hardloopevenementen.com
SUMMARY:Rondje Nuenen West Nuenen\, gemeente Nuenen\, Gerwen en Nederwetten (NB)
DESCRIPTION:Doe mee met het hardloopevenement Rondje Nuenen West te Nuenen\, gemeente Nuenen\, Gerwen en Nederwetten (NB) op zo 19 mei 2019. De volgende afstanden staan op het programma: 7 km – 14 km – halve marathon hardlopen. Wilt u inschrijven voor dit loopevenement?  Raadpleeg hiervoor dan de website van de organisatie\nDe uitslagen van deze hardloopwedstrijd zijn te raadplegen via dezelfde website of via de bekende websites zoals uitslagen.nl\, runtimer en mylaps. Doet u mee met dit evenement\, zorg dan dat u goed voorbereid aan de start staat! Met een goed trainingsschema komt u een heel eind. Train bijvoorbeeld met start to run van Evy Gruyaert. Download de start to run mp3 bestanden en zet ze op uw telefoon. Oortjes in\, hit the play button en en rennen maar! \n\n\n\n\nMeer informatie over Rondje Nuenen West op Hardloopkalender.nl  \nOp 19 mei 2019 is de derde editie van “Rondje Nuenen West”. Een prachtige run voor zowel recreatieve als wedstrijdlopers! Net als bij de eerste 2 edities van Rondje Nuenen West loopt de prachtige ronde dwars door de natuur\, grotendeels over onverharde paden\, in het groene gebied tussen Eindhoven en Nuenen. Het Eckartse Bos en het mooie Dommeldal zitten natuurlijk ook weer in de route. De start- finishplek is uiteraard weer in Nuenen West. \n  \n  \n 
URL:https://hardloopevenementen.com/loopagenda/rondje-nuenen-west-nuenen-gemeente-nuenen-gerwen-en-nederwetten-nb-3/
END:VEVENT
BEGIN:VEVENT
DTSTART;VALUE=DATE:20180602
DTEND;VALUE=DATE:20180603
DTSTAMP:20260426T022051
CREATED:20160807T054556Z
LAST-MODIFIED:20190423T120435Z
UID:16478-1527897600-1527897600@hardloopevenementen.com
SUMMARY:24e van Goghloop Nuenen Nuenen\, gemeente Nuenen\, Gerwen en Nederwetten (NB)
DESCRIPTION:Doe mee met het hardloopevenement 24e van Goghloop Nuenen te Nuenen\, gemeente Nuenen\, Gerwen en Nederwetten (NB) op za 02 jun 2018. De volgende afstanden staan op het programma: 5 km – 10 km – 15 km – halve marathon hardlopen. Wilt u inschrijven voor dit loopevenement?  Raadpleeg hiervoor dan de website van de organisatie\nDe uitslagen van deze hardloopwedstrijd zijn te raadplegen via dezelfde website of via de bekende websites zoals uitslagen.nl\, runtimer en mylaps. Doet u mee met dit evenement\, zorg dan dat u goed voorbereid aan de start staat! Met een goed trainingsschema komt u een heel eind. Train bijvoorbeeld met start to run van Evy Gruyaert. Download de start to run mp3 bestanden en zet ze op uw telefoon. Oortjes in\, hit the play button en en rennen maar! \n\n\n\n\nMeer informatie over 24e van Goghloop Nuenen op Hardloopkalender.nl  \nDe 24e van Goghloop met 5\, 10\, 15 km en een halve marathon. Met een prachting parcours door Nuenen. \n  \n  \n 
URL:https://hardloopevenementen.com/loopagenda/24e-van-goghloop-nuenen-nuenen-gemeente-nuenen-gerwen-en-nederwetten-nb/
END:VEVENT
BEGIN:VEVENT
DTSTART;VALUE=DATE:20180422
DTEND;VALUE=DATE:20180423
DTSTAMP:20260426T022051
CREATED:20151201T070942Z
LAST-MODIFIED:20190423T120530Z
UID:16724-1524355200-1524355200@hardloopevenementen.com
SUMMARY:Rondje Nuenen West Nuenen\, gemeente Nuenen\, Gerwen en Nederwetten (NB)
DESCRIPTION:Doe mee met het hardloopevenement Rondje Nuenen West te Nuenen\, gemeente Nuenen\, Gerwen en Nederwetten (NB) op zo 22 apr 2018. De volgende afstanden staan op het programma: 7\,5 km – 15 km – 22\,5 km hardlopen. Wilt u inschrijven voor dit loopevenement?  Raadpleeg hiervoor dan de website van de organisatie\nDe uitslagen van deze hardloopwedstrijd zijn te raadplegen via dezelfde website of via de bekende websites zoals uitslagen.nl\, runtimer en mylaps. Doet u mee met dit evenement\, zorg dan dat u goed voorbereid aan de start staat! Met een goed trainingsschema komt u een heel eind. Train bijvoorbeeld met start to run van Evy Gruyaert. Download de start to run mp3 bestanden en zet ze op uw telefoon. Oortjes in\, hit the play button en en rennen maar! \n\n\n\n\nMeer informatie over Rondje Nuenen West op Hardloopkalender.nl  \nOp 22 april 2018 is de tweede editie van “Rondje Nuenen West”. Een prachtige run voor zowel recreatieve als wedstrijdlopers! Net als bij de eerste eerste editie van Rondje Nuenen West loopt de prachtige ronde dwars door de natuur\, grotendeels over onverharde paden\, in het groene gebied tussen Eindhoven en Nuenen. Het Eckartse Bos en het mooie Dommeldal zullen ongetwijfeld weer in de route zitten. De start- finishplek is uiteraard weer in Nuenen West. Zodra het parcours definitief is vastgesteld publiceren we deze. \n  \n  \n 
URL:https://hardloopevenementen.com/loopagenda/rondje-nuenen-west-nuenen-gemeente-nuenen-gerwen-en-nederwetten-nb-2/
END:VEVENT
BEGIN:VEVENT
DTSTART;VALUE=DATE:20170603
DTEND;VALUE=DATE:20170604
DTSTAMP:20260426T022051
CREATED:20061126T173734Z
LAST-MODIFIED:20190423T114600Z
UID:14636-1496448000-1496448000@hardloopevenementen.com
SUMMARY:Van Goghloop Nuenen Nuenen\, gemeente Nuenen\, Gerwen en Nederwetten (NB)
DESCRIPTION:Doe mee met het hardloopevenement Van Goghloop Nuenen te Nuenen\, gemeente Nuenen\, Gerwen en Nederwetten (NB) op za 03 jun 2017. De volgende afstanden staan op het programma: 5 km – 10 km – 15 km – halve marathon hardlopen. Wilt u inschrijven voor dit loopevenement?  Raadpleeg hiervoor dan de website van de organisatie\nDe uitslagen van deze hardloopwedstrijd zijn te raadplegen via dezelfde website of via de bekende websites zoals uitslagen.nl\, runtimer en mylaps. Doet u mee met dit evenement\, zorg dan dat u goed voorbereid aan de start staat! Met een goed trainingsschema komt u een heel eind. Train bijvoorbeeld met start to run van Evy Gruyaert. Download de start to run mp3 bestanden en zet ze op uw telefoon. Oortjes in\, hit the play button en en rennen maar! \n\n\n\n\nMeer informatie over Van Goghloop Nuenen op Hardloopkalender.nl  \nDe gezelligste avondloop van Noord Brabant. Met 4 afstanden. \n  \n  \n 
URL:https://hardloopevenementen.com/loopagenda/van-goghloop-nuenen-nuenen-gemeente-nuenen-gerwen-en-nederwetten-nb/
END:VEVENT
BEGIN:VEVENT
DTSTART;VALUE=DATE:20170507
DTEND;VALUE=DATE:20170508
DTSTAMP:20260426T022051
CREATED:20171017T232118Z
LAST-MODIFIED:20190423T114643Z
UID:14826-1494115200-1494115200@hardloopevenementen.com
SUMMARY:Rondje Nuenen West Nuenen\, gemeente Nuenen\, Gerwen en Nederwetten (NB)
DESCRIPTION:Doe mee met het hardloopevenement Rondje Nuenen West te Nuenen\, gemeente Nuenen\, Gerwen en Nederwetten (NB) op zo 07 mei 2017. De volgende afstanden staan op het programma: 7\,5 km – 15 km hardlopen. Wilt u inschrijven voor dit loopevenement?  Raadpleeg hiervoor dan de website van de organisatie\nDe uitslagen van deze hardloopwedstrijd zijn te raadplegen via dezelfde website of via de bekende websites zoals uitslagen.nl\, runtimer en mylaps. Doet u mee met dit evenement\, zorg dan dat u goed voorbereid aan de start staat! Met een goed trainingsschema komt u een heel eind. Train bijvoorbeeld met start to run van Evy Gruyaert. Download de start to run mp3 bestanden en zet ze op uw telefoon. Oortjes in\, hit the play button en en rennen maar! \n\n\n\n\nMeer informatie over Rondje Nuenen West op Hardloopkalender.nl  \nOp 7 mei a.s. is de allereerste editie van “Rondje Nuenen West”. Een veldloop voor zowel recreatieve als wedstrijdlopers! De prachtige ronde loopt dwars door de natuur\, grotendeels over onverharde paden\, in het groene gebied tussen Eindhoven en Nuenen. Je rent o.a. langs Kasteel Eckart\, door het Eckartse Bos\, zó het mooie Dommeldal in en terug langs de Opwettense Watermolen naar de start- finishplek in Nuenen West. \n  \n  \n 
URL:https://hardloopevenementen.com/loopagenda/rondje-nuenen-west-nuenen-gemeente-nuenen-gerwen-en-nederwetten-nb/
END:VEVENT
BEGIN:VEVENT
DTSTART;VALUE=DATE:20150606
DTEND;VALUE=DATE:20150607
DTSTAMP:20260426T022051
CREATED:20140908T171653Z
LAST-MODIFIED:20190423T111145Z
UID:10349-1433548800-1433548800@hardloopevenementen.com
SUMMARY:21e van Goghloop Nuenen Nuenen\, gemeente Nuenen\, Gerwen en Nederwetten (NB)
DESCRIPTION:Doe mee met het hardloopevenement 21e van Goghloop Nuenen te Nuenen\, gemeente Nuenen\, Gerwen en Nederwetten (NB) op za 06 jun 2015. De volgende afstanden staan op het programma: 5 km – 10 km – 15 km – halve marathon hardlopen. Wilt u inschrijven voor dit loopevenement?  Raadpleeg hiervoor dan de website van de organisatie\nDe uitslagen van deze hardloopwedstrijd zijn te raadplegen via dezelfde website of via de bekende websites zoals uitslagen.nl\, runtimer en mylaps. Doet u mee met dit evenement\, zorg dan dat u goed voorbereid aan de start staat! Met een goed trainingsschema komt u een heel eind. Train bijvoorbeeld met start to run van Evy Gruyaert. Download de start to run mp3 bestanden en zet ze op uw telefoon. Oortjes in\, hit the play button en en rennen maar! \n\n\n\n\nMeer informatie over 21e van Goghloop Nuenen op Hardloopkalender.nl  \nDe 21e van Goghloop in Nuenen zal plaatsvinden op 6 juni 2015. Er zijn 4 afstanden te weten 5\, 10\, 15km en een halve marathon.   De voorinschrijving loopt tot en met 30 mei. Je krijgt dan je startnummer thuisgestuurd.  Daarna is alleen nog inschrijving op de dag zelf mogelijk tegen 2 euro meerkosten.    Voor meer info: info@vangoghloop.nl of  m.gielens1@gmail.com vermeld in het onderwerp dan wel van goghloop. \n  \n  \n 
URL:https://hardloopevenementen.com/loopagenda/21e-van-goghloop-nuenen-nuenen-gemeente-nuenen-gerwen-en-nederwetten-nb/
END:VEVENT
END:VCALENDAR