BEGIN:VCALENDAR
VERSION:2.0
PRODID:-//Hardloopevenementen - ECPv6.15.14//NONSGML v1.0//EN
CALSCALE:GREGORIAN
METHOD:PUBLISH
X-WR-CALNAME:Hardloopevenementen
X-ORIGINAL-URL:https://hardloopevenementen.com
X-WR-CALDESC:Evenementen voor Hardloopevenementen
REFRESH-INTERVAL;VALUE=DURATION:PT1H
X-Robots-Tag:noindex
X-PUBLISHED-TTL:PT1H
BEGIN:VTIMEZONE
TZID:UTC
BEGIN:STANDARD
TZOFFSETFROM:+0000
TZOFFSETTO:+0000
TZNAME:UTC
DTSTART:20090101T000000
END:STANDARD
END:VTIMEZONE
BEGIN:VEVENT
DTSTART;VALUE=DATE:20151004
DTEND;VALUE=DATE:20151005
DTSTAMP:20260423T185446
CREATED:20121023T063300Z
LAST-MODIFIED:20190423T110838Z
UID:9656-1443916800-1443916800@hardloopevenementen.com
SUMMARY:18e Oce-loop Venlo (LI)
DESCRIPTION:Doe mee met het hardloopevenement 18e Oce-loop te Venlo (LI) op zo 04 okt 2015. De volgende afstanden staan op het programma: 0\,8 km – 1\,5 km – 5 km – 10 km hardlopen. Wilt u inschrijven voor dit loopevenement?  Raadpleeg hiervoor dan de website van de organisatie\nDe uitslagen van deze hardloopwedstrijd zijn te raadplegen via dezelfde website of via de bekende websites zoals uitslagen.nl\, runtimer en mylaps. Doet u mee met dit evenement\, zorg dan dat u goed voorbereid aan de start staat! Met een goed trainingsschema komt u een heel eind. Train bijvoorbeeld met start to run van Evy Gruyaert. Download de start to run mp3 bestanden en zet ze op uw telefoon. Oortjes in\, hit the play button en en rennen maar! \n\n\n\n\nMeer informatie over 18e Oce-loop op Hardloopkalender.nl  \nHet loopevenement 18e Oce-loop te Venlo vindt plaats op zondag 04 oktober 2015. \n  \n  \n 
URL:https://hardloopevenementen.com/loopagenda/18e-oce-loop-venlo-li/
END:VEVENT
BEGIN:VEVENT
DTSTART;VALUE=DATE:20141005
DTEND;VALUE=DATE:20141006
DTSTAMP:20260423T185446
CREATED:20071011T174145Z
LAST-MODIFIED:20190423T105052Z
UID:9006-1412467200-1412467200@hardloopevenementen.com
SUMMARY:17e Oce-loop Venlo (LI)
DESCRIPTION:Doe mee met het hardloopevenement 17e Oce-loop te Venlo (LI) op zo 05 okt 2014. De volgende afstanden staan op het programma: 0\,8 km – 1\,5 km – 5 km – 10 km hardlopen. Wilt u inschrijven voor dit loopevenement?  Raadpleeg hiervoor dan de website van de organisatie\nDe uitslagen van deze hardloopwedstrijd zijn te raadplegen via dezelfde website of via de bekende websites zoals uitslagen.nl\, runtimer en mylaps. Doet u mee met dit evenement\, zorg dan dat u goed voorbereid aan de start staat! Met een goed trainingsschema komt u een heel eind. Train bijvoorbeeld met start to run van Evy Gruyaert. Download de start to run mp3 bestanden en zet ze op uw telefoon. Oortjes in\, hit the play button en en rennen maar! \n\n\n\n\nMeer informatie over 17e Oce-loop op Hardloopkalender.nl  \nHet loopevenement 17e OcÃ©-loop te Venlo vindt plaats op zondag 05 oktober 2014. De loop wordt georganisseerd door Oce Technologies. Klik hier voor het adres van de start (Google Maps).Bijzonderheden: De OcÃ©-loop is een gezellige loop voor jong en oud met een enthousiast publiek.. \n  \n  \n 
URL:https://hardloopevenementen.com/loopagenda/17e-oce-loop-venlo-li/
END:VEVENT
BEGIN:VEVENT
DTSTART;VALUE=DATE:20121007
DTEND;VALUE=DATE:20121008
DTSTAMP:20260423T185446
CREATED:20110106T132055Z
LAST-MODIFIED:20190423T102858Z
UID:7597-1349568000-1349568000@hardloopevenementen.com
SUMMARY:Oce-loop Venlo (LI)
DESCRIPTION:Doe mee met het hardloopevenement Oce-loop te Venlo (LI) op zo 07 okt 2012. De volgende afstanden staan op het programma: 0\,8 km – 1\,5 km – 2\,5 km – 5 km – 10 km hardlopen. Wilt u inschrijven voor dit loopevenement?  Raadpleeg hiervoor dan de website van de organisatie\nDe uitslagen van deze hardloopwedstrijd zijn te raadplegen via dezelfde website of via de bekende websites zoals uitslagen.nl\, runtimer en mylaps. Doet u mee met dit evenement\, zorg dan dat u goed voorbereid aan de start staat! Met een goed trainingsschema komt u een heel eind. Train bijvoorbeeld met start to run van Evy Gruyaert. Download de start to run mp3 bestanden en zet ze op uw telefoon. Oortjes in\, hit the play button en en rennen maar! \n\n\n\n\nMeer informatie over Oce-loop op Hardloopkalender.nl  \nHet loopevenement Océ-loop te Venlo vindt plaats op zondag 07 oktober 2012. De loop wordt georganiseerd door Oce Technologies. Inschrijven is mogelijk vanaf 02 juli 2012. Klik hier voor het adres van de start (Google Maps).Er is EHBO aanwezig. Afstand SoortloopInschrijfgeldStarttijdInfo2.5 km6\,0010:305 km6\,0010:3010 km6\,0010:300.75 km0\,0010:001.5 km0\,0010:002.5 km2\,0010:00Voor meer informatie:Rene van der Meerrene.vandermeer@oce.com0773593020http:  www.oceloop.nl \n  \n  \n 
URL:https://hardloopevenementen.com/loopagenda/oce-loop-venlo-li-3/
END:VEVENT
BEGIN:VEVENT
DTSTART;VALUE=DATE:20111002
DTEND;VALUE=DATE:20111003
DTSTAMP:20260423T185446
CREATED:20101210T104000Z
LAST-MODIFIED:20190423T101821Z
UID:6222-1317513600-1317513600@hardloopevenementen.com
SUMMARY:Oce--loop Venlo (LI)
DESCRIPTION:Doe mee met het hardloopevenement Oce–loop te Venlo (LI) op zo 02 okt 2011. De volgende afstanden staan op het programma: 2\,5 km – 5 km – 10 km hardlopen. Wilt u inschrijven voor dit loopevenement?  Raadpleeg hiervoor dan de website van de organisatie\nDe uitslagen van deze hardloopwedstrijd zijn te raadplegen via dezelfde website of via de bekende websites zoals uitslagen.nl\, runtimer en mylaps. Doet u mee met dit evenement\, zorg dan dat u goed voorbereid aan de start staat! Met een goed trainingsschema komt u een heel eind. Train bijvoorbeeld met start to run van Evy Gruyaert. Download de start to run mp3 bestanden en zet ze op uw telefoon. Oortjes in\, hit the play button en en rennen maar! \n\n\n\n\nMeer informatie over Oce–loop op Hardloopkalender.nl  \nHet loopevenement Océ–loop te Venlo vindt plaats op zondag 02 oktober 2011. De loop wordt georganiseerd door Oce Technologies. Inschrijven is mogelijk vanaf 03 juli 2011. Klik hier voor het adres van de start (Google Maps).Er is verkleedaccomodatie met douchemogelijkheid aanwezig. Er is EHBO aanwezig. Afstand(km)Inschrijfgeld(€)Starttijd2.5€5\,0010:305€5\,0010:3010€5\,0010:30Voor meer informatie:Rene van der Meerrene.vandermeer@oce.com0773593020http:  www.oceloop.nl \n  \n  \n 
URL:https://hardloopevenementen.com/loopagenda/oce-loop-venlo-li-2/
END:VEVENT
BEGIN:VEVENT
DTSTART;VALUE=DATE:20101003
DTEND;VALUE=DATE:20101004
DTSTAMP:20260423T185446
CREATED:20150908T011702Z
LAST-MODIFIED:20190423T100809Z
UID:3496-1286064000-1286064000@hardloopevenementen.com
SUMMARY:Oce-loop Venlo (LI)
DESCRIPTION:Doe mee met het hardloopevenement Oce-loop te Venlo (LI) op zo 03 okt 2010. De volgende afstanden staan op het programma: 2\,5 km – 5 km – 10 km hardlopen. Wilt u inschrijven voor dit loopevenement?  Raadpleeg hiervoor dan de website van de organisatie\nDe uitslagen van deze hardloopwedstrijd zijn te raadplegen via dezelfde website of via de bekende websites zoals uitslagen.nl\, runtimer en mylaps. Doet u mee met dit evenement\, zorg dan dat u goed voorbereid aan de start staat! Met een goed trainingsschema komt u een heel eind. Train bijvoorbeeld met start to run van Evy Gruyaert. Download de start to run mp3 bestanden en zet ze op uw telefoon. Oortjes in\, hit the play button en en rennen maar! \n\n\n\n\nMeer informatie over Oce-loop op Hardloopkalender.nl  \nDit loopevenement wordt georganiseerd door Océ- Sport & Ontspannings Commissie.De eerste afstand (of onderdeel) start om 10:30.Het adres van de start is St.Urbanusweg 43 Het adres van de finish is St Urbanusweg 43Categorie(ën): mannen\, vrouwen\, jeugdVooraf inschrijven is mogelijk vanaf 01 juni 2010 tot 26 oktober 2010.Inschrijven op de dag van de loop is mogelijk (vanaf Zaterdag 2 okt van 11.00 uur – 13.00 uur) op dit adres: St Urbanusweg 43  5914 MA Venlo.Meer informatie:Contactpersoon: Mannie HermansTel.: 0773594451Email: soc-venlo@oce.comEr is een kleedaccomodatie aanwezig. Douchen is mogelijk.Het parcours is verhard.Vorig jaar deden er 400 lopers mee aan dit evenement.Overige bijzonderheden:  Na inschrijving alleen op zaterdag 2 oktober 2010 \n  \n  \n 
URL:https://hardloopevenementen.com/loopagenda/oce-loop-venlo-li/
END:VEVENT
END:VCALENDAR