BEGIN:VCALENDAR
VERSION:2.0
PRODID:-//Hardloopevenementen - ECPv6.15.14//NONSGML v1.0//EN
CALSCALE:GREGORIAN
METHOD:PUBLISH
X-ORIGINAL-URL:https://hardloopevenementen.com
X-WR-CALDESC:Evenementen voor Hardloopevenementen
REFRESH-INTERVAL;VALUE=DURATION:PT1H
X-Robots-Tag:noindex
X-PUBLISHED-TTL:PT1H
BEGIN:VTIMEZONE
TZID:UTC
BEGIN:STANDARD
TZOFFSETFROM:+0000
TZOFFSETTO:+0000
TZNAME:UTC
DTSTART:20100101T000000
END:STANDARD
END:VTIMEZONE
BEGIN:VEVENT
DTSTART;VALUE=DATE:20110515
DTEND;VALUE=DATE:20110516
DTSTAMP:20260422T223752
CREATED:20120911T052548Z
LAST-MODIFIED:20190423T102138Z
UID:6983-1305417600-1305417600@hardloopevenementen.com
SUMMARY:GIBO-OLC loop Ootmarsum\, gemeente Dinkelland (OV)
DESCRIPTION:Doe mee met het hardloopevenement GIBO-OLC loop te Ootmarsum\, gemeente Dinkelland (OV) op zo 15 mei 2011. De volgende afstanden staan op het programma: 5 km – 10 km hardlopen. Wilt u inschrijven voor dit loopevenement?  Raadpleeg hiervoor dan de website van de organisatie\nDe uitslagen van deze hardloopwedstrijd zijn te raadplegen via dezelfde website of via de bekende websites zoals uitslagen.nl\, runtimer en mylaps. Doet u mee met dit evenement\, zorg dan dat u goed voorbereid aan de start staat! Met een goed trainingsschema komt u een heel eind. Train bijvoorbeeld met start to run van Evy Gruyaert. Download de start to run mp3 bestanden en zet ze op uw telefoon. Oortjes in\, hit the play button en en rennen maar! \n\n\n\n\nMeer informatie over GIBO-OLC loop op Hardloopkalender.nl  \nHet loopevenement GIBO-OLC loop te Ootmarsum vindt plaats op zondag 29 mei 2011. De loop wordt georganiseerd door OLC’93. Inschrijven is mogelijk vanaf 01 april 2011. Klik hier voor het adres van de start (Google Maps).Er is geen verkleedaccomodatie aanwezig. Bijzonderheden: Pittig parkoers met hoogteverschillen – gezellige sfeer met muziekfestival..Afstand(km)Inschrijfgeld()Starttijd100\,0012.0050\,0012.00Voor meer informatie:Jos Dijkhuisjosdijkhuis@home.nl0638932932http:  www.olc93.nl \n  \n  \n 
URL:https://hardloopevenementen.com/loopagenda/gibo-olc-loop-ootmarsum-gemeente-dinkelland-ov/
END:VEVENT
END:VCALENDAR