BEGIN:VCALENDAR
VERSION:2.0
PRODID:-//Hardloopevenementen - ECPv6.15.14//NONSGML v1.0//EN
CALSCALE:GREGORIAN
METHOD:PUBLISH
X-ORIGINAL-URL:https://hardloopevenementen.com
X-WR-CALDESC:Evenementen voor Hardloopevenementen
REFRESH-INTERVAL;VALUE=DURATION:PT1H
X-Robots-Tag:noindex
X-PUBLISHED-TTL:PT1H
BEGIN:VTIMEZONE
TZID:UTC
BEGIN:STANDARD
TZOFFSETFROM:+0000
TZOFFSETTO:+0000
TZNAME:UTC
DTSTART:20150101T000000
END:STANDARD
END:VTIMEZONE
BEGIN:VEVENT
DTSTART;VALUE=DATE:20190829
DTEND;VALUE=DATE:20190830
DTSTAMP:20260421T043913
CREATED:20170709T073735Z
LAST-MODIFIED:20191114T112506Z
UID:83831-1567036800-1567036800@hardloopevenementen.com
SUMMARY:OOG Edam Kermisloop Edam\, gemeente Edam-Volendam (NH)
DESCRIPTION:Doe mee met het hardloopevenement OOG Edam Kermisloop te Edam\, gemeente Edam-Volendam (NH) op do 29 aug 2019. De volgende afstanden staan op het programma: 1\,2 km – 3 km – 10 km hardlopen. Wilt u inschrijven voor dit loopevenement?  Raadpleeg hiervoor dan de website van de organisatie\nDe uitslagen van deze hardloopwedstrijd zijn te raadplegen via dezelfde website of via de bekende websites zoals uitslagen.nl\, runtimer en mylaps. Doet u mee met dit evenement\, zorg dan dat u goed voorbereid aan de start staat! Met een goed trainingsschema komt u een heel eind. Train bijvoorbeeld met start to run van Evy Gruyaert. Download de start to run mp3 bestanden en zet ze op uw telefoon. Oortjes in\, hit the play button en en rennen maar! \n\n\n\n\nMeer informatie over OOG Edam Kermisloop op Hardloopkalender.nl  \n  \n  \n 
URL:https://hardloopevenementen.com/loopagenda/oog-edam-kermisloop-edam-gemeente-edam-volendam-nh-3/
END:VEVENT
BEGIN:VEVENT
DTSTART;VALUE=DATE:20180830
DTEND;VALUE=DATE:20180831
DTSTAMP:20260421T043913
CREATED:20111104T105803Z
LAST-MODIFIED:20190423T120313Z
UID:16105-1535587200-1535587200@hardloopevenementen.com
SUMMARY:OOG Edam Kermisloop Edam\, gemeente Edam-Volendam (NH)
DESCRIPTION:Doe mee met het hardloopevenement OOG Edam Kermisloop te Edam\, gemeente Edam-Volendam (NH) op do 30 aug 2018. De volgende afstanden staan op het programma: 1\,2 km – 3 km – 10 km hardlopen. Wilt u inschrijven voor dit loopevenement?  Raadpleeg hiervoor dan de website van de organisatie\nDe uitslagen van deze hardloopwedstrijd zijn te raadplegen via dezelfde website of via de bekende websites zoals uitslagen.nl\, runtimer en mylaps. Doet u mee met dit evenement\, zorg dan dat u goed voorbereid aan de start staat! Met een goed trainingsschema komt u een heel eind. Train bijvoorbeeld met start to run van Evy Gruyaert. Download de start to run mp3 bestanden en zet ze op uw telefoon. Oortjes in\, hit the play button en en rennen maar! \n\n\n\n\nMeer informatie over OOG Edam Kermisloop op Hardloopkalender.nl  \n  \n  \n 
URL:https://hardloopevenementen.com/loopagenda/oog-edam-kermisloop-edam-gemeente-edam-volendam-nh-2/
END:VEVENT
BEGIN:VEVENT
DTSTART;VALUE=DATE:20160825
DTEND;VALUE=DATE:20160826
DTSTAMP:20260421T043913
CREATED:20100910T095705Z
LAST-MODIFIED:20190423T112257Z
UID:12164-1472083200-1472083200@hardloopevenementen.com
SUMMARY:OOG Edam Kermisloop Edam\, gemeente Edam-Volendam (NH)
DESCRIPTION:Doe mee met het hardloopevenement OOG Edam Kermisloop te Edam\, gemeente Edam-Volendam (NH) op do 25 aug 2016. De volgende afstanden staan op het programma: 1\,2 km – 3 km – 10 km hardlopen. Wilt u inschrijven voor dit loopevenement?  Raadpleeg hiervoor dan de website van de organisatie\nDe uitslagen van deze hardloopwedstrijd zijn te raadplegen via dezelfde website of via de bekende websites zoals uitslagen.nl\, runtimer en mylaps. Doet u mee met dit evenement\, zorg dan dat u goed voorbereid aan de start staat! Met een goed trainingsschema komt u een heel eind. Train bijvoorbeeld met start to run van Evy Gruyaert. Download de start to run mp3 bestanden en zet ze op uw telefoon. Oortjes in\, hit the play button en en rennen maar! \n\n\n\n\nMeer informatie over OOG Edam Kermisloop op Hardloopkalender.nl  \nHet loopevenement OOG Edam Kermisloop te Edam vindt plaats op donderdag 25 augustus 2016. \n  \n  \n 
URL:https://hardloopevenementen.com/loopagenda/oog-edam-kermisloop-edam-gemeente-edam-volendam-nh/
END:VEVENT
END:VCALENDAR