BEGIN:VCALENDAR
VERSION:2.0
PRODID:-//Hardloopevenementen - ECPv6.15.14//NONSGML v1.0//EN
CALSCALE:GREGORIAN
METHOD:PUBLISH
X-WR-CALNAME:Hardloopevenementen
X-ORIGINAL-URL:https://hardloopevenementen.com
X-WR-CALDESC:Evenementen voor Hardloopevenementen
REFRESH-INTERVAL;VALUE=DURATION:PT1H
X-Robots-Tag:noindex
X-PUBLISHED-TTL:PT1H
BEGIN:VTIMEZONE
TZID:UTC
BEGIN:STANDARD
TZOFFSETFROM:+0000
TZOFFSETTO:+0000
TZNAME:UTC
DTSTART:20150101T000000
END:STANDARD
END:VTIMEZONE
BEGIN:VEVENT
DTSTART;VALUE=DATE:20161113
DTEND;VALUE=DATE:20161114
DTSTAMP:20260423T104023
CREATED:20111110T040529Z
LAST-MODIFIED:20190423T112051Z
UID:11576-1478995200-1478995200@hardloopevenementen.com
SUMMARY:Het Ooijs ommetje Ooij\, gemeente Ubbergen (GE)
DESCRIPTION:Doe mee met het hardloopevenement Het Ooijs ommetje te Ooij\, gemeente Ubbergen (GE) op zo 13 nov 2016. De volgende afstanden staan op het programma: 5 km – 10 km hardlopen. Wilt u inschrijven voor dit loopevenement?  Raadpleeg hiervoor dan de website van de organisatie\nDe uitslagen van deze hardloopwedstrijd zijn te raadplegen via dezelfde website of via de bekende websites zoals uitslagen.nl\, runtimer en mylaps. Doet u mee met dit evenement\, zorg dan dat u goed voorbereid aan de start staat! Met een goed trainingsschema komt u een heel eind. Train bijvoorbeeld met start to run van Evy Gruyaert. Download de start to run mp3 bestanden en zet ze op uw telefoon. Oortjes in\, hit the play button en en rennen maar! \n\n\n\n\nMeer informatie over Het Ooijs ommetje op Hardloopkalender.nl  \nOoijs ommetje (voorheen Bastenrun)    Zondag 13 november 2016 is alweer de 11de keer dat Stichting Bastenrun een loop door de Ooijpolder organiseert!  De 10e editie werd in 2015 gelopen in een mistig zonnetje met warme temperaturen. Het blijft een mooi beeld zo hardlopend door de mooie Ooijpolder.  Na afloop is ook de nieuwe naam bekend gemaakt. De Bastenrun gaat nu verder onder de naam Ooijs Ommetje.   We hopen dat alle lopers en kijkers genoten hebben. Tot volgend jaar bij het Oijs Ommetje. \n  \n  \n 
URL:https://hardloopevenementen.com/loopagenda/het-ooijs-ommetje-ooij-gemeente-ubbergen-ge/
END:VEVENT
END:VCALENDAR