BEGIN:VCALENDAR
VERSION:2.0
PRODID:-//Hardloopevenementen - ECPv6.15.14//NONSGML v1.0//EN
CALSCALE:GREGORIAN
METHOD:PUBLISH
X-WR-CALNAME:Hardloopevenementen
X-ORIGINAL-URL:https://hardloopevenementen.com
X-WR-CALDESC:Evenementen voor Hardloopevenementen
REFRESH-INTERVAL;VALUE=DURATION:PT1H
X-Robots-Tag:noindex
X-PUBLISHED-TTL:PT1H
BEGIN:VTIMEZONE
TZID:UTC
BEGIN:STANDARD
TZOFFSETFROM:+0000
TZOFFSETTO:+0000
TZNAME:UTC
DTSTART:20140101T000000
END:STANDARD
END:VTIMEZONE
BEGIN:VEVENT
DTSTART;VALUE=DATE:20190721
DTEND;VALUE=DATE:20190722
DTSTAMP:20260421T071322
CREATED:20170831T122229Z
LAST-MODIFIED:20191114T112528Z
UID:43460-1563667200-1563667200@hardloopevenementen.com
SUMMARY:Oostermoerrun Gieten\, gemeente Aa en Hunze (DR)
DESCRIPTION:Doe mee met het hardloopevenement Oostermoerrun te Gieten\, gemeente Aa en Hunze (DR) op zo 21 jul 2019. De volgende afstanden staan op het programma: 5 km – 10 Engelse mijl hardlopen. Wilt u inschrijven voor dit loopevenement?  Raadpleeg hiervoor dan de website van de organisatie\nDe uitslagen van deze hardloopwedstrijd zijn te raadplegen via dezelfde website of via de bekende websites zoals uitslagen.nl\, runtimer en mylaps. Doet u mee met dit evenement\, zorg dan dat u goed voorbereid aan de start staat! Met een goed trainingsschema komt u een heel eind. Train bijvoorbeeld met start to run van Evy Gruyaert. Download de start to run mp3 bestanden en zet ze op uw telefoon. Oortjes in\, hit the play button en en rennen maar! \n\n\n\n\nMeer informatie over Oostermoerrun op Hardloopkalender.nl  \nRecreatieve hardloopwedstrijd\, georganiseerd door de Tentoonstelling Oostermoer. \n  \n  \n 
URL:https://hardloopevenementen.com/loopagenda/oostermoerrun-gieten-gemeente-aa-en-hunze-dr/
END:VEVENT
BEGIN:VEVENT
DTSTART;VALUE=DATE:20180722
DTEND;VALUE=DATE:20180723
DTSTAMP:20260421T071322
CREATED:20140421T140757Z
LAST-MODIFIED:20190423T120340Z
UID:16229-1532217600-1532217600@hardloopevenementen.com
SUMMARY:Oostermoerrun Gasselternijveen\, gemeente Aa en Hunze (DR)
DESCRIPTION:Doe mee met het hardloopevenement Oostermoerrun te Gasselternijveen\, gemeente Aa en Hunze (DR) op zo 22 jul 2018. De volgende afstanden staan op het programma: 5 km – 10 km hardlopen. Wilt u inschrijven voor dit loopevenement?  Raadpleeg hiervoor dan de website van de organisatie\nDe uitslagen van deze hardloopwedstrijd zijn te raadplegen via dezelfde website of via de bekende websites zoals uitslagen.nl\, runtimer en mylaps. Doet u mee met dit evenement\, zorg dan dat u goed voorbereid aan de start staat! Met een goed trainingsschema komt u een heel eind. Train bijvoorbeeld met start to run van Evy Gruyaert. Download de start to run mp3 bestanden en zet ze op uw telefoon. Oortjes in\, hit the play button en en rennen maar! \n\n\n\n\nMeer informatie over Oostermoerrun op Hardloopkalender.nl  \nJaarlijks wordt in het kader van de Oostermoertentoonstelling (oude Oostermoergemeenten) de Oostermoerrun gelopen. De afstanden zijn 5 en 10 km. \n  \n  \n 
URL:https://hardloopevenementen.com/loopagenda/oostermoerrun-gasselternijveen-gemeente-aa-en-hunze-dr/
END:VEVENT
BEGIN:VEVENT
DTSTART;VALUE=DATE:20150719
DTEND;VALUE=DATE:20150720
DTSTAMP:20260421T071322
CREATED:20140720T002642Z
LAST-MODIFIED:20190423T111034Z
UID:10077-1437264000-1437264000@hardloopevenementen.com
SUMMARY:Oostermoerrun Annen\, gemeente Aa en Hunze (DR)
DESCRIPTION:Doe mee met het hardloopevenement Oostermoerrun te Annen\, gemeente Aa en Hunze (DR) op zo 19 jul 2015. De volgende afstanden staan op het programma: 5 km – 10 km hardlopen. Wilt u inschrijven voor dit loopevenement?  Raadpleeg hiervoor dan de website van de organisatie\nDe uitslagen van deze hardloopwedstrijd zijn te raadplegen via dezelfde website of via de bekende websites zoals uitslagen.nl\, runtimer en mylaps. Doet u mee met dit evenement\, zorg dan dat u goed voorbereid aan de start staat! Met een goed trainingsschema komt u een heel eind. Train bijvoorbeeld met start to run van Evy Gruyaert. Download de start to run mp3 bestanden en zet ze op uw telefoon. Oortjes in\, hit the play button en en rennen maar! \n\n\n\n\nMeer informatie over Oostermoerrun op Hardloopkalender.nl  \nZondag 19 juli organiseert de Tentoonstellingsvereniging in samenwerking met de Stichting Oostermoer Annen een run over 5 en 10 km in en om het mooie dorp Annen. Voor meer informatie zie www.oostermoerfeest.nl. \n  \n  \n 
URL:https://hardloopevenementen.com/loopagenda/oostermoerrun-annen-gemeente-aa-en-hunze-dr/
END:VEVENT
END:VCALENDAR