BEGIN:VCALENDAR
VERSION:2.0
PRODID:-//Hardloopevenementen - ECPv6.15.14//NONSGML v1.0//EN
CALSCALE:GREGORIAN
METHOD:PUBLISH
X-WR-CALNAME:Hardloopevenementen
X-ORIGINAL-URL:https://hardloopevenementen.com
X-WR-CALDESC:Evenementen voor Hardloopevenementen
REFRESH-INTERVAL;VALUE=DURATION:PT1H
X-Robots-Tag:noindex
X-PUBLISHED-TTL:PT1H
BEGIN:VTIMEZONE
TZID:UTC
BEGIN:STANDARD
TZOFFSETFROM:+0000
TZOFFSETTO:+0000
TZNAME:UTC
DTSTART:20160101T000000
END:STANDARD
END:VTIMEZONE
BEGIN:VEVENT
DTSTART;VALUE=DATE:20171104
DTEND;VALUE=DATE:20171105
DTSTAMP:20260422T195513
CREATED:20080721T195551Z
LAST-MODIFIED:20190423T114258Z
UID:13824-1509753600-1509753600@hardloopevenementen.com
SUMMARY:OosterparkRun Ridderkerk (ZH)
DESCRIPTION:Doe mee met het hardloopevenement OosterparkRun te Ridderkerk (ZH) op za 04 nov 2017. De volgende afstanden staan op het programma: 5 km – 10 km hardlopen. Wilt u inschrijven voor dit loopevenement?  Raadpleeg hiervoor dan de website van de organisatie\nDe uitslagen van deze hardloopwedstrijd zijn te raadplegen via dezelfde website of via de bekende websites zoals uitslagen.nl\, runtimer en mylaps. Doet u mee met dit evenement\, zorg dan dat u goed voorbereid aan de start staat! Met een goed trainingsschema komt u een heel eind. Train bijvoorbeeld met start to run van Evy Gruyaert. Download de start to run mp3 bestanden en zet ze op uw telefoon. Oortjes in\, hit the play button en en rennen maar! \n\n\n\n\nMeer informatie over OosterparkRun op Hardloopkalender.nl  \nHardlopen in het Oosterpark in Ridderkerk  5 of 10 kilometer. Elke deelnemer een medaille.    Deelname 7\,50 per persoon. \n  \n  \n 
URL:https://hardloopevenementen.com/loopagenda/oosterparkrun-ridderkerk-zh/
END:VEVENT
END:VCALENDAR