BEGIN:VCALENDAR
VERSION:2.0
PRODID:-//Hardloopevenementen - ECPv6.15.14//NONSGML v1.0//EN
CALSCALE:GREGORIAN
METHOD:PUBLISH
X-ORIGINAL-URL:https://hardloopevenementen.com
X-WR-CALDESC:Evenementen voor Hardloopevenementen
REFRESH-INTERVAL;VALUE=DURATION:PT1H
X-Robots-Tag:noindex
X-PUBLISHED-TTL:PT1H
BEGIN:VTIMEZONE
TZID:UTC
BEGIN:STANDARD
TZOFFSETFROM:+0000
TZOFFSETTO:+0000
TZNAME:UTC
DTSTART:20110101T000000
END:STANDARD
END:VTIMEZONE
BEGIN:VEVENT
DTSTART;VALUE=DATE:20150704
DTEND;VALUE=DATE:20150705
DTSTAMP:20260420T185942
CREATED:20181225T063048Z
LAST-MODIFIED:20190423T111048Z
UID:10123-1435968000-1435968000@hardloopevenementen.com
SUMMARY:Spavo Olde Wierdenloop Opende Opende\, gemeente Grootegast (GR)
DESCRIPTION:Doe mee met het hardloopevenement Spavo Olde Wierdenloop Opende te Opende\, gemeente Grootegast (GR) op za 04 jul 2015. De volgende afstanden staan op het programma: 6 km – 10\,3 km – halve marathon hardlopen. Wilt u inschrijven voor dit loopevenement?  Raadpleeg hiervoor dan de website van de organisatie\nDe uitslagen van deze hardloopwedstrijd zijn te raadplegen via dezelfde website of via de bekende websites zoals uitslagen.nl\, runtimer en mylaps. Doet u mee met dit evenement\, zorg dan dat u goed voorbereid aan de start staat! Met een goed trainingsschema komt u een heel eind. Train bijvoorbeeld met start to run van Evy Gruyaert. Download de start to run mp3 bestanden en zet ze op uw telefoon. Oortjes in\, hit the play button en en rennen maar! \n\n\n\n\nMeer informatie over Spavo Olde Wierdenloop Opende op Hardloopkalender.nl  \nHet loopevenement Spavo Olde Wierdenloop Opende te Opende vindt plaats op zaterdag 04 juli 2015. \n  \n  \n 
URL:https://hardloopevenementen.com/loopagenda/spavo-olde-wierdenloop-opende-opende-gemeente-grootegast-gr/
END:VEVENT
BEGIN:VEVENT
DTSTART;VALUE=DATE:20140705
DTEND;VALUE=DATE:20140706
DTSTAMP:20260420T185942
CREATED:20140903T142328Z
LAST-MODIFIED:20190423T105324Z
UID:33658-1404518400-1404518400@hardloopevenementen.com
SUMMARY:17e Spavo Olde Wierdenloop Opende Opende\, gemeente Grootegast (GR)
DESCRIPTION:Doe mee met het hardloopevenement 17e Spavo Olde Wierdenloop Opende te Opende\, gemeente Grootegast (GR) op za 05 jul 2014. De volgende afstanden staan op het programma: 6 km – 10\,3 km – halve marathon hardlopen. Wilt u inschrijven voor dit loopevenement?  Raadpleeg hiervoor dan de website van de organisatie\nDe uitslagen van deze hardloopwedstrijd zijn te raadplegen via dezelfde website of via de bekende websites zoals uitslagen.nl\, runtimer en mylaps. Doet u mee met dit evenement\, zorg dan dat u goed voorbereid aan de start staat! Met een goed trainingsschema komt u een heel eind. Train bijvoorbeeld met start to run van Evy Gruyaert. Download de start to run mp3 bestanden en zet ze op uw telefoon. Oortjes in\, hit the play button en en rennen maar! \n\n\n\n\nMeer informatie over 17e Spavo Olde Wierdenloop Opende op Hardloopkalender.nl  \nHet loopevenement 17e Spavo Olde Wierdenloop Opende te Opende vindt plaats op zaterdag 05 juli 2014. De loop wordt georganisseerd door SV Friesland. Klik hier voor het adres van de start (Google Maps).Bijzonderheden: samen met st.oldewierdenloop.. \n  \n  \n 
URL:https://hardloopevenementen.com/loopagenda/17e-spavo-olde-wierdenloop-opende-opende-gemeente-grootegast-gr/
END:VEVENT
BEGIN:VEVENT
DTSTART;VALUE=DATE:20130706
DTEND;VALUE=DATE:20130707
DTSTAMP:20260420T185942
CREATED:20181125T114026Z
LAST-MODIFIED:20190423T104128Z
UID:31439-1373068800-1373068800@hardloopevenementen.com
SUMMARY:16e Spavo Olde Wierdenloop Opende Opende\, gemeente Grootegast (GR)
DESCRIPTION:Doe mee met het hardloopevenement 16e Spavo Olde Wierdenloop Opende te Opende\, gemeente Grootegast (GR) op za 06 jul 2013. De volgende afstanden staan op het programma: 1 km – 6 km – 10\,3 km – halve marathon hardlopen. Wilt u inschrijven voor dit loopevenement?  Raadpleeg hiervoor dan de website van de organisatie\nDe uitslagen van deze hardloopwedstrijd zijn te raadplegen via dezelfde website of via de bekende websites zoals uitslagen.nl\, runtimer en mylaps. Doet u mee met dit evenement\, zorg dan dat u goed voorbereid aan de start staat! Met een goed trainingsschema komt u een heel eind. Train bijvoorbeeld met start to run van Evy Gruyaert. Download de start to run mp3 bestanden en zet ze op uw telefoon. Oortjes in\, hit the play button en en rennen maar! \n\n\n\n\nMeer informatie over 16e Spavo Olde Wierdenloop Opende op Hardloopkalender.nl  \nHet loopevenement 16e Spavo Olde Wierdenloop Opende te Opende vindt plaats op zaterdag 06 juli 2013. De loop wordt georganisseerd door SV Friesland. Inschrijven is mogelijk vanaf 06 juli 2013. Klik hier voor het adres van de start (Google Maps).Er is verkleedaccomodatie met douchemogelijkheid aanwezig. Er is EHBO aanwezig. Bijzonderheden: samen met st.oldewierdenloop..Voor meer informatie:William Ijtsmainfo@oldewierdenloop.nlhttp:  www.oldewierdenloop.nl \n  \n  \n 
URL:https://hardloopevenementen.com/loopagenda/16e-spavo-olde-wierdenloop-opende-opende-gemeente-grootegast-gr/
END:VEVENT
BEGIN:VEVENT
DTSTART;VALUE=DATE:20120707
DTEND;VALUE=DATE:20120708
DTSTAMP:20260420T185942
CREATED:20171030T152246Z
LAST-MODIFIED:20190423T103103Z
UID:28034-1341619200-1341619200@hardloopevenementen.com
SUMMARY:15e Spavo Olde Wierdenloop Opende Opende\, gemeente Grootegast (GR)
DESCRIPTION:Doe mee met het hardloopevenement 15e Spavo Olde Wierdenloop Opende te Opende\, gemeente Grootegast (GR) op za 07 jul 2012. De volgende afstanden staan op het programma: 6 km – 10\,3 km – halve marathon hardlopen. Wilt u inschrijven voor dit loopevenement?  Raadpleeg hiervoor dan de website van de organisatie\nDe uitslagen van deze hardloopwedstrijd zijn te raadplegen via dezelfde website of via de bekende websites zoals uitslagen.nl\, runtimer en mylaps. Doet u mee met dit evenement\, zorg dan dat u goed voorbereid aan de start staat! Met een goed trainingsschema komt u een heel eind. Train bijvoorbeeld met start to run van Evy Gruyaert. Download de start to run mp3 bestanden en zet ze op uw telefoon. Oortjes in\, hit the play button en en rennen maar! \n\n\n\n\nMeer informatie over 15e Spavo Olde Wierdenloop Opende op Hardloopkalender.nl  \nHet loopevenement 15e Spavo Olde Wierdenloop Opende te Opende vindt plaats op zaterdag 07 juli 2012. De loop wordt georganiseerd door SV Friesland. Inschrijven is mogelijk vanaf 07 juli 2012. Klik hier voor het adres van de start (Google Maps).Er is EHBO aanwezig. Bijzonderheden: samen met st.oldewierdenloop..Afstand SoortloopInschrijfgeldStarttijdInfo21.1 km5\,0011.0010.3 km5\,0011.006 km5\,0011.00Voor meer informatie:Rienk v.d.Veeninfo@oldewierdenloop.nl0594696153http:  www.oldewierdenloop.nl \n  \n  \n 
URL:https://hardloopevenementen.com/loopagenda/15e-spavo-olde-wierdenloop-opende-opende-gemeente-grootegast-gr/
END:VEVENT
END:VCALENDAR