BEGIN:VCALENDAR
VERSION:2.0
PRODID:-//Hardloopevenementen - ECPv6.15.14//NONSGML v1.0//EN
CALSCALE:GREGORIAN
METHOD:PUBLISH
X-WR-CALNAME:Hardloopevenementen
X-ORIGINAL-URL:https://hardloopevenementen.com
X-WR-CALDESC:Evenementen voor Hardloopevenementen
REFRESH-INTERVAL;VALUE=DURATION:PT1H
X-Robots-Tag:noindex
X-PUBLISHED-TTL:PT1H
BEGIN:VTIMEZONE
TZID:UTC
BEGIN:STANDARD
TZOFFSETFROM:+0000
TZOFFSETTO:+0000
TZNAME:UTC
DTSTART:20140101T000000
END:STANDARD
END:VTIMEZONE
BEGIN:VEVENT
DTSTART;VALUE=DATE:20160727
DTEND;VALUE=DATE:20160728
DTSTAMP:20260424T040810
CREATED:20131230T210336Z
LAST-MODIFIED:20190423T112329Z
UID:12300-1469577600-1469577600@hardloopevenementen.com
SUMMARY:33e OVBH loop  voorheen Hotel Bom Bokaal Loop Burgh-Haamstede\, gemeente Schouwen-Duiveland (ZE)
DESCRIPTION:Doe mee met het hardloopevenement 33e OVBH loop  voorheen Hotel Bom Bokaal Loop te Burgh-Haamstede\, gemeente Schouwen-Duiveland (ZE) op wo 27 jul 2016. De volgende afstanden staan op het programma: 2 km – 10 km hardlopen. Wilt u inschrijven voor dit loopevenement?  Raadpleeg hiervoor dan de website van de organisatie\nDe uitslagen van deze hardloopwedstrijd zijn te raadplegen via dezelfde website of via de bekende websites zoals uitslagen.nl\, runtimer en mylaps. Doet u mee met dit evenement\, zorg dan dat u goed voorbereid aan de start staat! Met een goed trainingsschema komt u een heel eind. Train bijvoorbeeld met start to run van Evy Gruyaert. Download de start to run mp3 bestanden en zet ze op uw telefoon. Oortjes in\, hit the play button en en rennen maar! \n\n\n\n\nMeer informatie over 33e OVBH loop  voorheen Hotel Bom Bokaal Loop op Hardloopkalender.nl  \nHet loopevenement 33e OVBH-loop (voorheen Hotel Bom Bokaal Loop) te Burgh-Haamstede vindt plaats op woensdag 27 juli 2016. \n  \n  \n 
URL:https://hardloopevenementen.com/loopagenda/33e-ovbh-loop-voorheen-hotel-bom-bokaal-loop-burgh-haamstede-gemeente-schouwen-duiveland-ze/
END:VEVENT
BEGIN:VEVENT
DTSTART;VALUE=DATE:20150722
DTEND;VALUE=DATE:20150723
DTSTAMP:20260424T040810
CREATED:20160912T025006Z
LAST-MODIFIED:20190423T111032Z
UID:10066-1437523200-1437523200@hardloopevenementen.com
SUMMARY:32e OVBH loop  voorheen Hotel Bom Bokaal Loop Burgh-Haamstede\, gemeente Schouwen-Duiveland (ZE)
DESCRIPTION:Doe mee met het hardloopevenement 32e OVBH loop  voorheen Hotel Bom Bokaal Loop te Burgh-Haamstede\, gemeente Schouwen-Duiveland (ZE) op wo 22 jul 2015. De volgende afstanden staan op het programma: 2 km – 10 km hardlopen. Wilt u inschrijven voor dit loopevenement?  Raadpleeg hiervoor dan de website van de organisatie\nDe uitslagen van deze hardloopwedstrijd zijn te raadplegen via dezelfde website of via de bekende websites zoals uitslagen.nl\, runtimer en mylaps. Doet u mee met dit evenement\, zorg dan dat u goed voorbereid aan de start staat! Met een goed trainingsschema komt u een heel eind. Train bijvoorbeeld met start to run van Evy Gruyaert. Download de start to run mp3 bestanden en zet ze op uw telefoon. Oortjes in\, hit the play button en en rennen maar! \n\n\n\n\nMeer informatie over 32e OVBH loop  voorheen Hotel Bom Bokaal Loop op Hardloopkalender.nl  \nHet loopevenement 32e OVBH-loop (voorheen Hotel Bom Bokaal Loop) te Burgh-Haamstede vindt plaats op woensdag 22 juli 2015. \n  \n  \n 
URL:https://hardloopevenementen.com/loopagenda/32e-ovbh-loop-voorheen-hotel-bom-bokaal-loop-burgh-haamstede-gemeente-schouwen-duiveland-ze/
END:VEVENT
END:VCALENDAR