BEGIN:VCALENDAR
VERSION:2.0
PRODID:-//Hardloopevenementen - ECPv6.15.14//NONSGML v1.0//EN
CALSCALE:GREGORIAN
METHOD:PUBLISH
X-ORIGINAL-URL:https://hardloopevenementen.com
X-WR-CALDESC:Evenementen voor Hardloopevenementen
REFRESH-INTERVAL;VALUE=DURATION:PT1H
X-Robots-Tag:noindex
X-PUBLISHED-TTL:PT1H
BEGIN:VTIMEZONE
TZID:UTC
BEGIN:STANDARD
TZOFFSETFROM:+0000
TZOFFSETTO:+0000
TZNAME:UTC
DTSTART:20120101T000000
END:STANDARD
END:VTIMEZONE
BEGIN:VEVENT
DTSTART;VALUE=DATE:20150628
DTEND;VALUE=DATE:20150629
DTSTAMP:20260421T004643
CREATED:20130910T055324Z
LAST-MODIFIED:20190423T111057Z
UID:10164-1435449600-1435449600@hardloopevenementen.com
SUMMARY:3e Bruggenloop Overschie Rotterdam (ZH)
DESCRIPTION:Doe mee met het hardloopevenement 3e Bruggenloop Overschie te Rotterdam (ZH) op zo 28 jun 2015. De volgende afstanden staan op het programma: 5 km – 10 km hardlopen. Wilt u inschrijven voor dit loopevenement?  Raadpleeg hiervoor dan de website van de organisatie\nDe uitslagen van deze hardloopwedstrijd zijn te raadplegen via dezelfde website of via de bekende websites zoals uitslagen.nl\, runtimer en mylaps. Doet u mee met dit evenement\, zorg dan dat u goed voorbereid aan de start staat! Met een goed trainingsschema komt u een heel eind. Train bijvoorbeeld met start to run van Evy Gruyaert. Download de start to run mp3 bestanden en zet ze op uw telefoon. Oortjes in\, hit the play button en en rennen maar! \n\n\n\n\nMeer informatie over 3e Bruggenloop Overschie op Hardloopkalender.nl  \n  \n  \n 
URL:https://hardloopevenementen.com/loopagenda/3e-bruggenloop-overschie-rotterdam-zh/
END:VEVENT
BEGIN:VEVENT
DTSTART;VALUE=DATE:20140525
DTEND;VALUE=DATE:20140526
DTSTAMP:20260421T004643
CREATED:20180313T075326Z
LAST-MODIFIED:20190423T105505Z
UID:34038-1400976000-1400976000@hardloopevenementen.com
SUMMARY:2e Bruggenloop Overschie Rotterdam (ZH)
DESCRIPTION:Doe mee met het hardloopevenement 2e Bruggenloop Overschie te Rotterdam (ZH) op zo 25 mei 2014. De volgende afstanden staan op het programma: 5 km – 10 km hardlopen. Wilt u inschrijven voor dit loopevenement?  Raadpleeg hiervoor dan de website van de organisatie\nDe uitslagen van deze hardloopwedstrijd zijn te raadplegen via dezelfde website of via de bekende websites zoals uitslagen.nl\, runtimer en mylaps. Doet u mee met dit evenement\, zorg dan dat u goed voorbereid aan de start staat! Met een goed trainingsschema komt u een heel eind. Train bijvoorbeeld met start to run van Evy Gruyaert. Download de start to run mp3 bestanden en zet ze op uw telefoon. Oortjes in\, hit the play button en en rennen maar! \n\n\n\n\nMeer informatie over 2e Bruggenloop Overschie op Hardloopkalender.nl  \naanvang loop 12.00 uur inloop vanaf 10.30 uur\, Taludweg 5 te Rotterdam. Een loop voor een goed doel\, dwars door een mooi dorp over bruggen\, langs water en mooie plekjes.  Vooraf inschrijven  12\,50\, op de dag zelf  15\,00 \n  \n  \n 
URL:https://hardloopevenementen.com/loopagenda/2e-bruggenloop-overschie-rotterdam-zh/
END:VEVENT
BEGIN:VEVENT
DTSTART;VALUE=DATE:20130526
DTEND;VALUE=DATE:20130527
DTSTAMP:20260421T004643
CREATED:20150813T141513Z
LAST-MODIFIED:20190423T104238Z
UID:31702-1369526400-1369526400@hardloopevenementen.com
SUMMARY:1e Bruggenloop Overschie Rotterdam (ZH)
DESCRIPTION:Doe mee met het hardloopevenement 1e Bruggenloop Overschie te Rotterdam (ZH) op zo 26 mei 2013. De volgende afstanden staan op het programma: 5 km – 10 km hardlopen. Wilt u inschrijven voor dit loopevenement?  Raadpleeg hiervoor dan de website van de organisatie\nDe uitslagen van deze hardloopwedstrijd zijn te raadplegen via dezelfde website of via de bekende websites zoals uitslagen.nl\, runtimer en mylaps. Doet u mee met dit evenement\, zorg dan dat u goed voorbereid aan de start staat! Met een goed trainingsschema komt u een heel eind. Train bijvoorbeeld met start to run van Evy Gruyaert. Download de start to run mp3 bestanden en zet ze op uw telefoon. Oortjes in\, hit the play button en en rennen maar! \n\n\n\n\nMeer informatie over 1e Bruggenloop Overschie op Hardloopkalender.nl  \n1e bruggenloop Overschie\, is een loop van 5 en 10 km\, naar keuze. Langs water en langs over bruggen. Goed doel verbonden aan deze loop. voorinschrijving via facebook.com velthaakenkeijzer zie evenement. of via info@venk.nl  voorinschrijving 10\,00\, op de dag zelf  12\,50 \n  \n  \n 
URL:https://hardloopevenementen.com/loopagenda/1e-bruggenloop-overschie-rotterdam-zh/
END:VEVENT
END:VCALENDAR