BEGIN:VCALENDAR
VERSION:2.0
PRODID:-//Hardloopevenementen - ECPv6.15.14//NONSGML v1.0//EN
CALSCALE:GREGORIAN
METHOD:PUBLISH
X-ORIGINAL-URL:https://hardloopevenementen.com
X-WR-CALDESC:Evenementen voor Hardloopevenementen
REFRESH-INTERVAL;VALUE=DURATION:PT1H
X-Robots-Tag:noindex
X-PUBLISHED-TTL:PT1H
BEGIN:VTIMEZONE
TZID:UTC
BEGIN:STANDARD
TZOFFSETFROM:+0000
TZOFFSETTO:+0000
TZNAME:UTC
DTSTART:20180101T000000
END:STANDARD
END:VTIMEZONE
BEGIN:VEVENT
DTSTART;VALUE=DATE:20190121
DTEND;VALUE=DATE:20190122
DTSTAMP:20260426T041356
CREATED:20141031T090036Z
LAST-MODIFIED:20191114T112815Z
UID:17325-1548028800-1548028800@hardloopevenementen.com
SUMMARY:MIND Blue Monday Run - Peel & Maas Panningen\, gemeente Helden (LI)
DESCRIPTION:Doe mee met het hardloopevenement MIND Blue Monday Run – Peel & Maas te Panningen\, gemeente Helden (LI) op ma 21 jan 2019. De volgende afstanden staan op het programma: 5 km hardlopen. Wilt u inschrijven voor dit loopevenement?  Raadpleeg hiervoor dan de website van de organisatie\nDe uitslagen van deze hardloopwedstrijd zijn te raadplegen via dezelfde website of via de bekende websites zoals uitslagen.nl\, runtimer en mylaps. Doet u mee met dit evenement\, zorg dan dat u goed voorbereid aan de start staat! Met een goed trainingsschema komt u een heel eind. Train bijvoorbeeld met start to run van Evy Gruyaert. Download de start to run mp3 bestanden en zet ze op uw telefoon. Oortjes in\, hit the play button en en rennen maar! \n\n\n\n\nMeer informatie over MIND Blue Monday Run – Peel & Maas op Hardloopkalender.nl  \nDoor zelf in beweging te komen komt alles in beweging\, fysiek\, emotioneel en mentaal. Dit willen we iedereen laten ervaren. Ook mensen met depressieve klachten. \n  \n  \n 
URL:https://hardloopevenementen.com/loopagenda/mind-blue-monday-run-peel-maas-panningen-gemeente-helden-li/
END:VEVENT
END:VCALENDAR